BEGIN:VCALENDAR
VERSION:2.0
PRODID:-//jEvents 2.0 for Joomla//EN
CALSCALE:GREGORIAN
METHOD:PUBLISH
BEGIN:VTIMEZONE
TZID:Europe/Brussels
BEGIN:STANDARD
DTSTART:20230105T173000
RDATE:20230326T030000
TZOFFSETFROM:+0200
TZOFFSETTO:+0100
TZNAME:Europe/Brussels CET
END:STANDARD
BEGIN:STANDARD
DTSTART:20231029T020000
RDATE:20240331T030000
TZOFFSETFROM:+0200
TZOFFSETTO:+0100
TZNAME:Europe/Brussels CET
END:STANDARD
BEGIN:STANDARD
DTSTART:20241027T020000
RDATE:20250330T030000
TZOFFSETFROM:+0200
TZOFFSETTO:+0100
TZNAME:Europe/Brussels CET
END:STANDARD
BEGIN:STANDARD
DTSTART:20251026T020000
RDATE:20260329T030000
TZOFFSETFROM:+0200
TZOFFSETTO:+0100
TZNAME:Europe/Brussels CET
END:STANDARD
BEGIN:STANDARD
DTSTART:20261025T020000
RDATE:20270328T030000
TZOFFSETFROM:+0200
TZOFFSETTO:+0100
TZNAME:Europe/Brussels CET
END:STANDARD
BEGIN:STANDARD
DTSTART:20271031T020000
RDATE:20280326T030000
TZOFFSETFROM:+0200
TZOFFSETTO:+0100
TZNAME:Europe/Brussels CET
END:STANDARD
BEGIN:STANDARD
DTSTART:20281029T020000
RDATE:20290325T030000
TZOFFSETFROM:+0200
TZOFFSETTO:+0100
TZNAME:Europe/Brussels CET
END:STANDARD
BEGIN:STANDARD
DTSTART:20291028T020000
RDATE:20300331T030000
TZOFFSETFROM:+0200
TZOFFSETTO:+0100
TZNAME:Europe/Brussels CET
END:STANDARD
BEGIN:STANDARD
DTSTART:20301027T020000
RDATE:20310330T030000
TZOFFSETFROM:+0200
TZOFFSETTO:+0100
TZNAME:Europe/Brussels CET
END:STANDARD
BEGIN:DAYLIGHT
DTSTART:20230326T030000
RDATE:20231029T020000
TZOFFSETFROM:+0100
TZOFFSETTO:+0200
TZNAME:Europe/Brussels CEST
END:DAYLIGHT
BEGIN:DAYLIGHT
DTSTART:20240331T030000
RDATE:20241027T020000
TZOFFSETFROM:+0100
TZOFFSETTO:+0200
TZNAME:Europe/Brussels CEST
END:DAYLIGHT
BEGIN:DAYLIGHT
DTSTART:20250330T030000
RDATE:20251026T020000
TZOFFSETFROM:+0100
TZOFFSETTO:+0200
TZNAME:Europe/Brussels CEST
END:DAYLIGHT
BEGIN:DAYLIGHT
DTSTART:20260329T030000
RDATE:20261025T020000
TZOFFSETFROM:+0100
TZOFFSETTO:+0200
TZNAME:Europe/Brussels CEST
END:DAYLIGHT
BEGIN:DAYLIGHT
DTSTART:20270328T030000
RDATE:20271031T020000
TZOFFSETFROM:+0100
TZOFFSETTO:+0200
TZNAME:Europe/Brussels CEST
END:DAYLIGHT
BEGIN:DAYLIGHT
DTSTART:20280326T030000
RDATE:20281029T020000
TZOFFSETFROM:+0100
TZOFFSETTO:+0200
TZNAME:Europe/Brussels CEST
END:DAYLIGHT
BEGIN:DAYLIGHT
DTSTART:20290325T030000
RDATE:20291028T020000
TZOFFSETFROM:+0100
TZOFFSETTO:+0200
TZNAME:Europe/Brussels CEST
END:DAYLIGHT
BEGIN:DAYLIGHT
DTSTART:20300331T030000
RDATE:20301027T020000
TZOFFSETFROM:+0100
TZOFFSETTO:+0200
TZNAME:Europe/Brussels CEST
END:DAYLIGHT
END:VTIMEZONE
BEGIN:VEVENT
UID:2ded48760306ca70ee61ee96249e1a2e
CATEGORIES:Welpen
CREATED:20231130T152852
SUMMARY:Feestelijk Nieuwjaar-avontuur
DESCRIPTION;ENCODING=QUOTED-PRINTABLE:<p>Beste Welpen,</p><p>Het nieuwe jaar is aangebroken, en dat betekent een 
 gloednieuwe start vol mogelijkheden, avonturen en natuurlijk veel plezier! 
 ?</p><p>We gaan van start met een schone lei en een kans om een "nieuwe ik"
  te ontdekken. Maar voordat we ons in dit spannende avontuur storten, wille
 n we van jullie horen: Heb je al voornemens gemaakt voor dit nieuwe jaar? M
 isschien zijn er dingen die je wilt ontdekken, nieuwe vrienden die je wilt 
 maken, of gewoon wat meer avontuur in je leven brengen.</p><p>Terwijl we di
 t jaar beginnen, willen we jullie waarschuwen: wees voorzichtig! Er liggen 
 uitdagende hindernissen en grappige verrassingen op jullie te wachten. Maar
  we weten dat jullie dappere en slimme welpen zijn die elk avontuur aankunn
 en.</p><p>Dus, trek je avontuurlijke schoenen aan, neem je voornemens mee e
 n bereid je voor op een nieuwjaarsspel vol spanning, lachen en misschien ze
 lfs een paar onverwachte wendingen. We kunnen niet wachten om samen met jul
 lie dit nieuwe jaar te verkennen!</p><p>Met avontuurlijke groeten,<br />De 
 welpenleiding</p><p>&nbsp;</p>
DTSTAMP:20260424T173019Z
DTSTART;TZID=Europe/Brussels:20240106T173000
DTEND;TZID=Europe/Brussels:20240106T180000
SEQUENCE:0
TRANSP:OPAQUE
END:VEVENT
END:VCALENDAR