BEGIN:VCALENDAR
VERSION:2.0
PRODID:-//jEvents 2.0 for Joomla//EN
CALSCALE:GREGORIAN
METHOD:PUBLISH
BEGIN:VTIMEZONE
TZID:Europe/Brussels
BEGIN:STANDARD
DTSTART:20221109T180000
RDATE:20230326T030000
TZOFFSETFROM:+0200
TZOFFSETTO:+0100
TZNAME:Europe/Brussels CET
END:STANDARD
BEGIN:STANDARD
DTSTART:20231029T020000
RDATE:20240331T030000
TZOFFSETFROM:+0200
TZOFFSETTO:+0100
TZNAME:Europe/Brussels CET
END:STANDARD
BEGIN:STANDARD
DTSTART:20241027T020000
RDATE:20250330T030000
TZOFFSETFROM:+0200
TZOFFSETTO:+0100
TZNAME:Europe/Brussels CET
END:STANDARD
BEGIN:STANDARD
DTSTART:20251026T020000
RDATE:20260329T030000
TZOFFSETFROM:+0200
TZOFFSETTO:+0100
TZNAME:Europe/Brussels CET
END:STANDARD
BEGIN:STANDARD
DTSTART:20261025T020000
RDATE:20270328T030000
TZOFFSETFROM:+0200
TZOFFSETTO:+0100
TZNAME:Europe/Brussels CET
END:STANDARD
BEGIN:STANDARD
DTSTART:20271031T020000
RDATE:20280326T030000
TZOFFSETFROM:+0200
TZOFFSETTO:+0100
TZNAME:Europe/Brussels CET
END:STANDARD
BEGIN:STANDARD
DTSTART:20281029T020000
RDATE:20290325T030000
TZOFFSETFROM:+0200
TZOFFSETTO:+0100
TZNAME:Europe/Brussels CET
END:STANDARD
BEGIN:STANDARD
DTSTART:20291028T020000
RDATE:20300331T030000
TZOFFSETFROM:+0200
TZOFFSETTO:+0100
TZNAME:Europe/Brussels CET
END:STANDARD
BEGIN:STANDARD
DTSTART:20301027T020000
RDATE:20310330T030000
TZOFFSETFROM:+0200
TZOFFSETTO:+0100
TZNAME:Europe/Brussels CET
END:STANDARD
BEGIN:DAYLIGHT
DTSTART:20230326T030000
RDATE:20231029T020000
TZOFFSETFROM:+0100
TZOFFSETTO:+0200
TZNAME:Europe/Brussels CEST
END:DAYLIGHT
BEGIN:DAYLIGHT
DTSTART:20240331T030000
RDATE:20241027T020000
TZOFFSETFROM:+0100
TZOFFSETTO:+0200
TZNAME:Europe/Brussels CEST
END:DAYLIGHT
BEGIN:DAYLIGHT
DTSTART:20250330T030000
RDATE:20251026T020000
TZOFFSETFROM:+0100
TZOFFSETTO:+0200
TZNAME:Europe/Brussels CEST
END:DAYLIGHT
BEGIN:DAYLIGHT
DTSTART:20260329T030000
RDATE:20261025T020000
TZOFFSETFROM:+0100
TZOFFSETTO:+0200
TZNAME:Europe/Brussels CEST
END:DAYLIGHT
BEGIN:DAYLIGHT
DTSTART:20270328T030000
RDATE:20271031T020000
TZOFFSETFROM:+0100
TZOFFSETTO:+0200
TZNAME:Europe/Brussels CEST
END:DAYLIGHT
BEGIN:DAYLIGHT
DTSTART:20280326T030000
RDATE:20281029T020000
TZOFFSETFROM:+0100
TZOFFSETTO:+0200
TZNAME:Europe/Brussels CEST
END:DAYLIGHT
BEGIN:DAYLIGHT
DTSTART:20290325T030000
RDATE:20291028T020000
TZOFFSETFROM:+0100
TZOFFSETTO:+0200
TZNAME:Europe/Brussels CEST
END:DAYLIGHT
BEGIN:DAYLIGHT
DTSTART:20300331T030000
RDATE:20301027T020000
TZOFFSETFROM:+0100
TZOFFSETTO:+0200
TZNAME:Europe/Brussels CEST
END:DAYLIGHT
END:VTIMEZONE
BEGIN:VEVENT
UID:e4d26ba5453f30208f3af6a0ac57f003
CATEGORIES:Welpen
CREATED:20230824T200158
SUMMARY:Weekend
LOCATION:Sportwegel 7, 9840 De Pinte
DESCRIPTION;ENCODING=QUOTED-PRINTABLE:<p>Whoop Whoop! Eindelijk is het zo ver, ons eerste weekend allemaal samen!
 </p><p>Voelen jullie het ook al? Die spanning? Het is bijna tijd voor ons E
 ERSTE welpenweekend allemaal samen, en we kunnen nauwelijks wachten om same
 n met jullie op avontuur te gaan! Dit wordt een weekend vol nieuwe vriendsc
 happen, uitdagingen en geweldige herinneringen die we samen zullen creëren.
  We hopen dat jullie net zo enthousiast zijn als wij! Laten we ons voorbere
 iden om samen de wildernis te verkennen, te lachen tot onze buik pijn doet 
 en te genieten van de geweldige ervaringen die voor ons liggen. Zorg ervoor
  dat je je avontuurlijke geest meebrengt, want dit wordt een weekend vol te
 amwork en nieuwe ontdekkingen. We kunnen niet wachten om samen met jullie o
 p pad te gaan!</p><p>We spreken op vrijdag af om <strong>18u</strong> aan h
 et lokaal (<strong>Sportwegel 7 De Pinte</strong>) om te carpoolen naar Ant
 werpen. Op zondag zouden we rond 15u vertrekken in Antwerpen en dus <strong
 >rond 16u terug in De Pinte</strong>. Check voor het exacte uur zeker de In
 stagram- &amp; Facebookpagina van De Havik.</p><p>Zie de takpagina en de em
 ail voor meer info.</p><p>Met een ton aan spanning en avontuurlijke energie
 ,<br />De leiding</p>
CONTACT:Kaa
DTSTAMP:20260424T195807Z
DTSTART;TZID=Europe/Brussels:20231110T180000
DTEND;TZID=Europe/Brussels:20231112T160000
SEQUENCE:0
TRANSP:OPAQUE
END:VEVENT
END:VCALENDAR