BEGIN:VCALENDAR
VERSION:2.0
PRODID:-//jEvents 2.0 for Joomla//EN
CALSCALE:GREGORIAN
METHOD:PUBLISH
BEGIN:VTIMEZONE
TZID:Europe/Brussels
BEGIN:STANDARD
DTSTART:20221030T020000
RDATE:20230326T030000
TZOFFSETFROM:+0200
TZOFFSETTO:+0100
TZNAME:Europe/Brussels CET
END:STANDARD
BEGIN:STANDARD
DTSTART:20231029T020000
RDATE:20240331T030000
TZOFFSETFROM:+0200
TZOFFSETTO:+0100
TZNAME:Europe/Brussels CET
END:STANDARD
BEGIN:STANDARD
DTSTART:20241027T020000
RDATE:20250330T030000
TZOFFSETFROM:+0200
TZOFFSETTO:+0100
TZNAME:Europe/Brussels CET
END:STANDARD
BEGIN:STANDARD
DTSTART:20251026T020000
RDATE:20260329T030000
TZOFFSETFROM:+0200
TZOFFSETTO:+0100
TZNAME:Europe/Brussels CET
END:STANDARD
BEGIN:STANDARD
DTSTART:20261025T020000
RDATE:20270328T030000
TZOFFSETFROM:+0200
TZOFFSETTO:+0100
TZNAME:Europe/Brussels CET
END:STANDARD
BEGIN:STANDARD
DTSTART:20271031T020000
RDATE:20280326T030000
TZOFFSETFROM:+0200
TZOFFSETTO:+0100
TZNAME:Europe/Brussels CET
END:STANDARD
BEGIN:STANDARD
DTSTART:20281029T020000
RDATE:20290325T030000
TZOFFSETFROM:+0200
TZOFFSETTO:+0100
TZNAME:Europe/Brussels CET
END:STANDARD
BEGIN:STANDARD
DTSTART:20291028T020000
RDATE:20300331T030000
TZOFFSETFROM:+0200
TZOFFSETTO:+0100
TZNAME:Europe/Brussels CET
END:STANDARD
BEGIN:STANDARD
DTSTART:20301027T020000
RDATE:20310330T030000
TZOFFSETFROM:+0200
TZOFFSETTO:+0100
TZNAME:Europe/Brussels CET
END:STANDARD
BEGIN:DAYLIGHT
DTSTART:20220929T143000
RDATE:20221030T020000
TZOFFSETFROM:+0100
TZOFFSETTO:+0200
TZNAME:Europe/Brussels CEST
END:DAYLIGHT
BEGIN:DAYLIGHT
DTSTART:20230326T030000
RDATE:20231029T020000
TZOFFSETFROM:+0100
TZOFFSETTO:+0200
TZNAME:Europe/Brussels CEST
END:DAYLIGHT
BEGIN:DAYLIGHT
DTSTART:20240331T030000
RDATE:20241027T020000
TZOFFSETFROM:+0100
TZOFFSETTO:+0200
TZNAME:Europe/Brussels CEST
END:DAYLIGHT
BEGIN:DAYLIGHT
DTSTART:20250330T030000
RDATE:20251026T020000
TZOFFSETFROM:+0100
TZOFFSETTO:+0200
TZNAME:Europe/Brussels CEST
END:DAYLIGHT
BEGIN:DAYLIGHT
DTSTART:20260329T030000
RDATE:20261025T020000
TZOFFSETFROM:+0100
TZOFFSETTO:+0200
TZNAME:Europe/Brussels CEST
END:DAYLIGHT
BEGIN:DAYLIGHT
DTSTART:20270328T030000
RDATE:20271031T020000
TZOFFSETFROM:+0100
TZOFFSETTO:+0200
TZNAME:Europe/Brussels CEST
END:DAYLIGHT
BEGIN:DAYLIGHT
DTSTART:20280326T030000
RDATE:20281029T020000
TZOFFSETFROM:+0100
TZOFFSETTO:+0200
TZNAME:Europe/Brussels CEST
END:DAYLIGHT
BEGIN:DAYLIGHT
DTSTART:20290325T030000
RDATE:20291028T020000
TZOFFSETFROM:+0100
TZOFFSETTO:+0200
TZNAME:Europe/Brussels CEST
END:DAYLIGHT
BEGIN:DAYLIGHT
DTSTART:20300331T030000
RDATE:20301027T020000
TZOFFSETFROM:+0100
TZOFFSETTO:+0200
TZNAME:Europe/Brussels CEST
END:DAYLIGHT
END:VTIMEZONE
BEGIN:VEVENT
UID:1c254844a995272b7cad56d573a62c81
CATEGORIES:Welpen
CREATED:20230824T191648
SUMMARY:Tweedejaarsweekend
LOCATION:Sportwegel 7, 9840 De Pinte
DESCRIPTION;ENCODING=QUOTED-PRINTABLE:\n\nBeste ouders\n\n\n29 september tot 1 oktober gaan we met de tweede jaar
  welpen op weekend. Dit weekend is dus alleen voor tweede jaar welpen. De e
 erste jaar welpen hebben GEEN vergadering 30 september. De volgende vergade
 ring 7 oktober is terug een normale vergadering met alle welpen. Ouders van
  eerste jaar welpen mogen deze mail dan ook negeren.\n\n\nWe gaan op weeken
 d naar De beuk - hoogland in Lokeren. We gaan met de trein. We spreken&nbsp
 ;vrijdag 30 september om 17u30 af aan de voorkant van het station van de pi
 nte.&nbsp;We zullen zondag 1 oktober rond 16u15 terug zijn aan het station 
 in de pinte. Moest het uur toch nog veranderen in geval van vertragingen en
  dergelijk, wordt het uur nog verder gecommuniceerd.&nbsp;\n\n\nAangezien w
 e met de trein gaan, hebben we een paar ouders met grote auto’s nodig die d
 e bagage ter plaatse willen brengen. Als je dit graag wilt doen stuur mij d
 an een mailtje of berichtje met je naam, welke dag je wilt rijden (vrijdag 
 of zondag) en hoeveel koffers er ongeveer in de auto passen.\n\n\nMedische 
 fiches moeten ingevuld worden via keeo. Het is NIET nodig om deze af te dru
 kken en aan de leiding af te geven. Medicatie moet wel afgegeven worden aan
  de leiding en liefst ook naamtekenen. Als je wenst dat je kind vegan of ve
 getarisch eet, gelieve mij dan een mailtje te sturen.\n\n\nHet thema van he
 t weekend is barbie en ken. Voorzie gepaste themakledij voor je kind. Ergen
 s volgende week zal er nog een bagage lijst doorgestuurd worden.&nbsp;Onder
 aan deze mail ze zullen jullie een link vinden naar de inschrijvingspagina.
 \n\n\nDe kostprijs van het weekend bedraagt 35 euro per kind. Het som-kort 
 tarief is 1/3. Dit bedrag moeten jullie overschrijven op BE85 7370 1893 070
 6 met een gestructureerde mededeling of online via een qr-code.&nbsp;www.de
 havik.be/gestructureerde_mededeling/?id=\n\n\nDe leiding heeft er al vast h
 eel veel zin in! We hopen jullie ook!\n\n\nvriendelijke groeten\n\n\nzwaan 
 (0476 85 69 09)\n
DTSTAMP:20260424T190030Z
DTSTART;TZID=Europe/Brussels:20230930T143000
DTEND;TZID=Europe/Brussels:20230930T173000
SEQUENCE:0
TRANSP:OPAQUE
END:VEVENT
END:VCALENDAR