BEGIN:VCALENDAR
VERSION:2.0
PRODID:-//jEvents 2.0 for Joomla//EN
CALSCALE:GREGORIAN
METHOD:PUBLISH
BEGIN:VTIMEZONE
TZID:Europe/Brussels
BEGIN:STANDARD
DTSTART:20221030T020000
RDATE:20230326T030000
TZOFFSETFROM:+0200
TZOFFSETTO:+0100
TZNAME:Europe/Brussels CET
END:STANDARD
BEGIN:STANDARD
DTSTART:20231029T020000
RDATE:20240331T030000
TZOFFSETFROM:+0200
TZOFFSETTO:+0100
TZNAME:Europe/Brussels CET
END:STANDARD
BEGIN:STANDARD
DTSTART:20241027T020000
RDATE:20250330T030000
TZOFFSETFROM:+0200
TZOFFSETTO:+0100
TZNAME:Europe/Brussels CET
END:STANDARD
BEGIN:STANDARD
DTSTART:20251026T020000
RDATE:20260329T030000
TZOFFSETFROM:+0200
TZOFFSETTO:+0100
TZNAME:Europe/Brussels CET
END:STANDARD
BEGIN:STANDARD
DTSTART:20261025T020000
RDATE:20270328T030000
TZOFFSETFROM:+0200
TZOFFSETTO:+0100
TZNAME:Europe/Brussels CET
END:STANDARD
BEGIN:STANDARD
DTSTART:20271031T020000
RDATE:20280326T030000
TZOFFSETFROM:+0200
TZOFFSETTO:+0100
TZNAME:Europe/Brussels CET
END:STANDARD
BEGIN:STANDARD
DTSTART:20281029T020000
RDATE:20290325T030000
TZOFFSETFROM:+0200
TZOFFSETTO:+0100
TZNAME:Europe/Brussels CET
END:STANDARD
BEGIN:STANDARD
DTSTART:20291028T020000
RDATE:20300331T030000
TZOFFSETFROM:+0200
TZOFFSETTO:+0100
TZNAME:Europe/Brussels CET
END:STANDARD
BEGIN:STANDARD
DTSTART:20301027T020000
RDATE:20310330T030000
TZOFFSETFROM:+0200
TZOFFSETTO:+0100
TZNAME:Europe/Brussels CET
END:STANDARD
BEGIN:DAYLIGHT
DTSTART:20220428T103000
RDATE:20221030T020000
TZOFFSETFROM:+0100
TZOFFSETTO:+0200
TZNAME:Europe/Brussels CEST
END:DAYLIGHT
BEGIN:DAYLIGHT
DTSTART:20230326T030000
RDATE:20231029T020000
TZOFFSETFROM:+0100
TZOFFSETTO:+0200
TZNAME:Europe/Brussels CEST
END:DAYLIGHT
BEGIN:DAYLIGHT
DTSTART:20240331T030000
RDATE:20241027T020000
TZOFFSETFROM:+0100
TZOFFSETTO:+0200
TZNAME:Europe/Brussels CEST
END:DAYLIGHT
BEGIN:DAYLIGHT
DTSTART:20250330T030000
RDATE:20251026T020000
TZOFFSETFROM:+0100
TZOFFSETTO:+0200
TZNAME:Europe/Brussels CEST
END:DAYLIGHT
BEGIN:DAYLIGHT
DTSTART:20260329T030000
RDATE:20261025T020000
TZOFFSETFROM:+0100
TZOFFSETTO:+0200
TZNAME:Europe/Brussels CEST
END:DAYLIGHT
BEGIN:DAYLIGHT
DTSTART:20270328T030000
RDATE:20271031T020000
TZOFFSETFROM:+0100
TZOFFSETTO:+0200
TZNAME:Europe/Brussels CEST
END:DAYLIGHT
BEGIN:DAYLIGHT
DTSTART:20280326T030000
RDATE:20281029T020000
TZOFFSETFROM:+0100
TZOFFSETTO:+0200
TZNAME:Europe/Brussels CEST
END:DAYLIGHT
BEGIN:DAYLIGHT
DTSTART:20290325T030000
RDATE:20291028T020000
TZOFFSETFROM:+0100
TZOFFSETTO:+0200
TZNAME:Europe/Brussels CEST
END:DAYLIGHT
BEGIN:DAYLIGHT
DTSTART:20300331T030000
RDATE:20301027T020000
TZOFFSETFROM:+0100
TZOFFSETTO:+0200
TZNAME:Europe/Brussels CEST
END:DAYLIGHT
END:VTIMEZONE
BEGIN:VEVENT
UID:60f0f58ba43fba61602a73cf87ba0026
CATEGORIES:Welpen
CREATED:20230121T173815
SUMMARY:Betaalde activiteit
LOCATION:Bosheidestraat 15, 9070 Destelbergen
DESCRIPTION;ENCODING=QUOTED-PRINTABLE:\n\nBeste ouders,\n\n\nOp 29 april organiseren we een betaalde activiteit. 
 Dit jaar gaan we naar het Harry Malter Park (Bosheidestraat 15, 9070 Destel
 bergen (Heusden)).\n\n\nWe vragen om de kinderen in te schrijven via Keeo. 
 Zo weten we hoeveel kinderen er gaan zijn en hoeveel ingangstickets we moet
 en aankopen.\n\n\nOmdat we met het openbaar vervoer ongeveer 3 uur onderweg
  zouden zijn en het anders onbetaalbaar wordt, zouden we afspreken aan het 
 park zelf. Omdat we vragen om daar de locatie zelf te rijden spreken&nbsp; 
 we dan ook af om 10 uur aan de ingang van het Harry Malter Park. Zo moeten 
 ouders met kinderen in oudere of jongere takken zich niet doodhaasten om ov
 eral op tijd te kunnen zijn. Stel dat u in De Pinte vertrekt en nog een pla
 atsje vrij heeft in de auto of uw kind zoekt nog een plaatsje, laat het zek
 er weten dan maak ik de puzzel zodat iedereen op de bestemming geraakt.\n\n
 \nWe vertrekken in perfect uniform, zo zijn we altijd duidelijk zichtbaar e
 n kunnen we, als leiding, de welpen direct herkennen.\n\n\nWe spreken terug
  af om 17u30 aan de ingang van het park voor terug naar De Pinte te keren.\
 n\n\nWat heb je nodig?\n\n - Een lunchpakket\n - Iets om te drinken (water)
 \n - Goede stapschoenen\n - Goed humeur\n - Kledij gepast voor het weer\n\n
 We hopen dat jullie van dieren houden en een toffe dag willen beleven?! De 
 leiding alvast wel en we kijken er super hard naar uit!! Kijk jullie ogen m
 aar want… BINGO!!!!!!!\n\n\nMet veel scoutsgroeten,\n\n\nDe Welpenleiding\n
 \n\nAkela – 0471 45 49 88 – Dit e-mailadres wordt beveiligd tegen spambots.
  JavaScript dient ingeschakeld te zijn om het te bekijken.
				document.get
 ElementById('cloak23ffe9d5e6aa5729c420bad6aa1d1e6a').innerHTML = '';
				va
 r prefix = '&#109;a' + 'i&#108;' + '&#116;o';
				var path = 'hr' + 'ef' + 
 '=';
				var addy23ffe9d5e6aa5729c420bad6aa1d1e6a = 'M&#97;r&#97;b&#111;&#1
 01;k' + '&#64;';
				addy23ffe9d5e6aa5729c420bad6aa1d1e6a = addy23ffe9d5e6a
 a5729c420bad6aa1d1e6a + 'd&#101;h&#97;v&#105;k' + '&#46;' + 'b&#101;';
				
 var addy_text23ffe9d5e6aa5729c420bad6aa1d1e6a = 'M&#97;r&#97;b&#111;&#101;k
 ' + '&#64;' + 'd&#101;h&#97;v&#105;k' + '&#46;' + 'b&#101;';document.getEle
 mentById('cloak23ffe9d5e6aa5729c420bad6aa1d1e6a').innerHTML += ''+addy_text
 23ffe9d5e6aa5729c420bad6aa1d1e6a+'';
		\n
CONTACT:Quinten Spiloes (Akela) - 0471454988
DTSTAMP:20260424T122353Z
DTSTART;TZID=Europe/Brussels:20230429T103000
DTEND;TZID=Europe/Brussels:20230429T173000
SEQUENCE:0
TRANSP:OPAQUE
END:VEVENT
END:VCALENDAR