BEGIN:VCALENDAR
VERSION:2.0
PRODID:-//jEvents 2.0 for Joomla//EN
CALSCALE:GREGORIAN
METHOD:PUBLISH
BEGIN:VTIMEZONE
TZID:Europe/Brussels
BEGIN:STANDARD
DTSTART:20211031T020000
RDATE:20220327T030000
TZOFFSETFROM:+0200
TZOFFSETTO:+0100
TZNAME:Europe/Brussels CET
END:STANDARD
BEGIN:STANDARD
DTSTART:20221030T020000
RDATE:20230326T030000
TZOFFSETFROM:+0200
TZOFFSETTO:+0100
TZNAME:Europe/Brussels CET
END:STANDARD
BEGIN:STANDARD
DTSTART:20231029T020000
RDATE:20240331T030000
TZOFFSETFROM:+0200
TZOFFSETTO:+0100
TZNAME:Europe/Brussels CET
END:STANDARD
BEGIN:STANDARD
DTSTART:20241027T020000
RDATE:20250330T030000
TZOFFSETFROM:+0200
TZOFFSETTO:+0100
TZNAME:Europe/Brussels CET
END:STANDARD
BEGIN:STANDARD
DTSTART:20251026T020000
RDATE:20260329T030000
TZOFFSETFROM:+0200
TZOFFSETTO:+0100
TZNAME:Europe/Brussels CET
END:STANDARD
BEGIN:STANDARD
DTSTART:20261025T020000
RDATE:20270328T030000
TZOFFSETFROM:+0200
TZOFFSETTO:+0100
TZNAME:Europe/Brussels CET
END:STANDARD
BEGIN:STANDARD
DTSTART:20271031T020000
RDATE:20280326T030000
TZOFFSETFROM:+0200
TZOFFSETTO:+0100
TZNAME:Europe/Brussels CET
END:STANDARD
BEGIN:STANDARD
DTSTART:20281029T020000
RDATE:20290325T030000
TZOFFSETFROM:+0200
TZOFFSETTO:+0100
TZNAME:Europe/Brussels CET
END:STANDARD
BEGIN:STANDARD
DTSTART:20291028T020000
RDATE:20300331T030000
TZOFFSETFROM:+0200
TZOFFSETTO:+0100
TZNAME:Europe/Brussels CET
END:STANDARD
BEGIN:STANDARD
DTSTART:20301027T020000
RDATE:20310330T030000
TZOFFSETFROM:+0200
TZOFFSETTO:+0100
TZNAME:Europe/Brussels CET
END:STANDARD
BEGIN:DAYLIGHT
DTSTART:20210429T084000
RDATE:20211031T020000
TZOFFSETFROM:+0100
TZOFFSETTO:+0200
TZNAME:Europe/Brussels CEST
END:DAYLIGHT
BEGIN:DAYLIGHT
DTSTART:20220327T030000
RDATE:20221030T020000
TZOFFSETFROM:+0100
TZOFFSETTO:+0200
TZNAME:Europe/Brussels CEST
END:DAYLIGHT
BEGIN:DAYLIGHT
DTSTART:20230326T030000
RDATE:20231029T020000
TZOFFSETFROM:+0100
TZOFFSETTO:+0200
TZNAME:Europe/Brussels CEST
END:DAYLIGHT
BEGIN:DAYLIGHT
DTSTART:20240331T030000
RDATE:20241027T020000
TZOFFSETFROM:+0100
TZOFFSETTO:+0200
TZNAME:Europe/Brussels CEST
END:DAYLIGHT
BEGIN:DAYLIGHT
DTSTART:20250330T030000
RDATE:20251026T020000
TZOFFSETFROM:+0100
TZOFFSETTO:+0200
TZNAME:Europe/Brussels CEST
END:DAYLIGHT
BEGIN:DAYLIGHT
DTSTART:20260329T030000
RDATE:20261025T020000
TZOFFSETFROM:+0100
TZOFFSETTO:+0200
TZNAME:Europe/Brussels CEST
END:DAYLIGHT
BEGIN:DAYLIGHT
DTSTART:20270328T030000
RDATE:20271031T020000
TZOFFSETFROM:+0100
TZOFFSETTO:+0200
TZNAME:Europe/Brussels CEST
END:DAYLIGHT
BEGIN:DAYLIGHT
DTSTART:20280326T030000
RDATE:20281029T020000
TZOFFSETFROM:+0100
TZOFFSETTO:+0200
TZNAME:Europe/Brussels CEST
END:DAYLIGHT
BEGIN:DAYLIGHT
DTSTART:20290325T030000
RDATE:20291028T020000
TZOFFSETFROM:+0100
TZOFFSETTO:+0200
TZNAME:Europe/Brussels CEST
END:DAYLIGHT
BEGIN:DAYLIGHT
DTSTART:20300331T030000
RDATE:20301027T020000
TZOFFSETFROM:+0100
TZOFFSETTO:+0200
TZNAME:Europe/Brussels CEST
END:DAYLIGHT
END:VTIMEZONE
BEGIN:VEVENT
UID:8b1b91bbab1c6fadf03eeced3570d865
CATEGORIES:Welpen
CREATED:20211203T110140
SUMMARY:Betaalde activiteit: DE ZOO
LOCATION:scoutslokaal de havik
DESCRIPTION;ENCODING=QUOTED-PRINTABLE:\n\nDag scheetjes,\n\n\nEn de krokodil en de orang-oetan en de vogels in de
  lucht en de slangen op de vlucht,.... Ik ben er zeker van dat de welpjes d
 it nummer kennen! Het heeft namenlijk ook te maken met onze betalende activ
 iteit!&nbsp;VANDAAG gaan we... NAAR DE ZOO VAN ANTWERPEN!!! Leeuwen, apen, 
 olifanten,...alle dieren zullen aanwezig zijn, hopelijk al de welpen ook :-
 ) .\n\n\nEven praktische info: verzamelen: 30/4 om 8:40 aan het station van
  De Pinte.\n aankomst: 17:20 op het scoutslokaal.\n\n\nWat neem je mee:\n\n
 \n- lunchpakket\n - water\n - koekje/fruit\n - regenjas (afhankelijk van he
 t weer, hopelijk gaat dit niet nodig zijn).\n\n\ninschrijvingen: om een bee
 ld te krijgen hoeveel welpen er mee gaan is er een google forms die je dien
 t in te vullen tegen woensdagavond 20/4. We vragen ook om direct over te sc
 hrijven, het komt uit op €14 per welp. Je kan overschrijven op BE30 7370 18
 93 1211.\nhttps://docs.google.com/forms/d/e/1FAIpQLSdL3FpjOGxeGB4VNKdV4yiF4
 R1-abz69efMrs9Mvl1Dau79Vg/viewform?usp=sf_link\n\n\nWij hebben er al mega v
 eel goesting in, hopelijk tot dan!!!\n\n\n\n
CONTACT:Takleider Tabaqui / Kos (Dit e-mailadres wordt beveiligd tegen spambots. JavaScript dient ingeschakeld te zijn om het te bekijken.
				document.getElementById('cloak811e402ec8a9202640300c819a1f4a37').innerHTML = '';
				var prefix = '&#109;a' + 'i&#108;' + '&#116;o';
				var path = 'hr' + 'ef' + '=';
				var addy811e402ec8a9202640300c819a1f4a37 = 'w&#101;lp&#101;n' + '&#64;';
				addy811e402ec8a9202640300c819a1f4a37 = addy811e402ec8a9202640300c819a1f4a37 + 'd&#101;h&#97;v&#105;k' + '&#46;' + 'b&#101;';
				var addy_text811e402ec8a9202640300c819a1f4a37 = 'w&#101;lp&#101;n' + '&#64;' + 'd&#101;h&#97;v&#105;k' + '&#46;' + 'b&#101;';document.getElementById('cloak811e402ec8a9202640300c819a1f4a37').innerHTML += ''+addy_text811e402ec8a9202640300c819a1f4a37+'';
		)
DTSTAMP:20260424T150401Z
DTSTART;TZID=Europe/Brussels:20220430T084000
DTEND;TZID=Europe/Brussels:20220430T173000
SEQUENCE:0
TRANSP:OPAQUE
END:VEVENT
END:VCALENDAR