BEGIN:VCALENDAR
VERSION:2.0
PRODID:-//jEvents 2.0 for Joomla//EN
CALSCALE:GREGORIAN
METHOD:PUBLISH
BEGIN:VTIMEZONE
TZID:Europe/Brussels
BEGIN:STANDARD
DTSTART:20201025T020000
RDATE:20210328T030000
TZOFFSETFROM:+0200
TZOFFSETTO:+0100
TZNAME:Europe/Brussels CET
END:STANDARD
BEGIN:STANDARD
DTSTART:20211031T020000
RDATE:20220327T030000
TZOFFSETFROM:+0200
TZOFFSETTO:+0100
TZNAME:Europe/Brussels CET
END:STANDARD
BEGIN:STANDARD
DTSTART:20221030T020000
RDATE:20230326T030000
TZOFFSETFROM:+0200
TZOFFSETTO:+0100
TZNAME:Europe/Brussels CET
END:STANDARD
BEGIN:STANDARD
DTSTART:20231029T020000
RDATE:20240331T030000
TZOFFSETFROM:+0200
TZOFFSETTO:+0100
TZNAME:Europe/Brussels CET
END:STANDARD
BEGIN:STANDARD
DTSTART:20241027T020000
RDATE:20250330T030000
TZOFFSETFROM:+0200
TZOFFSETTO:+0100
TZNAME:Europe/Brussels CET
END:STANDARD
BEGIN:STANDARD
DTSTART:20251026T020000
RDATE:20260329T030000
TZOFFSETFROM:+0200
TZOFFSETTO:+0100
TZNAME:Europe/Brussels CET
END:STANDARD
BEGIN:STANDARD
DTSTART:20261025T020000
RDATE:20270328T030000
TZOFFSETFROM:+0200
TZOFFSETTO:+0100
TZNAME:Europe/Brussels CET
END:STANDARD
BEGIN:STANDARD
DTSTART:20271031T020000
RDATE:20280326T030000
TZOFFSETFROM:+0200
TZOFFSETTO:+0100
TZNAME:Europe/Brussels CET
END:STANDARD
BEGIN:STANDARD
DTSTART:20281029T020000
RDATE:20290325T030000
TZOFFSETFROM:+0200
TZOFFSETTO:+0100
TZNAME:Europe/Brussels CET
END:STANDARD
BEGIN:STANDARD
DTSTART:20291028T020000
RDATE:20300331T030000
TZOFFSETFROM:+0200
TZOFFSETTO:+0100
TZNAME:Europe/Brussels CET
END:STANDARD
BEGIN:STANDARD
DTSTART:20301027T020000
RDATE:20310330T030000
TZOFFSETFROM:+0200
TZOFFSETTO:+0100
TZNAME:Europe/Brussels CET
END:STANDARD
BEGIN:DAYLIGHT
DTSTART:20200903T143000
RDATE:20201025T020000
TZOFFSETFROM:+0100
TZOFFSETTO:+0200
TZNAME:Europe/Brussels CEST
END:DAYLIGHT
BEGIN:DAYLIGHT
DTSTART:20210328T030000
RDATE:20211031T020000
TZOFFSETFROM:+0100
TZOFFSETTO:+0200
TZNAME:Europe/Brussels CEST
END:DAYLIGHT
BEGIN:DAYLIGHT
DTSTART:20220327T030000
RDATE:20221030T020000
TZOFFSETFROM:+0100
TZOFFSETTO:+0200
TZNAME:Europe/Brussels CEST
END:DAYLIGHT
BEGIN:DAYLIGHT
DTSTART:20230326T030000
RDATE:20231029T020000
TZOFFSETFROM:+0100
TZOFFSETTO:+0200
TZNAME:Europe/Brussels CEST
END:DAYLIGHT
BEGIN:DAYLIGHT
DTSTART:20240331T030000
RDATE:20241027T020000
TZOFFSETFROM:+0100
TZOFFSETTO:+0200
TZNAME:Europe/Brussels CEST
END:DAYLIGHT
BEGIN:DAYLIGHT
DTSTART:20250330T030000
RDATE:20251026T020000
TZOFFSETFROM:+0100
TZOFFSETTO:+0200
TZNAME:Europe/Brussels CEST
END:DAYLIGHT
BEGIN:DAYLIGHT
DTSTART:20260329T030000
RDATE:20261025T020000
TZOFFSETFROM:+0100
TZOFFSETTO:+0200
TZNAME:Europe/Brussels CEST
END:DAYLIGHT
BEGIN:DAYLIGHT
DTSTART:20270328T030000
RDATE:20271031T020000
TZOFFSETFROM:+0100
TZOFFSETTO:+0200
TZNAME:Europe/Brussels CEST
END:DAYLIGHT
BEGIN:DAYLIGHT
DTSTART:20280326T030000
RDATE:20281029T020000
TZOFFSETFROM:+0100
TZOFFSETTO:+0200
TZNAME:Europe/Brussels CEST
END:DAYLIGHT
BEGIN:DAYLIGHT
DTSTART:20290325T030000
RDATE:20291028T020000
TZOFFSETFROM:+0100
TZOFFSETTO:+0200
TZNAME:Europe/Brussels CEST
END:DAYLIGHT
BEGIN:DAYLIGHT
DTSTART:20300331T030000
RDATE:20301027T020000
TZOFFSETFROM:+0100
TZOFFSETTO:+0200
TZNAME:Europe/Brussels CEST
END:DAYLIGHT
END:VTIMEZONE
BEGIN:VEVENT
UID:241c33c225a06f476b0fa602ef9ec308
CATEGORIES:Welpen
CREATED:20210830T105552
SUMMARY:VUILSTE SPELLETJE VAN HET JAAR!!!
LOCATION:De havik scoutslokaal
DESCRIPTION;ENCODING=QUOTED-PRINTABLE:\n\nHey&nbsp;profiterolletjes,\n\n\nBEN JIJ KLAAR VOOR HET VUILSTE SPELLETJ
 E VAN HET JAAR?!?! Trek jullie vuilste kleren maar aan om er helemaal op lo
 s te gaan!:) Altijd al eens bloem op je beste vriendjes willen gooien? Een 
 badje te nemen in ons heerlijk modderbad? Wees dan aanwezig op de oVERGANG!
  :)\n\n\n&nbsp;\n\n\nVoor wie: Deze vergadering is niet voor onze nieuwste 
 leden\n\n\nMeenemen:50 cent, douchegerief, vuile kleren, plastic zak (voor 
 vuile kleren), uniform is voor 1 keer niet verplicht (das wel)\n\n\nIndien 
 er vragen zijn/ allergiën/ intoleranties: Dit e-mailadres wordt beveiligd t
 egen spambots. JavaScript dient ingeschakeld te zijn om het te bekijken.
		
 		document.getElementById('cloak239b995623f5fd7dfdb2d76ddf43cdd3').innerHTM
 L = '';
				var prefix = '&#109;a' + 'i&#108;' + '&#116;o';
				var path = 
 'hr' + 'ef' + '=';
				var addy239b995623f5fd7dfdb2d76ddf43cdd3 = 'w&#101;l
 p&#101;n' + '&#64;';
				addy239b995623f5fd7dfdb2d76ddf43cdd3 = addy239b995
 623f5fd7dfdb2d76ddf43cdd3 + 'd&#101;h&#97;v&#105;k' + '&#46;' + 'b&#101;';

 				var addy_text239b995623f5fd7dfdb2d76ddf43cdd3 = 'w&#101;lp&#101;n' + '&
 #64;' + 'd&#101;h&#97;v&#105;k' + '&#46;' + 'b&#101;';document.getElementBy
 Id('cloak239b995623f5fd7dfdb2d76ddf43cdd3').innerHTML += ''+addy_text239b99
 5623f5fd7dfdb2d76ddf43cdd3+'';
		\n\n\n&nbsp;\n\n\nTOT BINNEKORT,\n\n\njull
 ie nieuwe, episch, fantastische, coole leiding\n\n\n&nbsp;\n\n\n&nbsp;\n
CONTACT:Takleider Tabaqui
DTSTAMP:20260424T222033Z
DTSTART;TZID=Europe/Brussels:20210904T143000
DTEND;TZID=Europe/Brussels:20210904T173000
SEQUENCE:0
TRANSP:OPAQUE
END:VEVENT
END:VCALENDAR