BEGIN:VCALENDAR
VERSION:2.0
PRODID:-//jEvents 2.0 for Joomla//EN
CALSCALE:GREGORIAN
METHOD:PUBLISH
BEGIN:VTIMEZONE
TZID:Europe/Brussels
BEGIN:STANDARD
DTSTART:20161030T020000
RDATE:20170326T030000
TZOFFSETFROM:+0200
TZOFFSETTO:+0100
TZNAME:Europe/Brussels CET
END:STANDARD
BEGIN:STANDARD
DTSTART:20171029T020000
RDATE:20180325T030000
TZOFFSETFROM:+0200
TZOFFSETTO:+0100
TZNAME:Europe/Brussels CET
END:STANDARD
BEGIN:STANDARD
DTSTART:20181028T020000
RDATE:20190331T030000
TZOFFSETFROM:+0200
TZOFFSETTO:+0100
TZNAME:Europe/Brussels CET
END:STANDARD
BEGIN:STANDARD
DTSTART:20191027T020000
RDATE:20200329T030000
TZOFFSETFROM:+0200
TZOFFSETTO:+0100
TZNAME:Europe/Brussels CET
END:STANDARD
BEGIN:STANDARD
DTSTART:20201025T020000
RDATE:20210328T030000
TZOFFSETFROM:+0200
TZOFFSETTO:+0100
TZNAME:Europe/Brussels CET
END:STANDARD
BEGIN:STANDARD
DTSTART:20211031T020000
RDATE:20220327T030000
TZOFFSETFROM:+0200
TZOFFSETTO:+0100
TZNAME:Europe/Brussels CET
END:STANDARD
BEGIN:STANDARD
DTSTART:20221030T020000
RDATE:20230326T030000
TZOFFSETFROM:+0200
TZOFFSETTO:+0100
TZNAME:Europe/Brussels CET
END:STANDARD
BEGIN:STANDARD
DTSTART:20231029T020000
RDATE:20240331T030000
TZOFFSETFROM:+0200
TZOFFSETTO:+0100
TZNAME:Europe/Brussels CET
END:STANDARD
BEGIN:STANDARD
DTSTART:20241027T020000
RDATE:20250330T030000
TZOFFSETFROM:+0200
TZOFFSETTO:+0100
TZNAME:Europe/Brussels CET
END:STANDARD
BEGIN:STANDARD
DTSTART:20251026T020000
RDATE:20260329T030000
TZOFFSETFROM:+0200
TZOFFSETTO:+0100
TZNAME:Europe/Brussels CET
END:STANDARD
BEGIN:STANDARD
DTSTART:20261025T020000
RDATE:20270328T030000
TZOFFSETFROM:+0200
TZOFFSETTO:+0100
TZNAME:Europe/Brussels CET
END:STANDARD
BEGIN:STANDARD
DTSTART:20271031T020000
RDATE:20280326T030000
TZOFFSETFROM:+0200
TZOFFSETTO:+0100
TZNAME:Europe/Brussels CET
END:STANDARD
BEGIN:STANDARD
DTSTART:20281029T020000
RDATE:20290325T030000
TZOFFSETFROM:+0200
TZOFFSETTO:+0100
TZNAME:Europe/Brussels CET
END:STANDARD
BEGIN:STANDARD
DTSTART:20291028T020000
RDATE:20300331T030000
TZOFFSETFROM:+0200
TZOFFSETTO:+0100
TZNAME:Europe/Brussels CET
END:STANDARD
BEGIN:STANDARD
DTSTART:20301027T020000
RDATE:20310330T030000
TZOFFSETFROM:+0200
TZOFFSETTO:+0100
TZNAME:Europe/Brussels CET
END:STANDARD
BEGIN:DAYLIGHT
DTSTART:20161020T143000
RDATE:20161030T020000
TZOFFSETFROM:+0100
TZOFFSETTO:+0200
TZNAME:Europe/Brussels CEST
END:DAYLIGHT
BEGIN:DAYLIGHT
DTSTART:20170326T030000
RDATE:20171029T020000
TZOFFSETFROM:+0100
TZOFFSETTO:+0200
TZNAME:Europe/Brussels CEST
END:DAYLIGHT
BEGIN:DAYLIGHT
DTSTART:20180325T030000
RDATE:20181028T020000
TZOFFSETFROM:+0100
TZOFFSETTO:+0200
TZNAME:Europe/Brussels CEST
END:DAYLIGHT
BEGIN:DAYLIGHT
DTSTART:20190331T030000
RDATE:20191027T020000
TZOFFSETFROM:+0100
TZOFFSETTO:+0200
TZNAME:Europe/Brussels CEST
END:DAYLIGHT
BEGIN:DAYLIGHT
DTSTART:20200329T030000
RDATE:20201025T020000
TZOFFSETFROM:+0100
TZOFFSETTO:+0200
TZNAME:Europe/Brussels CEST
END:DAYLIGHT
BEGIN:DAYLIGHT
DTSTART:20210328T030000
RDATE:20211031T020000
TZOFFSETFROM:+0100
TZOFFSETTO:+0200
TZNAME:Europe/Brussels CEST
END:DAYLIGHT
BEGIN:DAYLIGHT
DTSTART:20220327T030000
RDATE:20221030T020000
TZOFFSETFROM:+0100
TZOFFSETTO:+0200
TZNAME:Europe/Brussels CEST
END:DAYLIGHT
BEGIN:DAYLIGHT
DTSTART:20230326T030000
RDATE:20231029T020000
TZOFFSETFROM:+0100
TZOFFSETTO:+0200
TZNAME:Europe/Brussels CEST
END:DAYLIGHT
BEGIN:DAYLIGHT
DTSTART:20240331T030000
RDATE:20241027T020000
TZOFFSETFROM:+0100
TZOFFSETTO:+0200
TZNAME:Europe/Brussels CEST
END:DAYLIGHT
BEGIN:DAYLIGHT
DTSTART:20250330T030000
RDATE:20251026T020000
TZOFFSETFROM:+0100
TZOFFSETTO:+0200
TZNAME:Europe/Brussels CEST
END:DAYLIGHT
BEGIN:DAYLIGHT
DTSTART:20260329T030000
RDATE:20261025T020000
TZOFFSETFROM:+0100
TZOFFSETTO:+0200
TZNAME:Europe/Brussels CEST
END:DAYLIGHT
BEGIN:DAYLIGHT
DTSTART:20270328T030000
RDATE:20271031T020000
TZOFFSETFROM:+0100
TZOFFSETTO:+0200
TZNAME:Europe/Brussels CEST
END:DAYLIGHT
BEGIN:DAYLIGHT
DTSTART:20280326T030000
RDATE:20281029T020000
TZOFFSETFROM:+0100
TZOFFSETTO:+0200
TZNAME:Europe/Brussels CEST
END:DAYLIGHT
BEGIN:DAYLIGHT
DTSTART:20290325T030000
RDATE:20291028T020000
TZOFFSETFROM:+0100
TZOFFSETTO:+0200
TZNAME:Europe/Brussels CEST
END:DAYLIGHT
BEGIN:DAYLIGHT
DTSTART:20300331T030000
RDATE:20301027T020000
TZOFFSETFROM:+0100
TZOFFSETTO:+0200
TZNAME:Europe/Brussels CEST
END:DAYLIGHT
END:VTIMEZONE
BEGIN:VEVENT
UID:6ddc79cae02b3cf1e2b7cb41547f1ed6
CATEGORIES:Welpen
CREATED:20170830T143002
SUMMARY:Streeklimonades
DESCRIPTION;ENCODING=QUOTED-PRINTABLE:<p>Streeklimonades, limonades gebrouwen in onze streek.</p><p>Er zijn veel 
 verschillende soorten.</p><ul><li><strong>Chikailimonade</strong></li></ul>
 <p>Deze is licht, fris en strak. Geeft een strak mondgevoel, een heldere kl
 eur en frisse fruitige geuren. Culinaire tip:&nbsp;bij&nbsp;frisse salades 
 met een klassieke dressing van olijfolie, citroensap en azijn.&nbsp;</p><ul
 ><li><strong>Meekolimonade</strong></li></ul><p>De Meekolimonade staat beke
 nd om zijn ronde smaak en zacht mondgevoel, een heldere gouden kleur en fri
 sse romige geuren.&nbsp;Culinaire tip:&nbsp;bij visgerechten, gevogelte en 
 rijke salades.</p><ul><li><strong> Baloelimonade</strong></li></ul><p>De li
 monade uit de baloestreek is intens, rijk en complex. Kleur loopt uiteen va
 n blinkend roze naar paarsgeel.&nbsp;Culinaire tip:&nbsp;bij haute cuisine 
 gerechten met rijke complexe smaken zoals vis met een rijke saus.</p><ul><l
 i><strong>Tabaquilimonade</strong></li></ul><p>Deze is fris en heeft een su
 btiel karakter.&nbsp;Veel voorkomende geuren zijn framboos, perzik en licht
 e kruidigheid. De limonade is meestal bleek (kikker)groen van kleur.&nbsp;C
 ulinaire tip:&nbsp;bij salades (bijvoorbeeld Niçoise)&nbsp;of heerlijke tap
 as op&nbsp;een zomers&nbsp;terras.</p><ul><li><strong>Hawitilimonade</stron
 g></li></ul><p>Dit is de meest fruitigste limonade.&nbsp;Veel rijpe zoete g
 eur van rood fruit en dieproze van kleur.&nbsp;Culinaire tip: bij&nbsp;visg
 erechten, pasta’s of zelfs&nbsp;zomerse barbecue.</p><ul><li><strong>Mangli
 monade</strong></li></ul><p>Deze vriendelijke, lichte donkerpaarse limonade
  heeft een soepele smaak.&nbsp;Geuren van fruit en kruidigheid zoals thijm 
 en rozemarijn.&nbsp;Culinaire tip: bij gegrild gevogelte, lichte pastagerec
 hten&nbsp;of een kaasschotel.</p><ul><li><strong>Ikkilimonade</strong></li>
 </ul><p>De Ikkilimonade heeft een erg krachtige, maar toch zachte smaak.&nb
 sp;Vaak geuren van bramen, hout, vanille en kruidigheid. Mooie diepe goud-g
 ele kleur.&nbsp;Culinaire tip: bij&nbsp;kruidige ovenschotels, sappige stea
 k met peperroomsaus&nbsp;of pasta met tomatensaus.</p><ul><li><strong> Hath
 ilimonade</strong></li></ul><p>Deze rijke en complexe limonade met zijn int
 ense smaak heeft een erg breed palet aan geuren van fruit, kruiden en spece
 rijen en tertiaire geuren zoals leer. Bij gerijpte Hathilimonades is er mee
 stal een dieper robijnachtige kleur.&nbsp;Culinaire&nbsp;tip: bij&nbsp;Chat
 eaux Briand met cantharellen, rijke wildgerechten met truffel&nbsp;of ander
 e culinair hoogstaande&nbsp;gerechten.</p><ul><li><strong>Bagheeralimonade<
 /strong></li></ul><p>Deze volle en zoete limonade heeft o.a. geuren van ove
 rrijp fruit, honing en vanille. Kleur is vaak strogeel met goud glans.&nbsp
 ;Culinaire tip:&nbsp;bij Tarte tatin, chocoladetaart&nbsp;of verschillende 
 rijke volle kazen.&nbsp;</p><ul><li><strong>En last but not least de Ramali
 monade!</strong></li></ul><p>De Ramalimonade is een limonade met voornameli
 jk appelsmaak en perensmaak. Door zijn brede palet aan kruiden, past deze l
 imonade bij zowat alles. Culinaire tip: bij visschotels en salades (Cesar S
 alad).</p>
DTSTAMP:20260425T203527Z
DTSTART;TZID=Europe/Brussels:20171021T143000
DTEND;TZID=Europe/Brussels:20171021T173000
SEQUENCE:0
TRANSP:OPAQUE
END:VEVENT
END:VCALENDAR