BEGIN:VCALENDAR
VERSION:2.0
PRODID:-//jEvents 2.0 for Joomla//EN
CALSCALE:GREGORIAN
METHOD:PUBLISH
BEGIN:VTIMEZONE
TZID:Europe/Brussels
BEGIN:STANDARD
DTSTART:20161030T020000
RDATE:20170326T030000
TZOFFSETFROM:+0200
TZOFFSETTO:+0100
TZNAME:Europe/Brussels CET
END:STANDARD
BEGIN:STANDARD
DTSTART:20171029T020000
RDATE:20180325T030000
TZOFFSETFROM:+0200
TZOFFSETTO:+0100
TZNAME:Europe/Brussels CET
END:STANDARD
BEGIN:STANDARD
DTSTART:20181028T020000
RDATE:20190331T030000
TZOFFSETFROM:+0200
TZOFFSETTO:+0100
TZNAME:Europe/Brussels CET
END:STANDARD
BEGIN:STANDARD
DTSTART:20191027T020000
RDATE:20200329T030000
TZOFFSETFROM:+0200
TZOFFSETTO:+0100
TZNAME:Europe/Brussels CET
END:STANDARD
BEGIN:STANDARD
DTSTART:20201025T020000
RDATE:20210328T030000
TZOFFSETFROM:+0200
TZOFFSETTO:+0100
TZNAME:Europe/Brussels CET
END:STANDARD
BEGIN:STANDARD
DTSTART:20211031T020000
RDATE:20220327T030000
TZOFFSETFROM:+0200
TZOFFSETTO:+0100
TZNAME:Europe/Brussels CET
END:STANDARD
BEGIN:STANDARD
DTSTART:20221030T020000
RDATE:20230326T030000
TZOFFSETFROM:+0200
TZOFFSETTO:+0100
TZNAME:Europe/Brussels CET
END:STANDARD
BEGIN:STANDARD
DTSTART:20231029T020000
RDATE:20240331T030000
TZOFFSETFROM:+0200
TZOFFSETTO:+0100
TZNAME:Europe/Brussels CET
END:STANDARD
BEGIN:STANDARD
DTSTART:20241027T020000
RDATE:20250330T030000
TZOFFSETFROM:+0200
TZOFFSETTO:+0100
TZNAME:Europe/Brussels CET
END:STANDARD
BEGIN:STANDARD
DTSTART:20251026T020000
RDATE:20260329T030000
TZOFFSETFROM:+0200
TZOFFSETTO:+0100
TZNAME:Europe/Brussels CET
END:STANDARD
BEGIN:STANDARD
DTSTART:20261025T020000
RDATE:20270328T030000
TZOFFSETFROM:+0200
TZOFFSETTO:+0100
TZNAME:Europe/Brussels CET
END:STANDARD
BEGIN:STANDARD
DTSTART:20271031T020000
RDATE:20280326T030000
TZOFFSETFROM:+0200
TZOFFSETTO:+0100
TZNAME:Europe/Brussels CET
END:STANDARD
BEGIN:STANDARD
DTSTART:20281029T020000
RDATE:20290325T030000
TZOFFSETFROM:+0200
TZOFFSETTO:+0100
TZNAME:Europe/Brussels CET
END:STANDARD
BEGIN:STANDARD
DTSTART:20291028T020000
RDATE:20300331T030000
TZOFFSETFROM:+0200
TZOFFSETTO:+0100
TZNAME:Europe/Brussels CET
END:STANDARD
BEGIN:STANDARD
DTSTART:20301027T020000
RDATE:20310330T030000
TZOFFSETFROM:+0200
TZOFFSETTO:+0100
TZNAME:Europe/Brussels CET
END:STANDARD
BEGIN:DAYLIGHT
DTSTART:20160929T143000
RDATE:20161030T020000
TZOFFSETFROM:+0100
TZOFFSETTO:+0200
TZNAME:Europe/Brussels CEST
END:DAYLIGHT
BEGIN:DAYLIGHT
DTSTART:20170326T030000
RDATE:20171029T020000
TZOFFSETFROM:+0100
TZOFFSETTO:+0200
TZNAME:Europe/Brussels CEST
END:DAYLIGHT
BEGIN:DAYLIGHT
DTSTART:20180325T030000
RDATE:20181028T020000
TZOFFSETFROM:+0100
TZOFFSETTO:+0200
TZNAME:Europe/Brussels CEST
END:DAYLIGHT
BEGIN:DAYLIGHT
DTSTART:20190331T030000
RDATE:20191027T020000
TZOFFSETFROM:+0100
TZOFFSETTO:+0200
TZNAME:Europe/Brussels CEST
END:DAYLIGHT
BEGIN:DAYLIGHT
DTSTART:20200329T030000
RDATE:20201025T020000
TZOFFSETFROM:+0100
TZOFFSETTO:+0200
TZNAME:Europe/Brussels CEST
END:DAYLIGHT
BEGIN:DAYLIGHT
DTSTART:20210328T030000
RDATE:20211031T020000
TZOFFSETFROM:+0100
TZOFFSETTO:+0200
TZNAME:Europe/Brussels CEST
END:DAYLIGHT
BEGIN:DAYLIGHT
DTSTART:20220327T030000
RDATE:20221030T020000
TZOFFSETFROM:+0100
TZOFFSETTO:+0200
TZNAME:Europe/Brussels CEST
END:DAYLIGHT
BEGIN:DAYLIGHT
DTSTART:20230326T030000
RDATE:20231029T020000
TZOFFSETFROM:+0100
TZOFFSETTO:+0200
TZNAME:Europe/Brussels CEST
END:DAYLIGHT
BEGIN:DAYLIGHT
DTSTART:20240331T030000
RDATE:20241027T020000
TZOFFSETFROM:+0100
TZOFFSETTO:+0200
TZNAME:Europe/Brussels CEST
END:DAYLIGHT
BEGIN:DAYLIGHT
DTSTART:20250330T030000
RDATE:20251026T020000
TZOFFSETFROM:+0100
TZOFFSETTO:+0200
TZNAME:Europe/Brussels CEST
END:DAYLIGHT
BEGIN:DAYLIGHT
DTSTART:20260329T030000
RDATE:20261025T020000
TZOFFSETFROM:+0100
TZOFFSETTO:+0200
TZNAME:Europe/Brussels CEST
END:DAYLIGHT
BEGIN:DAYLIGHT
DTSTART:20270328T030000
RDATE:20271031T020000
TZOFFSETFROM:+0100
TZOFFSETTO:+0200
TZNAME:Europe/Brussels CEST
END:DAYLIGHT
BEGIN:DAYLIGHT
DTSTART:20280326T030000
RDATE:20281029T020000
TZOFFSETFROM:+0100
TZOFFSETTO:+0200
TZNAME:Europe/Brussels CEST
END:DAYLIGHT
BEGIN:DAYLIGHT
DTSTART:20290325T030000
RDATE:20291028T020000
TZOFFSETFROM:+0100
TZOFFSETTO:+0200
TZNAME:Europe/Brussels CEST
END:DAYLIGHT
BEGIN:DAYLIGHT
DTSTART:20300331T030000
RDATE:20301027T020000
TZOFFSETFROM:+0100
TZOFFSETTO:+0200
TZNAME:Europe/Brussels CEST
END:DAYLIGHT
END:VTIMEZONE
BEGIN:VEVENT
UID:ef31b65ee1075c8985a629862788f2e6
CATEGORIES:Welpen
CREATED:20170830T134253
SUMMARY:Tweedejaarsweekend
LOCATION:Lokeren
DESCRIPTION;ENCODING=QUOTED-PRINTABLE:<p>Tutututu........ TWEEDEJAARSWEEKEND!</p><p>Zalig gewoon. Eindelijk Tweed
 ejaarsweekend!&nbsp;Naast het verdelen van de nesten gaan we nog leuke ding
 en doen zoals: dansen, gekke bekken trekken en ons amuseren!&nbsp;</p><p>Pr
 aktische info over het weekend:</p><p>- Wie? : de tweedejaars welpen</p><p>
 - Wanneer? : 29/09 - 01/10</p><p>- Waar? : Lokeren</p><p>- Hoe? : Samen met
  de Wolven en de JVG's nemen we de trein naar Lokeren.</p><p>--&gt; vertrek
 : 29/09 om 18u15 aan het&nbsp;station van De Pinte&nbsp;</p><p>--&gt; aanko
 mst: 01/10 om 17u00 aan het station van De Pinte</p><p>--&gt; thema: de kle
 ur geel!</p><p>&nbsp;Wat neem je best mee?</p><p>KLEDIJ</p><ul><li>1 lange/
 korte speelbroek</li><li>1 speel T-shirt &nbsp;</li><li>1 pull &nbsp;</li><
 li>Regenjas</li><li>3 paar sokken &nbsp;</li><li>Ondergoed voor 2 dagen</li
 ><li>1 paar speelschoenen</li></ul><p>TOILETGERIEF</p><ul><li>Tandpasta – t
 andenborstel</li><li>Kam</li><li>Deo</li><li><i>Washandje + handdoek</i></l
 i></ul><p>SLAAPGERIEF</p><ul><li>Kussensloop</li><li>Matrasovertrek</li><li
 >Pyjama</li><li>Slaapzak</li><li>Knuffel</li></ul><p>VARIA</p><ul><li>Keuke
 nhanddoek</li><li>Buzzy pazz (indien je die hebt)</li><li>Medische fiche</l
 i><li>Persoonlijke medicatie</li></ul><p>" zeker niet vergeten meenemen"</p
 ><ul><li>medische fiche,</li><li>keukenhanddoek,</li><li>slaapzak + kussens
 loop+ matrasovertrek</li></ul>
CONTACT:Takleidster Meeko
DTSTAMP:20260425T192815Z
DTSTART;TZID=Europe/Brussels:20170930T143000
DTEND;TZID=Europe/Brussels:20170930T173000
SEQUENCE:0
TRANSP:OPAQUE
END:VEVENT
END:VCALENDAR