BEGIN:VCALENDAR
VERSION:2.0
PRODID:-//jEvents 2.0 for Joomla//EN
CALSCALE:GREGORIAN
METHOD:PUBLISH
BEGIN:VTIMEZONE
TZID:Europe/Brussels
BEGIN:STANDARD
DTSTART:20161030T020000
RDATE:20170326T030000
TZOFFSETFROM:+0200
TZOFFSETTO:+0100
TZNAME:Europe/Brussels CET
END:STANDARD
BEGIN:STANDARD
DTSTART:20171029T020000
RDATE:20180325T030000
TZOFFSETFROM:+0200
TZOFFSETTO:+0100
TZNAME:Europe/Brussels CET
END:STANDARD
BEGIN:STANDARD
DTSTART:20181028T020000
RDATE:20190331T030000
TZOFFSETFROM:+0200
TZOFFSETTO:+0100
TZNAME:Europe/Brussels CET
END:STANDARD
BEGIN:STANDARD
DTSTART:20191027T020000
RDATE:20200329T030000
TZOFFSETFROM:+0200
TZOFFSETTO:+0100
TZNAME:Europe/Brussels CET
END:STANDARD
BEGIN:STANDARD
DTSTART:20201025T020000
RDATE:20210328T030000
TZOFFSETFROM:+0200
TZOFFSETTO:+0100
TZNAME:Europe/Brussels CET
END:STANDARD
BEGIN:STANDARD
DTSTART:20211031T020000
RDATE:20220327T030000
TZOFFSETFROM:+0200
TZOFFSETTO:+0100
TZNAME:Europe/Brussels CET
END:STANDARD
BEGIN:STANDARD
DTSTART:20221030T020000
RDATE:20230326T030000
TZOFFSETFROM:+0200
TZOFFSETTO:+0100
TZNAME:Europe/Brussels CET
END:STANDARD
BEGIN:STANDARD
DTSTART:20231029T020000
RDATE:20240331T030000
TZOFFSETFROM:+0200
TZOFFSETTO:+0100
TZNAME:Europe/Brussels CET
END:STANDARD
BEGIN:STANDARD
DTSTART:20241027T020000
RDATE:20250330T030000
TZOFFSETFROM:+0200
TZOFFSETTO:+0100
TZNAME:Europe/Brussels CET
END:STANDARD
BEGIN:STANDARD
DTSTART:20251026T020000
RDATE:20260329T030000
TZOFFSETFROM:+0200
TZOFFSETTO:+0100
TZNAME:Europe/Brussels CET
END:STANDARD
BEGIN:STANDARD
DTSTART:20261025T020000
RDATE:20270328T030000
TZOFFSETFROM:+0200
TZOFFSETTO:+0100
TZNAME:Europe/Brussels CET
END:STANDARD
BEGIN:STANDARD
DTSTART:20271031T020000
RDATE:20280326T030000
TZOFFSETFROM:+0200
TZOFFSETTO:+0100
TZNAME:Europe/Brussels CET
END:STANDARD
BEGIN:STANDARD
DTSTART:20281029T020000
RDATE:20290325T030000
TZOFFSETFROM:+0200
TZOFFSETTO:+0100
TZNAME:Europe/Brussels CET
END:STANDARD
BEGIN:STANDARD
DTSTART:20291028T020000
RDATE:20300331T030000
TZOFFSETFROM:+0200
TZOFFSETTO:+0100
TZNAME:Europe/Brussels CET
END:STANDARD
BEGIN:STANDARD
DTSTART:20301027T020000
RDATE:20310330T030000
TZOFFSETFROM:+0200
TZOFFSETTO:+0100
TZNAME:Europe/Brussels CET
END:STANDARD
BEGIN:DAYLIGHT
DTSTART:20160707T143000
RDATE:20161030T020000
TZOFFSETFROM:+0100
TZOFFSETTO:+0200
TZNAME:Europe/Brussels CEST
END:DAYLIGHT
BEGIN:DAYLIGHT
DTSTART:20170326T030000
RDATE:20171029T020000
TZOFFSETFROM:+0100
TZOFFSETTO:+0200
TZNAME:Europe/Brussels CEST
END:DAYLIGHT
BEGIN:DAYLIGHT
DTSTART:20180325T030000
RDATE:20181028T020000
TZOFFSETFROM:+0100
TZOFFSETTO:+0200
TZNAME:Europe/Brussels CEST
END:DAYLIGHT
BEGIN:DAYLIGHT
DTSTART:20190331T030000
RDATE:20191027T020000
TZOFFSETFROM:+0100
TZOFFSETTO:+0200
TZNAME:Europe/Brussels CEST
END:DAYLIGHT
BEGIN:DAYLIGHT
DTSTART:20200329T030000
RDATE:20201025T020000
TZOFFSETFROM:+0100
TZOFFSETTO:+0200
TZNAME:Europe/Brussels CEST
END:DAYLIGHT
BEGIN:DAYLIGHT
DTSTART:20210328T030000
RDATE:20211031T020000
TZOFFSETFROM:+0100
TZOFFSETTO:+0200
TZNAME:Europe/Brussels CEST
END:DAYLIGHT
BEGIN:DAYLIGHT
DTSTART:20220327T030000
RDATE:20221030T020000
TZOFFSETFROM:+0100
TZOFFSETTO:+0200
TZNAME:Europe/Brussels CEST
END:DAYLIGHT
BEGIN:DAYLIGHT
DTSTART:20230326T030000
RDATE:20231029T020000
TZOFFSETFROM:+0100
TZOFFSETTO:+0200
TZNAME:Europe/Brussels CEST
END:DAYLIGHT
BEGIN:DAYLIGHT
DTSTART:20240331T030000
RDATE:20241027T020000
TZOFFSETFROM:+0100
TZOFFSETTO:+0200
TZNAME:Europe/Brussels CEST
END:DAYLIGHT
BEGIN:DAYLIGHT
DTSTART:20250330T030000
RDATE:20251026T020000
TZOFFSETFROM:+0100
TZOFFSETTO:+0200
TZNAME:Europe/Brussels CEST
END:DAYLIGHT
BEGIN:DAYLIGHT
DTSTART:20260329T030000
RDATE:20261025T020000
TZOFFSETFROM:+0100
TZOFFSETTO:+0200
TZNAME:Europe/Brussels CEST
END:DAYLIGHT
BEGIN:DAYLIGHT
DTSTART:20270328T030000
RDATE:20271031T020000
TZOFFSETFROM:+0100
TZOFFSETTO:+0200
TZNAME:Europe/Brussels CEST
END:DAYLIGHT
BEGIN:DAYLIGHT
DTSTART:20280326T030000
RDATE:20281029T020000
TZOFFSETFROM:+0100
TZOFFSETTO:+0200
TZNAME:Europe/Brussels CEST
END:DAYLIGHT
BEGIN:DAYLIGHT
DTSTART:20290325T030000
RDATE:20291028T020000
TZOFFSETFROM:+0100
TZOFFSETTO:+0200
TZNAME:Europe/Brussels CEST
END:DAYLIGHT
BEGIN:DAYLIGHT
DTSTART:20300331T030000
RDATE:20301027T020000
TZOFFSETFROM:+0100
TZOFFSETTO:+0200
TZNAME:Europe/Brussels CEST
END:DAYLIGHT
END:VTIMEZONE
BEGIN:VEVENT
UID:d8ce174a1dd929b781e1118be2e238bc
CATEGORIES:Welpen
CREATED:20170613T123442
SUMMARY:GROOTKAMP
DESCRIPTION;ENCODING=QUOTED-PRINTABLE:<p>Beste ouders,</p><p>Op maandag 3 juli vertrekken we voor 12 dagen op kam
 p naar Han-Sur-Lesse. We maken er met de welpen meteen een reis rond de wer
 eld van want dat is ons kampthema voor dit jaar. Als kers op de taart kan d
 it wel tellen! Vergeet dus zeker niet om themakledij mee te geven. Alle ove
 rige informatie omtrent het kamp kan u terugvinden via deze link: <a href="
 grootkamp">http://www.dehavik.be/grootkamp</a></p><p>BELANGRIJK: de deadlin
 e voor de inschrijving is 19 juni. Indien uw zoon/dochter niet tijdig is in
 geschreven, kan hij/zij niet mee op kamp. Dit is zonder uitzondering. </p><
 p>Daarnaast zou ik een oproep willen doen om zeker uw zoon/dochter te contr
 oleren op luizen. Indien uw zoon/dochter nog luizen zou hebben bij vertrek,
  gelieve dan niet te vergeten om de leiding te verwittigen en zelf het nodi
 ge materiaal (kammetje, shampoo) mee te geven.</p><p>Mocht u verder nog vra
 gen hebben, kan u contact opnemen met Stormvogel of mij. Bijzondere eetgewo
 onten kunnen alvast gemeld worden bij Stormvogel (<span id="cloak42736fb202
 85efeebab77f47385a3c06">Dit e-mailadres wordt beveiligd tegen spambots. Jav
 aScript dient ingeschakeld te zijn om het te bekijken.</span><script type='
 text/javascript'>
				document.getElementById('cloak42736fb20285efeebab77f4
 7385a3c06').innerHTML = '';
				var prefix = '&#109;a' + 'i&#108;' + '&#116
 ;o';
				var path = 'hr' + 'ef' + '=';
				var addy42736fb20285efeebab77f47
 385a3c06 = '&#101;&#101;nh&#101;&#105;dsl&#101;&#105;d&#105;ng' + '&#64;';

 				addy42736fb20285efeebab77f47385a3c06 = addy42736fb20285efeebab77f47385a
 3c06 + 'd&#101;h&#97;v&#105;k' + '&#46;' + 'b&#101;';
				var addy_text4273
 6fb20285efeebab77f47385a3c06 = '&#101;&#101;nh&#101;&#105;dsl&#101;&#105;d&
 #105;ng' + '&#64;' + 'd&#101;h&#97;v&#105;k' + '&#46;' + 'b&#101;';document
 .getElementById('cloak42736fb20285efeebab77f47385a3c06').innerHTML += '<a '
  + path + '\'' + prefix + ':' + addy42736fb20285efeebab77f47385a3c06 + '\'>
 '+addy_text42736fb20285efeebab77f47385a3c06+'<\/a>';
		</script>). </p><p>T
 enslotte maak ik graag nog wat reclame voor onze 'Last call' op zaterdag 24
  juni. Twee ondernemende leiders zullen een speciale snack voorzien en onze
  voorzitter verzorgt de cocktailbar. Inschrijven is niet nodig. U hoeft enk
 el wat te blijven hangen na onze laatste vergadering (14u30 - 17u30). Hopel
 ijk tot dan!</p><p>Met vriendelijke groeten,<br />Akela</p>
DTSTAMP:20260426T033410Z
DTSTART;TZID=Europe/Brussels:20170708T143000
DTEND;TZID=Europe/Brussels:20170708T173000
SEQUENCE:0
TRANSP:OPAQUE
END:VEVENT
END:VCALENDAR