BEGIN:VCALENDAR
VERSION:2.0
PRODID:-//jEvents 2.0 for Joomla//EN
CALSCALE:GREGORIAN
METHOD:PUBLISH
BEGIN:VTIMEZONE
TZID:Europe/Brussels
BEGIN:STANDARD
DTSTART:20160317T170000
RDATE:20160327T030000
TZOFFSETFROM:+0200
TZOFFSETTO:+0100
TZNAME:Europe/Brussels CET
END:STANDARD
BEGIN:STANDARD
DTSTART:20161030T020000
RDATE:20170326T030000
TZOFFSETFROM:+0200
TZOFFSETTO:+0100
TZNAME:Europe/Brussels CET
END:STANDARD
BEGIN:STANDARD
DTSTART:20171029T020000
RDATE:20180325T030000
TZOFFSETFROM:+0200
TZOFFSETTO:+0100
TZNAME:Europe/Brussels CET
END:STANDARD
BEGIN:STANDARD
DTSTART:20181028T020000
RDATE:20190331T030000
TZOFFSETFROM:+0200
TZOFFSETTO:+0100
TZNAME:Europe/Brussels CET
END:STANDARD
BEGIN:STANDARD
DTSTART:20191027T020000
RDATE:20200329T030000
TZOFFSETFROM:+0200
TZOFFSETTO:+0100
TZNAME:Europe/Brussels CET
END:STANDARD
BEGIN:STANDARD
DTSTART:20201025T020000
RDATE:20210328T030000
TZOFFSETFROM:+0200
TZOFFSETTO:+0100
TZNAME:Europe/Brussels CET
END:STANDARD
BEGIN:STANDARD
DTSTART:20211031T020000
RDATE:20220327T030000
TZOFFSETFROM:+0200
TZOFFSETTO:+0100
TZNAME:Europe/Brussels CET
END:STANDARD
BEGIN:STANDARD
DTSTART:20221030T020000
RDATE:20230326T030000
TZOFFSETFROM:+0200
TZOFFSETTO:+0100
TZNAME:Europe/Brussels CET
END:STANDARD
BEGIN:STANDARD
DTSTART:20231029T020000
RDATE:20240331T030000
TZOFFSETFROM:+0200
TZOFFSETTO:+0100
TZNAME:Europe/Brussels CET
END:STANDARD
BEGIN:STANDARD
DTSTART:20241027T020000
RDATE:20250330T030000
TZOFFSETFROM:+0200
TZOFFSETTO:+0100
TZNAME:Europe/Brussels CET
END:STANDARD
BEGIN:STANDARD
DTSTART:20251026T020000
RDATE:20260329T030000
TZOFFSETFROM:+0200
TZOFFSETTO:+0100
TZNAME:Europe/Brussels CET
END:STANDARD
BEGIN:STANDARD
DTSTART:20261025T020000
RDATE:20270328T030000
TZOFFSETFROM:+0200
TZOFFSETTO:+0100
TZNAME:Europe/Brussels CET
END:STANDARD
BEGIN:STANDARD
DTSTART:20271031T020000
RDATE:20280326T030000
TZOFFSETFROM:+0200
TZOFFSETTO:+0100
TZNAME:Europe/Brussels CET
END:STANDARD
BEGIN:STANDARD
DTSTART:20281029T020000
RDATE:20290325T030000
TZOFFSETFROM:+0200
TZOFFSETTO:+0100
TZNAME:Europe/Brussels CET
END:STANDARD
BEGIN:STANDARD
DTSTART:20291028T020000
RDATE:20300331T030000
TZOFFSETFROM:+0200
TZOFFSETTO:+0100
TZNAME:Europe/Brussels CET
END:STANDARD
BEGIN:STANDARD
DTSTART:20301027T020000
RDATE:20310330T030000
TZOFFSETFROM:+0200
TZOFFSETTO:+0100
TZNAME:Europe/Brussels CET
END:STANDARD
BEGIN:DAYLIGHT
DTSTART:20160327T030000
RDATE:20161030T020000
TZOFFSETFROM:+0100
TZOFFSETTO:+0200
TZNAME:Europe/Brussels CEST
END:DAYLIGHT
BEGIN:DAYLIGHT
DTSTART:20170326T030000
RDATE:20171029T020000
TZOFFSETFROM:+0100
TZOFFSETTO:+0200
TZNAME:Europe/Brussels CEST
END:DAYLIGHT
BEGIN:DAYLIGHT
DTSTART:20180325T030000
RDATE:20181028T020000
TZOFFSETFROM:+0100
TZOFFSETTO:+0200
TZNAME:Europe/Brussels CEST
END:DAYLIGHT
BEGIN:DAYLIGHT
DTSTART:20190331T030000
RDATE:20191027T020000
TZOFFSETFROM:+0100
TZOFFSETTO:+0200
TZNAME:Europe/Brussels CEST
END:DAYLIGHT
BEGIN:DAYLIGHT
DTSTART:20200329T030000
RDATE:20201025T020000
TZOFFSETFROM:+0100
TZOFFSETTO:+0200
TZNAME:Europe/Brussels CEST
END:DAYLIGHT
BEGIN:DAYLIGHT
DTSTART:20210328T030000
RDATE:20211031T020000
TZOFFSETFROM:+0100
TZOFFSETTO:+0200
TZNAME:Europe/Brussels CEST
END:DAYLIGHT
BEGIN:DAYLIGHT
DTSTART:20220327T030000
RDATE:20221030T020000
TZOFFSETFROM:+0100
TZOFFSETTO:+0200
TZNAME:Europe/Brussels CEST
END:DAYLIGHT
BEGIN:DAYLIGHT
DTSTART:20230326T030000
RDATE:20231029T020000
TZOFFSETFROM:+0100
TZOFFSETTO:+0200
TZNAME:Europe/Brussels CEST
END:DAYLIGHT
BEGIN:DAYLIGHT
DTSTART:20240331T030000
RDATE:20241027T020000
TZOFFSETFROM:+0100
TZOFFSETTO:+0200
TZNAME:Europe/Brussels CEST
END:DAYLIGHT
BEGIN:DAYLIGHT
DTSTART:20250330T030000
RDATE:20251026T020000
TZOFFSETFROM:+0100
TZOFFSETTO:+0200
TZNAME:Europe/Brussels CEST
END:DAYLIGHT
BEGIN:DAYLIGHT
DTSTART:20260329T030000
RDATE:20261025T020000
TZOFFSETFROM:+0100
TZOFFSETTO:+0200
TZNAME:Europe/Brussels CEST
END:DAYLIGHT
BEGIN:DAYLIGHT
DTSTART:20270328T030000
RDATE:20271031T020000
TZOFFSETFROM:+0100
TZOFFSETTO:+0200
TZNAME:Europe/Brussels CEST
END:DAYLIGHT
BEGIN:DAYLIGHT
DTSTART:20280326T030000
RDATE:20281029T020000
TZOFFSETFROM:+0100
TZOFFSETTO:+0200
TZNAME:Europe/Brussels CEST
END:DAYLIGHT
BEGIN:DAYLIGHT
DTSTART:20290325T030000
RDATE:20291028T020000
TZOFFSETFROM:+0100
TZOFFSETTO:+0200
TZNAME:Europe/Brussels CEST
END:DAYLIGHT
BEGIN:DAYLIGHT
DTSTART:20300331T030000
RDATE:20301027T020000
TZOFFSETFROM:+0100
TZOFFSETTO:+0200
TZNAME:Europe/Brussels CEST
END:DAYLIGHT
END:VTIMEZONE
BEGIN:VEVENT
UID:a956953639dd21dabf71945ef0eb21ca
CATEGORIES:Eenheid
CREATED:20170223T134548
SUMMARY:De Havikse Feesten - Beenhesp editie
DESCRIPTION;ENCODING=QUOTED-PRINTABLE:<p><span style="margin: 0px; padding: 0px; color: #4b4f56; font-family: Hel
 vetica, Arial, sans-serif; font-size: 14px;">Op 18 maart 2017 organiseert 1
 56° FOS De Havik zijn jaarlijks <strong style="margin: 0px; padding: 0px;">
 eetfestijn</strong>, dit jaar gedoopt tot "Havikse feesten - Beenhesp Editi
 e".</span><br style="margin: 0px; padding: 0px; color: #4b4f56; font-family
 : Helvetica, Arial, sans-serif; font-size: 14px;" /><br style="margin: 0px;
  padding: 0px; color: #4b4f56; font-family: Helvetica, Arial, sans-serif; f
 ont-size: 14px;" /><span style="margin: 0px; padding: 0px; color: #4b4f56; 
 font-family: Helvetica, Arial, sans-serif; font-size: 14px;">Tijdens deze g
 ezellige scouts-avond kunt u genieten van een heerlijk stukje <strong style
 ="margin: 0px; padding: 0px;">lokale beenham met frietjes en verse groentje
 s</strong> ( à volonté ) met als afsluiter een heerlijk<strong style="margi
 n: 0px; padding: 0px;">dessertbuffet</strong>. Geen liefhebber van varkensv
 lees of bent u vegetariër? Hiervoor voorzien wij een <strong style="margin:
  0px; padding: 0px;">verrukkelijk alternatief.</strong></span><br style="ma
 rgin: 0px; padding: 0px; color: #4b4f56; font-family: Helvetica, Arial, san
 s-serif; font-size: 14px;" /><br style="margin: 0px; padding: 0px; color: #
 4b4f56; font-family: Helvetica, Arial, sans-serif; font-size: 14px;" /><spa
 n style="margin: 0px; padding: 0px; color: #4b4f56; font-family: Helvetica,
  Arial, sans-serif; font-size: 14px;">Nadien kunt u volop genieten van een<
 strong style="margin: 0px; padding: 0px;">spetterende show</strong> die uw 
 kinderen samen met de leiding tot een goed einde brengen. Aansluitend kunt 
 u gerust blijven plakken want ook DJ Gibby is van de partij, oud-leiding/li
 d van onze scouts, die muziek van vroeger en nu zal dra</span><span class="
 text_exposed_show" style="margin: 0px; padding: 0px; display: inline; color
 : #4b4f56; font-family: Helvetica, Arial, sans-serif; font-size: 14px;">aie
 n.<br style="margin: 0px; padding: 0px;" /><br style="margin: 0px; padding:
  0px;" />Daarnaast zal er een <strong style="margin: 0px; padding: 0px;">ki
 nderoppasdienst</strong>voorzien worden in het lokaal waar de kinderen tere
 cht kunnen wanneer u zich aan een danspasje waagt.<br style="margin: 0px; p
 adding: 0px;" /><br style="margin: 0px; padding: 0px;" />Inschrijven vooraf
  is noodzakelijk en kan via deze link:<a style="margin: 0px; padding: 0px; 
 color: #365899; text-decoration: none; cursor: pointer;" href="https://l.fa
 cebook.com/l.php?u=http%3A%2F%2Fwww.dehavik.be%2Ffeest&h=ATMrPq0NiALFI0ritc
 ALatxXRLYBvpILTDMYe-k4F4o076kvEUtO4l5bNaJ69y4puSlPL2QQ7Y1E0abZ1waGdYJLQnzLI
 3AMG6m_QFuH1o9lcdgJzLlfWc0p8_Lbftf7tJhAi05vw8HawjdsQuUT&enc=AZO0gjsmMZeAhke
 jjXnvqGSl7lcbZyBLtX0aFHMtoRsOxw_NpLipDuocbKa9w6A_Ypo&s=1" target="_blank" r
 el="nofollow noopener nofollow">http://www.dehavik.be/<wbr style="margin: 0
 px; padding: 0px;" />feest</a><br style="margin: 0px; padding: 0px;" /><br 
 style="margin: 0px; padding: 0px;" />Wij hebben er alvast heel veel zin in,
  hopelijk u ook! </span></p>
DTSTAMP:20260421T232846Z
DTSTART;TZID=Europe/Brussels:20170318T170000
DTEND;TZID=Europe/Brussels:20170318T235900
SEQUENCE:0
TRANSP:OPAQUE
END:VEVENT
END:VCALENDAR