BEGIN:VCALENDAR
VERSION:2.0
PRODID:-//jEvents 2.0 for Joomla//EN
CALSCALE:GREGORIAN
METHOD:PUBLISH
BEGIN:VTIMEZONE
TZID:Europe/Brussels
BEGIN:STANDARD
DTSTART:20160127T000000
RDATE:20160327T030000
TZOFFSETFROM:+0200
TZOFFSETTO:+0100
TZNAME:Europe/Brussels CET
END:STANDARD
BEGIN:STANDARD
DTSTART:20161030T020000
RDATE:20170326T030000
TZOFFSETFROM:+0200
TZOFFSETTO:+0100
TZNAME:Europe/Brussels CET
END:STANDARD
BEGIN:STANDARD
DTSTART:20171029T020000
RDATE:20180325T030000
TZOFFSETFROM:+0200
TZOFFSETTO:+0100
TZNAME:Europe/Brussels CET
END:STANDARD
BEGIN:STANDARD
DTSTART:20181028T020000
RDATE:20190331T030000
TZOFFSETFROM:+0200
TZOFFSETTO:+0100
TZNAME:Europe/Brussels CET
END:STANDARD
BEGIN:STANDARD
DTSTART:20191027T020000
RDATE:20200329T030000
TZOFFSETFROM:+0200
TZOFFSETTO:+0100
TZNAME:Europe/Brussels CET
END:STANDARD
BEGIN:STANDARD
DTSTART:20201025T020000
RDATE:20210328T030000
TZOFFSETFROM:+0200
TZOFFSETTO:+0100
TZNAME:Europe/Brussels CET
END:STANDARD
BEGIN:STANDARD
DTSTART:20211031T020000
RDATE:20220327T030000
TZOFFSETFROM:+0200
TZOFFSETTO:+0100
TZNAME:Europe/Brussels CET
END:STANDARD
BEGIN:STANDARD
DTSTART:20221030T020000
RDATE:20230326T030000
TZOFFSETFROM:+0200
TZOFFSETTO:+0100
TZNAME:Europe/Brussels CET
END:STANDARD
BEGIN:STANDARD
DTSTART:20231029T020000
RDATE:20240331T030000
TZOFFSETFROM:+0200
TZOFFSETTO:+0100
TZNAME:Europe/Brussels CET
END:STANDARD
BEGIN:STANDARD
DTSTART:20241027T020000
RDATE:20250330T030000
TZOFFSETFROM:+0200
TZOFFSETTO:+0100
TZNAME:Europe/Brussels CET
END:STANDARD
BEGIN:STANDARD
DTSTART:20251026T020000
RDATE:20260329T030000
TZOFFSETFROM:+0200
TZOFFSETTO:+0100
TZNAME:Europe/Brussels CET
END:STANDARD
BEGIN:STANDARD
DTSTART:20261025T020000
RDATE:20270328T030000
TZOFFSETFROM:+0200
TZOFFSETTO:+0100
TZNAME:Europe/Brussels CET
END:STANDARD
BEGIN:STANDARD
DTSTART:20271031T020000
RDATE:20280326T030000
TZOFFSETFROM:+0200
TZOFFSETTO:+0100
TZNAME:Europe/Brussels CET
END:STANDARD
BEGIN:STANDARD
DTSTART:20281029T020000
RDATE:20290325T030000
TZOFFSETFROM:+0200
TZOFFSETTO:+0100
TZNAME:Europe/Brussels CET
END:STANDARD
BEGIN:STANDARD
DTSTART:20291028T020000
RDATE:20300331T030000
TZOFFSETFROM:+0200
TZOFFSETTO:+0100
TZNAME:Europe/Brussels CET
END:STANDARD
BEGIN:STANDARD
DTSTART:20301027T020000
RDATE:20310330T030000
TZOFFSETFROM:+0200
TZOFFSETTO:+0100
TZNAME:Europe/Brussels CET
END:STANDARD
BEGIN:DAYLIGHT
DTSTART:20160327T030000
RDATE:20161030T020000
TZOFFSETFROM:+0100
TZOFFSETTO:+0200
TZNAME:Europe/Brussels CEST
END:DAYLIGHT
BEGIN:DAYLIGHT
DTSTART:20170326T030000
RDATE:20171029T020000
TZOFFSETFROM:+0100
TZOFFSETTO:+0200
TZNAME:Europe/Brussels CEST
END:DAYLIGHT
BEGIN:DAYLIGHT
DTSTART:20180325T030000
RDATE:20181028T020000
TZOFFSETFROM:+0100
TZOFFSETTO:+0200
TZNAME:Europe/Brussels CEST
END:DAYLIGHT
BEGIN:DAYLIGHT
DTSTART:20190331T030000
RDATE:20191027T020000
TZOFFSETFROM:+0100
TZOFFSETTO:+0200
TZNAME:Europe/Brussels CEST
END:DAYLIGHT
BEGIN:DAYLIGHT
DTSTART:20200329T030000
RDATE:20201025T020000
TZOFFSETFROM:+0100
TZOFFSETTO:+0200
TZNAME:Europe/Brussels CEST
END:DAYLIGHT
BEGIN:DAYLIGHT
DTSTART:20210328T030000
RDATE:20211031T020000
TZOFFSETFROM:+0100
TZOFFSETTO:+0200
TZNAME:Europe/Brussels CEST
END:DAYLIGHT
BEGIN:DAYLIGHT
DTSTART:20220327T030000
RDATE:20221030T020000
TZOFFSETFROM:+0100
TZOFFSETTO:+0200
TZNAME:Europe/Brussels CEST
END:DAYLIGHT
BEGIN:DAYLIGHT
DTSTART:20230326T030000
RDATE:20231029T020000
TZOFFSETFROM:+0100
TZOFFSETTO:+0200
TZNAME:Europe/Brussels CEST
END:DAYLIGHT
BEGIN:DAYLIGHT
DTSTART:20240331T030000
RDATE:20241027T020000
TZOFFSETFROM:+0100
TZOFFSETTO:+0200
TZNAME:Europe/Brussels CEST
END:DAYLIGHT
BEGIN:DAYLIGHT
DTSTART:20250330T030000
RDATE:20251026T020000
TZOFFSETFROM:+0100
TZOFFSETTO:+0200
TZNAME:Europe/Brussels CEST
END:DAYLIGHT
BEGIN:DAYLIGHT
DTSTART:20260329T030000
RDATE:20261025T020000
TZOFFSETFROM:+0100
TZOFFSETTO:+0200
TZNAME:Europe/Brussels CEST
END:DAYLIGHT
BEGIN:DAYLIGHT
DTSTART:20270328T030000
RDATE:20271031T020000
TZOFFSETFROM:+0100
TZOFFSETTO:+0200
TZNAME:Europe/Brussels CEST
END:DAYLIGHT
BEGIN:DAYLIGHT
DTSTART:20280326T030000
RDATE:20281029T020000
TZOFFSETFROM:+0100
TZOFFSETTO:+0200
TZNAME:Europe/Brussels CEST
END:DAYLIGHT
BEGIN:DAYLIGHT
DTSTART:20290325T030000
RDATE:20291028T020000
TZOFFSETFROM:+0100
TZOFFSETTO:+0200
TZNAME:Europe/Brussels CEST
END:DAYLIGHT
BEGIN:DAYLIGHT
DTSTART:20300331T030000
RDATE:20301027T020000
TZOFFSETFROM:+0100
TZOFFSETTO:+0200
TZNAME:Europe/Brussels CEST
END:DAYLIGHT
END:VTIMEZONE
BEGIN:VEVENT
UID:57645fe3f82783045c2edf1cbaf40b42
CATEGORIES:Eenheid
CREATED:20161008T111818
SUMMARY:Winterweekend (voor het hele gezin)
LOCATION:Isara, Nieuwpoort
DESCRIPTION;ENCODING=QUOTED-PRINTABLE:We pikken de draad terug op.\nNet als vroeger gaan we in het scoutsjaar 201
 6-2017 terug op winterweekend.  Dit zal plaatsvinden in het weekend van 27 
 – 29 januari 2017 in jeugdverblijf Isara te Nieuwpoort.  De bedoeling is ee
 n fijn weekend te beleven met ouders en kinderen.\nEen groepje enthousiaste
 lingen zal de activiteiten uitwerken om een onvergetelijk weekend te beleve
 n!\n Wie kan mee: Iedereen tussen 0 en 99 jaar. Ouders, vrijwilligers, kind
 eren enzoverder. \n De zaterdagmiddagactiviteiten in De Pinte blijven doorg
 aan, kindjes mee op Winterweekend gaan dus niet naar de vergadering.\nLet o
 p, plaatsen zijn beperkt. Isara heeft een maximumcapaciteit van 60 personen
 .\nWe werken met voorinschrijvingen. Er wordt een voorschot van €15 per per
 soon gevraagd.\nAfhankelijk van het aantal inschrijvingen zal de totale pri
 js dan berekend worden.\n Inschrijven doe je door te mailen naar Dit e-mail
 adres wordt beveiligd tegen spambots. JavaScript dient ingeschakeld te zijn
  om het te bekijken.
				document.getElementById('cloak02fe1e28f74a48b0b0d0
 249f380f2ae3').innerHTML = '';
				var prefix = '&#109;a' + 'i&#108;' + '&#
 116;o';
				var path = 'hr' + 'ef' + '=';
				var addy02fe1e28f74a48b0b0d02
 49f380f2ae3 = 'w&#105;nt&#101;rw&#101;&#101;k&#101;nd.d&#101;h&#97;v&#105;k
 ' + '&#64;';
				addy02fe1e28f74a48b0b0d0249f380f2ae3 = addy02fe1e28f74a48b
 0b0d0249f380f2ae3 + 'gm&#97;&#105;l' + '&#46;' + 'c&#111;m';
				var addy_t
 ext02fe1e28f74a48b0b0d0249f380f2ae3 = 'w&#105;nt&#101;rw&#101;&#101;k&#101;
 nd.d&#101;h&#97;v&#105;k' + '&#64;' + 'gm&#97;&#105;l' + '&#46;' + 'c&#111;
 m';document.getElementById('cloak02fe1e28f74a48b0b0d0249f380f2ae3').innerHT
 ML += ''+addy_text02fe1e28f74a48b0b0d0249f380f2ae3+'';
		. Laat weten met h
 oeveel personen jullie zijn + leeftijd van eventuele kindjes. Wij sturen ee
 n mailtje terug met de details voor betaling van het voorschot en verdere i
 nformatie. LET OP: pas na betaling is de inschrijving voldaan!\n Meer infor
 matie kan je bekomen via Dit e-mailadres wordt beveiligd tegen spambots. Ja
 vaScript dient ingeschakeld te zijn om het te bekijken.
				document.getEle
 mentById('cloake0fd9ac99b6d63b344901a87c0a788b9').innerHTML = '';
				var p
 refix = '&#109;a' + 'i&#108;' + '&#116;o';
				var path = 'hr' + 'ef' + '='
 ;
				var addye0fd9ac99b6d63b344901a87c0a788b9 = 'w&#105;nt&#101;rw&#101;&#
 101;k&#101;nd.d&#101;h&#97;v&#105;k' + '&#64;';
				addye0fd9ac99b6d63b3449
 01a87c0a788b9 = addye0fd9ac99b6d63b344901a87c0a788b9 + 'gm&#97;&#105;l' + '
 &#46;' + 'c&#111;m';
				var addy_texte0fd9ac99b6d63b344901a87c0a788b9 = 'w
 &#105;nt&#101;rw&#101;&#101;k&#101;nd.d&#101;h&#97;v&#105;k' + '&#64;' + 'g
 m&#97;&#105;l' + '&#46;' + 'c&#111;m';document.getElementById('cloake0fd9ac
 99b6d63b344901a87c0a788b9').innerHTML += ''+addy_texte0fd9ac99b6d63b344901a
 87c0a788b9+'';
		\n\n
DTSTAMP:20260422T040346Z
DTSTART;TZID=Europe/Brussels;VALUE=DATE:20170127
DTEND;TZID=Europe/Brussels;VALUE=DATE:20170130
SEQUENCE:0
TRANSP:OPAQUE
END:VEVENT
END:VCALENDAR