BEGIN:VCALENDAR
VERSION:2.0
PRODID:-//jEvents 2.0 for Joomla//EN
CALSCALE:GREGORIAN
METHOD:PUBLISH
BEGIN:VTIMEZONE
TZID:Europe/Brussels
BEGIN:STANDARD
DTSTART:20221117T180000
RDATE:20230326T030000
TZOFFSETFROM:+0200
TZOFFSETTO:+0100
TZNAME:Europe/Brussels CET
END:STANDARD
BEGIN:STANDARD
DTSTART:20231029T020000
RDATE:20240331T030000
TZOFFSETFROM:+0200
TZOFFSETTO:+0100
TZNAME:Europe/Brussels CET
END:STANDARD
BEGIN:STANDARD
DTSTART:20241027T020000
RDATE:20250330T030000
TZOFFSETFROM:+0200
TZOFFSETTO:+0100
TZNAME:Europe/Brussels CET
END:STANDARD
BEGIN:STANDARD
DTSTART:20251026T020000
RDATE:20260329T030000
TZOFFSETFROM:+0200
TZOFFSETTO:+0100
TZNAME:Europe/Brussels CET
END:STANDARD
BEGIN:STANDARD
DTSTART:20261025T020000
RDATE:20270328T030000
TZOFFSETFROM:+0200
TZOFFSETTO:+0100
TZNAME:Europe/Brussels CET
END:STANDARD
BEGIN:STANDARD
DTSTART:20271031T020000
RDATE:20280326T030000
TZOFFSETFROM:+0200
TZOFFSETTO:+0100
TZNAME:Europe/Brussels CET
END:STANDARD
BEGIN:STANDARD
DTSTART:20281029T020000
RDATE:20290325T030000
TZOFFSETFROM:+0200
TZOFFSETTO:+0100
TZNAME:Europe/Brussels CET
END:STANDARD
BEGIN:STANDARD
DTSTART:20291028T020000
RDATE:20300331T030000
TZOFFSETFROM:+0200
TZOFFSETTO:+0100
TZNAME:Europe/Brussels CET
END:STANDARD
BEGIN:STANDARD
DTSTART:20301027T020000
RDATE:20310330T030000
TZOFFSETFROM:+0200
TZOFFSETTO:+0100
TZNAME:Europe/Brussels CET
END:STANDARD
BEGIN:DAYLIGHT
DTSTART:20230326T030000
RDATE:20231029T020000
TZOFFSETFROM:+0100
TZOFFSETTO:+0200
TZNAME:Europe/Brussels CEST
END:DAYLIGHT
BEGIN:DAYLIGHT
DTSTART:20240331T030000
RDATE:20241027T020000
TZOFFSETFROM:+0100
TZOFFSETTO:+0200
TZNAME:Europe/Brussels CEST
END:DAYLIGHT
BEGIN:DAYLIGHT
DTSTART:20250330T030000
RDATE:20251026T020000
TZOFFSETFROM:+0100
TZOFFSETTO:+0200
TZNAME:Europe/Brussels CEST
END:DAYLIGHT
BEGIN:DAYLIGHT
DTSTART:20260329T030000
RDATE:20261025T020000
TZOFFSETFROM:+0100
TZOFFSETTO:+0200
TZNAME:Europe/Brussels CEST
END:DAYLIGHT
BEGIN:DAYLIGHT
DTSTART:20270328T030000
RDATE:20271031T020000
TZOFFSETFROM:+0100
TZOFFSETTO:+0200
TZNAME:Europe/Brussels CEST
END:DAYLIGHT
BEGIN:DAYLIGHT
DTSTART:20280326T030000
RDATE:20281029T020000
TZOFFSETFROM:+0100
TZOFFSETTO:+0200
TZNAME:Europe/Brussels CEST
END:DAYLIGHT
BEGIN:DAYLIGHT
DTSTART:20290325T030000
RDATE:20291028T020000
TZOFFSETFROM:+0100
TZOFFSETTO:+0200
TZNAME:Europe/Brussels CEST
END:DAYLIGHT
BEGIN:DAYLIGHT
DTSTART:20300331T030000
RDATE:20301027T020000
TZOFFSETFROM:+0100
TZOFFSETTO:+0200
TZNAME:Europe/Brussels CEST
END:DAYLIGHT
END:VTIMEZONE
BEGIN:VEVENT
UID:a163bb4b241be604ca76ef490d4e18b6
CATEGORIES:Leiding
CREATED:20231027T163918
SUMMARY:ER2
LOCATION:sportwegel 7
DESCRIPTION;ENCODING=QUOTED-PRINTABLE:\n\nJOEPIEEEE WEER EEN ER!!!\n\n\nEr wordt veel besproken dus zie dat julli
 e hier allemaal op tijd en met nuchtere gedachten staan!!\n\n\n\n\n\n&nbsp;
 \n\n\n&nbsp;\n\n\n&nbsp;\n\n\n&nbsp;\n\n\n&nbsp;\n\n\n&nbsp;\n\n\n&nbsp;\n\
 n\n&nbsp;\n\n\n&nbsp;\n\n\nvragen mogen naar: Dit e-mailadres wordt beveili
 gd tegen spambots. JavaScript dient ingeschakeld te zijn om het te bekijken
 .
				document.getElementById('cloakd05970992a8c2fb42427e10aaf052618').inne
 rHTML = '';
				var prefix = '&#109;a' + 'i&#108;' + '&#116;o';
				var pat
 h = 'hr' + 'ef' + '=';
				var addyd05970992a8c2fb42427e10aaf052618 = 'dr&#
 111;ng&#111;' + '&#64;';
				addyd05970992a8c2fb42427e10aaf052618 = addyd05
 970992a8c2fb42427e10aaf052618 + 'd&#101;h&#97;v&#105;k' + '&#46;' + 'b&#101
 ;';
				var addy_textd05970992a8c2fb42427e10aaf052618 = 'dr&#111;ng&#111;' 
 + '&#64;' + 'd&#101;h&#97;v&#105;k' + '&#46;' + 'b&#101;';document.getEleme
 ntById('cloakd05970992a8c2fb42427e10aaf052618').innerHTML += ''+addy_textd0
 5970992a8c2fb42427e10aaf052618+'';
		\n\n\n&nbsp;\n
DTSTAMP:20260424T053811Z
DTSTART;TZID=Europe/Brussels:20231118T180000
DTEND;TZID=Europe/Brussels:20231118T000000
SEQUENCE:0
TRANSP:OPAQUE
END:VEVENT
END:VCALENDAR