BEGIN:VCALENDAR
VERSION:2.0
PRODID:-//jEvents 2.0 for Joomla//EN
CALSCALE:GREGORIAN
METHOD:PUBLISH
BEGIN:VTIMEZONE
TZID:Europe/Brussels
BEGIN:STANDARD
DTSTART:20210325T143000
RDATE:20210328T030000
TZOFFSETFROM:+0200
TZOFFSETTO:+0100
TZNAME:Europe/Brussels CET
END:STANDARD
BEGIN:STANDARD
DTSTART:20211031T020000
RDATE:20220327T030000
TZOFFSETFROM:+0200
TZOFFSETTO:+0100
TZNAME:Europe/Brussels CET
END:STANDARD
BEGIN:STANDARD
DTSTART:20221030T020000
RDATE:20230326T030000
TZOFFSETFROM:+0200
TZOFFSETTO:+0100
TZNAME:Europe/Brussels CET
END:STANDARD
BEGIN:STANDARD
DTSTART:20231029T020000
RDATE:20240331T030000
TZOFFSETFROM:+0200
TZOFFSETTO:+0100
TZNAME:Europe/Brussels CET
END:STANDARD
BEGIN:STANDARD
DTSTART:20241027T020000
RDATE:20250330T030000
TZOFFSETFROM:+0200
TZOFFSETTO:+0100
TZNAME:Europe/Brussels CET
END:STANDARD
BEGIN:STANDARD
DTSTART:20251026T020000
RDATE:20260329T030000
TZOFFSETFROM:+0200
TZOFFSETTO:+0100
TZNAME:Europe/Brussels CET
END:STANDARD
BEGIN:STANDARD
DTSTART:20261025T020000
RDATE:20270328T030000
TZOFFSETFROM:+0200
TZOFFSETTO:+0100
TZNAME:Europe/Brussels CET
END:STANDARD
BEGIN:STANDARD
DTSTART:20271031T020000
RDATE:20280326T030000
TZOFFSETFROM:+0200
TZOFFSETTO:+0100
TZNAME:Europe/Brussels CET
END:STANDARD
BEGIN:STANDARD
DTSTART:20281029T020000
RDATE:20290325T030000
TZOFFSETFROM:+0200
TZOFFSETTO:+0100
TZNAME:Europe/Brussels CET
END:STANDARD
BEGIN:STANDARD
DTSTART:20291028T020000
RDATE:20300331T030000
TZOFFSETFROM:+0200
TZOFFSETTO:+0100
TZNAME:Europe/Brussels CET
END:STANDARD
BEGIN:STANDARD
DTSTART:20301027T020000
RDATE:20310330T030000
TZOFFSETFROM:+0200
TZOFFSETTO:+0100
TZNAME:Europe/Brussels CET
END:STANDARD
BEGIN:DAYLIGHT
DTSTART:20210328T030000
RDATE:20211031T020000
TZOFFSETFROM:+0100
TZOFFSETTO:+0200
TZNAME:Europe/Brussels CEST
END:DAYLIGHT
BEGIN:DAYLIGHT
DTSTART:20220327T030000
RDATE:20221030T020000
TZOFFSETFROM:+0100
TZOFFSETTO:+0200
TZNAME:Europe/Brussels CEST
END:DAYLIGHT
BEGIN:DAYLIGHT
DTSTART:20230326T030000
RDATE:20231029T020000
TZOFFSETFROM:+0100
TZOFFSETTO:+0200
TZNAME:Europe/Brussels CEST
END:DAYLIGHT
BEGIN:DAYLIGHT
DTSTART:20240331T030000
RDATE:20241027T020000
TZOFFSETFROM:+0100
TZOFFSETTO:+0200
TZNAME:Europe/Brussels CEST
END:DAYLIGHT
BEGIN:DAYLIGHT
DTSTART:20250330T030000
RDATE:20251026T020000
TZOFFSETFROM:+0100
TZOFFSETTO:+0200
TZNAME:Europe/Brussels CEST
END:DAYLIGHT
BEGIN:DAYLIGHT
DTSTART:20260329T030000
RDATE:20261025T020000
TZOFFSETFROM:+0100
TZOFFSETTO:+0200
TZNAME:Europe/Brussels CEST
END:DAYLIGHT
BEGIN:DAYLIGHT
DTSTART:20270328T030000
RDATE:20271031T020000
TZOFFSETFROM:+0100
TZOFFSETTO:+0200
TZNAME:Europe/Brussels CEST
END:DAYLIGHT
BEGIN:DAYLIGHT
DTSTART:20280326T030000
RDATE:20281029T020000
TZOFFSETFROM:+0100
TZOFFSETTO:+0200
TZNAME:Europe/Brussels CEST
END:DAYLIGHT
BEGIN:DAYLIGHT
DTSTART:20290325T030000
RDATE:20291028T020000
TZOFFSETFROM:+0100
TZOFFSETTO:+0200
TZNAME:Europe/Brussels CEST
END:DAYLIGHT
BEGIN:DAYLIGHT
DTSTART:20300331T030000
RDATE:20301027T020000
TZOFFSETFROM:+0100
TZOFFSETTO:+0200
TZNAME:Europe/Brussels CEST
END:DAYLIGHT
END:VTIMEZONE
BEGIN:VEVENT
UID:9b22124ca0dcc9c479d49aaccb0c4cdc
CATEGORIES:Comité
CREATED:20220222T223930
SUMMARY:Naaikransje
LOCATION:Scoutsbar
DESCRIPTION;ENCODING=QUOTED-PRINTABLE:Op&nbsp;zaterdag 26 maart&nbsp;zal het tweede naaikransje van het scoutsjaa
 r&nbsp;plaatsvinden!&nbsp;Iedereen is welkom&nbsp;om 14u30 in de bar van de
  scouts!&nbsp;&nbsp;Koffie en taart worden uiteraard voorzien!&nbsp;Mag ik 
 vragen om een seintje te geven via Dit e-mailadres wordt beveiligd tegen sp
 ambots. JavaScript dient ingeschakeld te zijn om het te bekijken.
				docum
 ent.getElementById('cloakc5bc44a1cf00261a50f7a8bcdaeaac99').innerHTML = '';
 
				var prefix = '&#109;a' + 'i&#108;' + '&#116;o';
				var path = 'hr' + 
 'ef' + '=';
				var addyc5bc44a1cf00261a50f7a8bcdaeaac99 = '&#101;&#101;nh&
 #101;&#105;dsl&#101;&#105;d&#105;ng' + '&#64;';
				addyc5bc44a1cf00261a50f
 7a8bcdaeaac99 = addyc5bc44a1cf00261a50f7a8bcdaeaac99 + 'd&#101;h&#97;v&#105
 ;k' + '&#46;' + 'b&#101;';
				var addy_textc5bc44a1cf00261a50f7a8bcdaeaac9
 9 = '&#101;&#101;nh&#101;&#105;dsl&#101;&#105;d&#105;ng' + '&#64;' + 'd&#10
 1;h&#97;v&#105;k' + '&#46;' + 'b&#101;';document.getElementById('cloakc5bc4
 4a1cf00261a50f7a8bcdaeaac99').innerHTML += ''+addy_textc5bc44a1cf00261a50f7
 a8bcdaeaac99+'';
		 als&nbsp;je&nbsp;kan komen en zo ja, als&nbsp;je&nbsp;k
 omt met of zonder naaimachine.&nbsp;Kan je niet naaien? Geen probleem, er i
 s een werkje voor iedereen.&nbsp;&nbsp;Alvast bedankt!
CONTACT:Ann
DTSTAMP:20260424T035826Z
DTSTART;TZID=Europe/Brussels:20220326T143000
DTEND;TZID=Europe/Brussels:20220326T173000
SEQUENCE:0
TRANSP:OPAQUE
END:VEVENT
END:VCALENDAR