BEGIN:VCALENDAR
VERSION:2.0
PRODID:-//jEvents 2.0 for Joomla//EN
CALSCALE:GREGORIAN
METHOD:PUBLISH
BEGIN:VTIMEZONE
TZID:Europe/Brussels
BEGIN:STANDARD
DTSTART:20191027T020000
RDATE:20200329T030000
TZOFFSETFROM:+0200
TZOFFSETTO:+0100
TZNAME:Europe/Brussels CET
END:STANDARD
BEGIN:STANDARD
DTSTART:20201025T020000
RDATE:20210328T030000
TZOFFSETFROM:+0200
TZOFFSETTO:+0100
TZNAME:Europe/Brussels CET
END:STANDARD
BEGIN:STANDARD
DTSTART:20211031T020000
RDATE:20220327T030000
TZOFFSETFROM:+0200
TZOFFSETTO:+0100
TZNAME:Europe/Brussels CET
END:STANDARD
BEGIN:STANDARD
DTSTART:20221030T020000
RDATE:20230326T030000
TZOFFSETFROM:+0200
TZOFFSETTO:+0100
TZNAME:Europe/Brussels CET
END:STANDARD
BEGIN:STANDARD
DTSTART:20231029T020000
RDATE:20240331T030000
TZOFFSETFROM:+0200
TZOFFSETTO:+0100
TZNAME:Europe/Brussels CET
END:STANDARD
BEGIN:STANDARD
DTSTART:20241027T020000
RDATE:20250330T030000
TZOFFSETFROM:+0200
TZOFFSETTO:+0100
TZNAME:Europe/Brussels CET
END:STANDARD
BEGIN:STANDARD
DTSTART:20251026T020000
RDATE:20260329T030000
TZOFFSETFROM:+0200
TZOFFSETTO:+0100
TZNAME:Europe/Brussels CET
END:STANDARD
BEGIN:STANDARD
DTSTART:20261025T020000
RDATE:20270328T030000
TZOFFSETFROM:+0200
TZOFFSETTO:+0100
TZNAME:Europe/Brussels CET
END:STANDARD
BEGIN:STANDARD
DTSTART:20271031T020000
RDATE:20280326T030000
TZOFFSETFROM:+0200
TZOFFSETTO:+0100
TZNAME:Europe/Brussels CET
END:STANDARD
BEGIN:STANDARD
DTSTART:20281029T020000
RDATE:20290325T030000
TZOFFSETFROM:+0200
TZOFFSETTO:+0100
TZNAME:Europe/Brussels CET
END:STANDARD
BEGIN:STANDARD
DTSTART:20291028T020000
RDATE:20300331T030000
TZOFFSETFROM:+0200
TZOFFSETTO:+0100
TZNAME:Europe/Brussels CET
END:STANDARD
BEGIN:STANDARD
DTSTART:20301027T020000
RDATE:20310330T030000
TZOFFSETFROM:+0200
TZOFFSETTO:+0100
TZNAME:Europe/Brussels CET
END:STANDARD
BEGIN:DAYLIGHT
DTSTART:20190507T200000
RDATE:20191027T020000
TZOFFSETFROM:+0100
TZOFFSETTO:+0200
TZNAME:Europe/Brussels CEST
END:DAYLIGHT
BEGIN:DAYLIGHT
DTSTART:20200329T030000
RDATE:20201025T020000
TZOFFSETFROM:+0100
TZOFFSETTO:+0200
TZNAME:Europe/Brussels CEST
END:DAYLIGHT
BEGIN:DAYLIGHT
DTSTART:20210328T030000
RDATE:20211031T020000
TZOFFSETFROM:+0100
TZOFFSETTO:+0200
TZNAME:Europe/Brussels CEST
END:DAYLIGHT
BEGIN:DAYLIGHT
DTSTART:20220327T030000
RDATE:20221030T020000
TZOFFSETFROM:+0100
TZOFFSETTO:+0200
TZNAME:Europe/Brussels CEST
END:DAYLIGHT
BEGIN:DAYLIGHT
DTSTART:20230326T030000
RDATE:20231029T020000
TZOFFSETFROM:+0100
TZOFFSETTO:+0200
TZNAME:Europe/Brussels CEST
END:DAYLIGHT
BEGIN:DAYLIGHT
DTSTART:20240331T030000
RDATE:20241027T020000
TZOFFSETFROM:+0100
TZOFFSETTO:+0200
TZNAME:Europe/Brussels CEST
END:DAYLIGHT
BEGIN:DAYLIGHT
DTSTART:20250330T030000
RDATE:20251026T020000
TZOFFSETFROM:+0100
TZOFFSETTO:+0200
TZNAME:Europe/Brussels CEST
END:DAYLIGHT
BEGIN:DAYLIGHT
DTSTART:20260329T030000
RDATE:20261025T020000
TZOFFSETFROM:+0100
TZOFFSETTO:+0200
TZNAME:Europe/Brussels CEST
END:DAYLIGHT
BEGIN:DAYLIGHT
DTSTART:20270328T030000
RDATE:20271031T020000
TZOFFSETFROM:+0100
TZOFFSETTO:+0200
TZNAME:Europe/Brussels CEST
END:DAYLIGHT
BEGIN:DAYLIGHT
DTSTART:20280326T030000
RDATE:20281029T020000
TZOFFSETFROM:+0100
TZOFFSETTO:+0200
TZNAME:Europe/Brussels CEST
END:DAYLIGHT
BEGIN:DAYLIGHT
DTSTART:20290325T030000
RDATE:20291028T020000
TZOFFSETFROM:+0100
TZOFFSETTO:+0200
TZNAME:Europe/Brussels CEST
END:DAYLIGHT
BEGIN:DAYLIGHT
DTSTART:20300331T030000
RDATE:20301027T020000
TZOFFSETFROM:+0100
TZOFFSETTO:+0200
TZNAME:Europe/Brussels CEST
END:DAYLIGHT
END:VTIMEZONE
BEGIN:VEVENT
UID:35cd1a7951367066fa76aa7419d542ec
CATEGORIES:Comité
CREATED:20190726T111008
SUMMARY:Algemene Vergadering + Raad van Bestuur vzw Eenheidscomité De Havik
LOCATION:Lokaal De Havik
DESCRIPTION;ENCODING=QUOTED-PRINTABLE:\n\nAve ouders, sympathisanten en leiding van De Havik,\n\n\nGraag nodigen 
 wij jullie uit op de Algemene Vergadering van vzw Eenheidscomité De Havik o
 p donderdag 4 juni 2020 om 20u. Uitzonderlijk zal dit via Microsoft Teams g
 ebeuren. De link ontvang je in de week van 1 juni. Als je deze uitnodiging 
 niet via email ontvangen hebt en de AV wil bijwonen, stuur een mailtje naar
  Dit e-mailadres wordt beveiligd tegen spambots. JavaScript dient ingeschak
 eld te zijn om het te bekijken.
				document.getElementById('cloak23c0ad2b4
 a370b5655f7af3469a9eb9a').innerHTML = '';
				var prefix = '&#109;a' + 'i&#
 108;' + '&#116;o';
				var path = 'hr' + 'ef' + '=';
				var addy23c0ad2b4a
 370b5655f7af3469a9eb9a = 'v&#111;&#111;rz&#105;tt&#101;r' + '&#64;';
				ad
 dy23c0ad2b4a370b5655f7af3469a9eb9a = addy23c0ad2b4a370b5655f7af3469a9eb9a +
  'd&#101;h&#97;v&#105;k' + '&#46;' + 'b&#101;';
				var addy_text23c0ad2b4a
 370b5655f7af3469a9eb9a = 'v&#111;&#111;rz&#105;tt&#101;r' + '&#64;' + 'd&#1
 01;h&#97;v&#105;k' + '&#46;' + 'b&#101;';document.getElementById('cloak23c0
 ad2b4a370b5655f7af3469a9eb9a').innerHTML += ''+addy_text23c0ad2b4a370b5655f
 7af3469a9eb9a+'';
		 om de uitnodiging met agenda, verslag en volmachtformu
 lier te ontvangen.\n\n\nAansluitend houden we de gewoonlijke maandelijkse c
 omitévergadering (raad van bestuur). Hopelijk kunnen we dan veel bespreken.
 \n\n\nZie ook het artikel op de website.\n
CONTACT:Dit e-mailadres wordt beveiligd tegen spambots. JavaScript dient ingeschakeld te zijn om het te bekijken.
				document.getElementById('cloak1d815720644a7529a26ea1f71f98ee43').innerHTML = '';
				var prefix = '&#109;a' + 'i&#108;' + '&#116;o';
				var path = 'hr' + 'ef' + '=';
				var addy1d815720644a7529a26ea1f71f98ee43 = 'c&#111;mm&#117;n&#105;c&#97;t&#105;&#101;' + '&#64;';
				addy1d815720644a7529a26ea1f71f98ee43 = addy1d815720644a7529a26ea1f71f98ee43 + 'd&#101;h&#97;v&#105;k' + '&#46;' + 'b&#101;';
				var addy_text1d815720644a7529a26ea1f71f98ee43 = 'c&#111;mm&#117;n&#105;c&#97;t&#105;&#101;' + '&#64;' + 'd&#101;h&#97;v&#105;k' + '&#46;' + 'b&#101;';document.getElementById('cloak1d815720644a7529a26ea1f71f98ee43').innerHTML += ''+addy_text1d815720644a7529a26ea1f71f98ee43+'';
		
DTSTAMP:20260424T094611Z
DTSTART;TZID=Europe/Brussels:20200507T200000
DTEND;TZID=Europe/Brussels:20200507T220000
SEQUENCE:0
TRANSP:OPAQUE
END:VEVENT
END:VCALENDAR