BEGIN:VCALENDAR
VERSION:2.0
PRODID:-//jEvents 2.0 for Joomla//EN
CALSCALE:GREGORIAN
METHOD:PUBLISH
BEGIN:VTIMEZONE
TZID:Europe/Brussels
BEGIN:STANDARD
DTSTART:20181028T020000
RDATE:20190331T030000
TZOFFSETFROM:+0200
TZOFFSETTO:+0100
TZNAME:Europe/Brussels CET
END:STANDARD
BEGIN:STANDARD
DTSTART:20191027T020000
RDATE:20200329T030000
TZOFFSETFROM:+0200
TZOFFSETTO:+0100
TZNAME:Europe/Brussels CET
END:STANDARD
BEGIN:STANDARD
DTSTART:20201025T020000
RDATE:20210328T030000
TZOFFSETFROM:+0200
TZOFFSETTO:+0100
TZNAME:Europe/Brussels CET
END:STANDARD
BEGIN:STANDARD
DTSTART:20211031T020000
RDATE:20220327T030000
TZOFFSETFROM:+0200
TZOFFSETTO:+0100
TZNAME:Europe/Brussels CET
END:STANDARD
BEGIN:STANDARD
DTSTART:20221030T020000
RDATE:20230326T030000
TZOFFSETFROM:+0200
TZOFFSETTO:+0100
TZNAME:Europe/Brussels CET
END:STANDARD
BEGIN:STANDARD
DTSTART:20231029T020000
RDATE:20240331T030000
TZOFFSETFROM:+0200
TZOFFSETTO:+0100
TZNAME:Europe/Brussels CET
END:STANDARD
BEGIN:STANDARD
DTSTART:20241027T020000
RDATE:20250330T030000
TZOFFSETFROM:+0200
TZOFFSETTO:+0100
TZNAME:Europe/Brussels CET
END:STANDARD
BEGIN:STANDARD
DTSTART:20251026T020000
RDATE:20260329T030000
TZOFFSETFROM:+0200
TZOFFSETTO:+0100
TZNAME:Europe/Brussels CET
END:STANDARD
BEGIN:STANDARD
DTSTART:20261025T020000
RDATE:20270328T030000
TZOFFSETFROM:+0200
TZOFFSETTO:+0100
TZNAME:Europe/Brussels CET
END:STANDARD
BEGIN:STANDARD
DTSTART:20271031T020000
RDATE:20280326T030000
TZOFFSETFROM:+0200
TZOFFSETTO:+0100
TZNAME:Europe/Brussels CET
END:STANDARD
BEGIN:STANDARD
DTSTART:20281029T020000
RDATE:20290325T030000
TZOFFSETFROM:+0200
TZOFFSETTO:+0100
TZNAME:Europe/Brussels CET
END:STANDARD
BEGIN:STANDARD
DTSTART:20291028T020000
RDATE:20300331T030000
TZOFFSETFROM:+0200
TZOFFSETTO:+0100
TZNAME:Europe/Brussels CET
END:STANDARD
BEGIN:STANDARD
DTSTART:20301027T020000
RDATE:20310330T030000
TZOFFSETFROM:+0200
TZOFFSETTO:+0100
TZNAME:Europe/Brussels CET
END:STANDARD
BEGIN:DAYLIGHT
DTSTART:20180503T143000
RDATE:20181028T020000
TZOFFSETFROM:+0100
TZOFFSETTO:+0200
TZNAME:Europe/Brussels CEST
END:DAYLIGHT
BEGIN:DAYLIGHT
DTSTART:20190331T030000
RDATE:20191027T020000
TZOFFSETFROM:+0100
TZOFFSETTO:+0200
TZNAME:Europe/Brussels CEST
END:DAYLIGHT
BEGIN:DAYLIGHT
DTSTART:20200329T030000
RDATE:20201025T020000
TZOFFSETFROM:+0100
TZOFFSETTO:+0200
TZNAME:Europe/Brussels CEST
END:DAYLIGHT
BEGIN:DAYLIGHT
DTSTART:20210328T030000
RDATE:20211031T020000
TZOFFSETFROM:+0100
TZOFFSETTO:+0200
TZNAME:Europe/Brussels CEST
END:DAYLIGHT
BEGIN:DAYLIGHT
DTSTART:20220327T030000
RDATE:20221030T020000
TZOFFSETFROM:+0100
TZOFFSETTO:+0200
TZNAME:Europe/Brussels CEST
END:DAYLIGHT
BEGIN:DAYLIGHT
DTSTART:20230326T030000
RDATE:20231029T020000
TZOFFSETFROM:+0100
TZOFFSETTO:+0200
TZNAME:Europe/Brussels CEST
END:DAYLIGHT
BEGIN:DAYLIGHT
DTSTART:20240331T030000
RDATE:20241027T020000
TZOFFSETFROM:+0100
TZOFFSETTO:+0200
TZNAME:Europe/Brussels CEST
END:DAYLIGHT
BEGIN:DAYLIGHT
DTSTART:20250330T030000
RDATE:20251026T020000
TZOFFSETFROM:+0100
TZOFFSETTO:+0200
TZNAME:Europe/Brussels CEST
END:DAYLIGHT
BEGIN:DAYLIGHT
DTSTART:20260329T030000
RDATE:20261025T020000
TZOFFSETFROM:+0100
TZOFFSETTO:+0200
TZNAME:Europe/Brussels CEST
END:DAYLIGHT
BEGIN:DAYLIGHT
DTSTART:20270328T030000
RDATE:20271031T020000
TZOFFSETFROM:+0100
TZOFFSETTO:+0200
TZNAME:Europe/Brussels CEST
END:DAYLIGHT
BEGIN:DAYLIGHT
DTSTART:20280326T030000
RDATE:20281029T020000
TZOFFSETFROM:+0100
TZOFFSETTO:+0200
TZNAME:Europe/Brussels CEST
END:DAYLIGHT
BEGIN:DAYLIGHT
DTSTART:20290325T030000
RDATE:20291028T020000
TZOFFSETFROM:+0100
TZOFFSETTO:+0200
TZNAME:Europe/Brussels CEST
END:DAYLIGHT
BEGIN:DAYLIGHT
DTSTART:20300331T030000
RDATE:20301027T020000
TZOFFSETFROM:+0100
TZOFFSETTO:+0200
TZNAME:Europe/Brussels CEST
END:DAYLIGHT
END:VTIMEZONE
BEGIN:VEVENT
UID:fa07c730cff84f53893c37127b70835e
CATEGORIES:Comité
CREATED:20190228T065250
SUMMARY:Naaikransje
LOCATION:Lokaal
DESCRIPTION;ENCODING=QUOTED-PRINTABLE:\n\nOnze naaidames verenigen zich andermaal voor het maken van een 50tal ni
 euwe havikdassen. Zij kunnen iedereen met een goede naaimachiene en een pas
 sie voor naaien hierbij gebruiken. Heb je zin om hierbij te helpen? Dan ben
  je zeker welkom, even verwittigen aan An (chef naaisters) of via Dit e-mai
 ladres wordt beveiligd tegen spambots. JavaScript dient ingeschakeld te zij
 n om het te bekijken.
				document.getElementById('cloak836c818c27195391ed6
 b61aa3a980621').innerHTML = '';
				var prefix = '&#109;a' + 'i&#108;' + '&
 #116;o';
				var path = 'hr' + 'ef' + '=';
				var addy836c818c27195391ed6b
 61aa3a980621 = 'c&#111;mm&#117;n&#105;c&#97;t&#105;&#101;' + '&#64;';
				a
 ddy836c818c27195391ed6b61aa3a980621 = addy836c818c27195391ed6b61aa3a980621 
 + 'd&#101;h&#97;v&#105;k' + '&#46;' + 'b&#101;';
				var addy_text836c818c2
 7195391ed6b61aa3a980621 = 'c&#111;mm&#117;n&#105;c&#97;t&#105;&#101;' + '&#
 64;' + 'd&#101;h&#97;v&#105;k' + '&#46;' + 'b&#101;';document.getElementByI
 d('cloak836c818c27195391ed6b61aa3a980621').innerHTML += ''+addy_text836c818
 c27195391ed6b61aa3a980621+'';
		&nbsp;opdat er voldoende taart wordt voorzi
 en voor onder de werkuren ;).\n\n\nTot dan\n
CONTACT:Dit e-mailadres wordt beveiligd tegen spambots. JavaScript dient ingeschakeld te zijn om het te bekijken.
				document.getElementById('cloak272bf0f40a8ae25188ca6ef2aee5ddc4').innerHTML = '';
				var prefix = '&#109;a' + 'i&#108;' + '&#116;o';
				var path = 'hr' + 'ef' + '=';
				var addy272bf0f40a8ae25188ca6ef2aee5ddc4 = 'c&#111;mm&#117;n&#105;c&#97;t&#105;&#101;' + '&#64;';
				addy272bf0f40a8ae25188ca6ef2aee5ddc4 = addy272bf0f40a8ae25188ca6ef2aee5ddc4 + 'd&#101;h&#97;v&#105;k' + '&#46;' + 'b&#101;';
				var addy_text272bf0f40a8ae25188ca6ef2aee5ddc4 = 'c&#111;mm&#117;n&#105;c&#97;t&#105;&#101;' + '&#64;' + 'd&#101;h&#97;v&#105;k' + '&#46;' + 'b&#101;';document.getElementById('cloak272bf0f40a8ae25188ca6ef2aee5ddc4').innerHTML += ''+addy_text272bf0f40a8ae25188ca6ef2aee5ddc4+'';
		
DTSTAMP:20260424T094730Z
DTSTART;TZID=Europe/Brussels:20190504T143000
DTEND;TZID=Europe/Brussels:20190504T173000
SEQUENCE:0
TRANSP:OPAQUE
END:VEVENT
END:VCALENDAR