BEGIN:VCALENDAR
VERSION:2.0
PRODID:-//jEvents 2.0 for Joomla//EN
CALSCALE:GREGORIAN
METHOD:PUBLISH
BEGIN:VTIMEZONE
TZID:Europe/Brussels
BEGIN:STANDARD
DTSTART:20171029T020000
RDATE:20180325T030000
TZOFFSETFROM:+0200
TZOFFSETTO:+0100
TZNAME:Europe/Brussels CET
END:STANDARD
BEGIN:STANDARD
DTSTART:20181028T020000
RDATE:20190331T030000
TZOFFSETFROM:+0200
TZOFFSETTO:+0100
TZNAME:Europe/Brussels CET
END:STANDARD
BEGIN:STANDARD
DTSTART:20191027T020000
RDATE:20200329T030000
TZOFFSETFROM:+0200
TZOFFSETTO:+0100
TZNAME:Europe/Brussels CET
END:STANDARD
BEGIN:STANDARD
DTSTART:20201025T020000
RDATE:20210328T030000
TZOFFSETFROM:+0200
TZOFFSETTO:+0100
TZNAME:Europe/Brussels CET
END:STANDARD
BEGIN:STANDARD
DTSTART:20211031T020000
RDATE:20220327T030000
TZOFFSETFROM:+0200
TZOFFSETTO:+0100
TZNAME:Europe/Brussels CET
END:STANDARD
BEGIN:STANDARD
DTSTART:20221030T020000
RDATE:20230326T030000
TZOFFSETFROM:+0200
TZOFFSETTO:+0100
TZNAME:Europe/Brussels CET
END:STANDARD
BEGIN:STANDARD
DTSTART:20231029T020000
RDATE:20240331T030000
TZOFFSETFROM:+0200
TZOFFSETTO:+0100
TZNAME:Europe/Brussels CET
END:STANDARD
BEGIN:STANDARD
DTSTART:20241027T020000
RDATE:20250330T030000
TZOFFSETFROM:+0200
TZOFFSETTO:+0100
TZNAME:Europe/Brussels CET
END:STANDARD
BEGIN:STANDARD
DTSTART:20251026T020000
RDATE:20260329T030000
TZOFFSETFROM:+0200
TZOFFSETTO:+0100
TZNAME:Europe/Brussels CET
END:STANDARD
BEGIN:STANDARD
DTSTART:20261025T020000
RDATE:20270328T030000
TZOFFSETFROM:+0200
TZOFFSETTO:+0100
TZNAME:Europe/Brussels CET
END:STANDARD
BEGIN:STANDARD
DTSTART:20271031T020000
RDATE:20280326T030000
TZOFFSETFROM:+0200
TZOFFSETTO:+0100
TZNAME:Europe/Brussels CET
END:STANDARD
BEGIN:STANDARD
DTSTART:20281029T020000
RDATE:20290325T030000
TZOFFSETFROM:+0200
TZOFFSETTO:+0100
TZNAME:Europe/Brussels CET
END:STANDARD
BEGIN:STANDARD
DTSTART:20291028T020000
RDATE:20300331T030000
TZOFFSETFROM:+0200
TZOFFSETTO:+0100
TZNAME:Europe/Brussels CET
END:STANDARD
BEGIN:STANDARD
DTSTART:20301027T020000
RDATE:20310330T030000
TZOFFSETFROM:+0200
TZOFFSETTO:+0100
TZNAME:Europe/Brussels CET
END:STANDARD
BEGIN:DAYLIGHT
DTSTART:20170917T200000
RDATE:20171029T020000
TZOFFSETFROM:+0100
TZOFFSETTO:+0200
TZNAME:Europe/Brussels CEST
END:DAYLIGHT
BEGIN:DAYLIGHT
DTSTART:20180325T030000
RDATE:20181028T020000
TZOFFSETFROM:+0100
TZOFFSETTO:+0200
TZNAME:Europe/Brussels CEST
END:DAYLIGHT
BEGIN:DAYLIGHT
DTSTART:20190331T030000
RDATE:20191027T020000
TZOFFSETFROM:+0100
TZOFFSETTO:+0200
TZNAME:Europe/Brussels CEST
END:DAYLIGHT
BEGIN:DAYLIGHT
DTSTART:20200329T030000
RDATE:20201025T020000
TZOFFSETFROM:+0100
TZOFFSETTO:+0200
TZNAME:Europe/Brussels CEST
END:DAYLIGHT
BEGIN:DAYLIGHT
DTSTART:20210328T030000
RDATE:20211031T020000
TZOFFSETFROM:+0100
TZOFFSETTO:+0200
TZNAME:Europe/Brussels CEST
END:DAYLIGHT
BEGIN:DAYLIGHT
DTSTART:20220327T030000
RDATE:20221030T020000
TZOFFSETFROM:+0100
TZOFFSETTO:+0200
TZNAME:Europe/Brussels CEST
END:DAYLIGHT
BEGIN:DAYLIGHT
DTSTART:20230326T030000
RDATE:20231029T020000
TZOFFSETFROM:+0100
TZOFFSETTO:+0200
TZNAME:Europe/Brussels CEST
END:DAYLIGHT
BEGIN:DAYLIGHT
DTSTART:20240331T030000
RDATE:20241027T020000
TZOFFSETFROM:+0100
TZOFFSETTO:+0200
TZNAME:Europe/Brussels CEST
END:DAYLIGHT
BEGIN:DAYLIGHT
DTSTART:20250330T030000
RDATE:20251026T020000
TZOFFSETFROM:+0100
TZOFFSETTO:+0200
TZNAME:Europe/Brussels CEST
END:DAYLIGHT
BEGIN:DAYLIGHT
DTSTART:20260329T030000
RDATE:20261025T020000
TZOFFSETFROM:+0100
TZOFFSETTO:+0200
TZNAME:Europe/Brussels CEST
END:DAYLIGHT
BEGIN:DAYLIGHT
DTSTART:20270328T030000
RDATE:20271031T020000
TZOFFSETFROM:+0100
TZOFFSETTO:+0200
TZNAME:Europe/Brussels CEST
END:DAYLIGHT
BEGIN:DAYLIGHT
DTSTART:20280326T030000
RDATE:20281029T020000
TZOFFSETFROM:+0100
TZOFFSETTO:+0200
TZNAME:Europe/Brussels CEST
END:DAYLIGHT
BEGIN:DAYLIGHT
DTSTART:20290325T030000
RDATE:20291028T020000
TZOFFSETFROM:+0100
TZOFFSETTO:+0200
TZNAME:Europe/Brussels CEST
END:DAYLIGHT
BEGIN:DAYLIGHT
DTSTART:20300331T030000
RDATE:20301027T020000
TZOFFSETFROM:+0100
TZOFFSETTO:+0200
TZNAME:Europe/Brussels CEST
END:DAYLIGHT
END:VTIMEZONE
BEGIN:VEVENT
UID:5c3bebe791c2b9d4f13cd3faa9f2f58a
CATEGORIES:Comité
CREATED:20180913T191422
SUMMARY:Clustermeeting Materiaal
LOCATION:te bepalen
DESCRIPTION;ENCODING=QUOTED-PRINTABLE:\n\nHet scoutsjaar draait alweer op volle toeren, en dus start ook de clust
 er materiaal terug zijn motoren.\n\n\nDinsdag 18/09 staat de eerste cluster
 vergadering op het programma. Ben je een handige Harry of heb je wel enkele
  toffe ideeën voor het lokaal te pimpen, dan ben je meer dan welkom op de c
 lustermeeting. Op het programma staat onder andere een oplijsting van wat z
 e allemaal willen verwezelijken dit jaar, en vooral de TO DO lijst voor op 
 de eerste klusjesdag zaterdag 29/09 vanaf 9h.\n\n\nMeer info over waar de c
 lustervergadering doorgaat bekomen? mail dan naar Dit e-mailadres wordt bev
 eiligd tegen spambots. JavaScript dient ingeschakeld te zijn om het te beki
 jken.
				document.getElementById('cloak6591fea2e2642e5badf98990c82f46df').
 innerHTML = '';
				var prefix = '&#109;a' + 'i&#108;' + '&#116;o';
				var
  path = 'hr' + 'ef' + '=';
				var addy6591fea2e2642e5badf98990c82f46df = '
 c&#111;mm&#117;n&#105;c&#97;t&#105;&#101;' + '&#64;';
				addy6591fea2e2642
 e5badf98990c82f46df = addy6591fea2e2642e5badf98990c82f46df + 'd&#101;h&#97;
 v&#105;k' + '&#46;' + 'b&#101;';
				var addy_text6591fea2e2642e5badf98990c
 82f46df = 'c&#111;mm&#117;n&#105;c&#97;t&#105;&#101;' + '&#64;' + 'd&#101;h
 &#97;v&#105;k' + '&#46;' + 'b&#101;';document.getElementById('cloak6591fea2
 e2642e5badf98990c82f46df').innerHTML += ''+addy_text6591fea2e2642e5badf9899
 0c82f46df+'';
		\n\n\n&nbsp;\n
CONTACT:Dit e-mailadres wordt beveiligd tegen spambots. JavaScript dient ingeschakeld te zijn om het te bekijken.
				document.getElementById('cloak297b5c2a89990c122b25e6eda3a39b1a').innerHTML = '';
				var prefix = '&#109;a' + 'i&#108;' + '&#116;o';
				var path = 'hr' + 'ef' + '=';
				var addy297b5c2a89990c122b25e6eda3a39b1a = 'c&#111;mm&#117;n&#105;c&#97;t&#105;&#101;' + '&#64;';
				addy297b5c2a89990c122b25e6eda3a39b1a = addy297b5c2a89990c122b25e6eda3a39b1a + 'd&#101;h&#97;v&#105;k' + '&#46;' + 'b&#101;';
				var addy_text297b5c2a89990c122b25e6eda3a39b1a = 'c&#111;mm&#117;n&#105;c&#97;t&#105;&#101;' + '&#64;' + 'd&#101;h&#97;v&#105;k' + '&#46;' + 'b&#101;';document.getElementById('cloak297b5c2a89990c122b25e6eda3a39b1a').innerHTML += ''+addy_text297b5c2a89990c122b25e6eda3a39b1a+'';
		
DTSTAMP:20260425T123706Z
DTSTART;TZID=Europe/Brussels:20180918T200000
DTEND;TZID=Europe/Brussels:20180918T223000
SEQUENCE:0
TRANSP:OPAQUE
END:VEVENT
END:VCALENDAR