BEGIN:VCALENDAR
VERSION:2.0
PRODID:-//jEvents 2.0 for Joomla//EN
CALSCALE:GREGORIAN
METHOD:PUBLISH
BEGIN:VTIMEZONE
TZID:Europe/Brussels
BEGIN:STANDARD
DTSTART:20150326T000000
RDATE:20150329T030000
TZOFFSETFROM:+0200
TZOFFSETTO:+0100
TZNAME:Europe/Brussels CET
END:STANDARD
BEGIN:STANDARD
DTSTART:20151025T020000
RDATE:20160327T030000
TZOFFSETFROM:+0200
TZOFFSETTO:+0100
TZNAME:Europe/Brussels CET
END:STANDARD
BEGIN:STANDARD
DTSTART:20161030T020000
RDATE:20170326T030000
TZOFFSETFROM:+0200
TZOFFSETTO:+0100
TZNAME:Europe/Brussels CET
END:STANDARD
BEGIN:STANDARD
DTSTART:20171029T020000
RDATE:20180325T030000
TZOFFSETFROM:+0200
TZOFFSETTO:+0100
TZNAME:Europe/Brussels CET
END:STANDARD
BEGIN:STANDARD
DTSTART:20181028T020000
RDATE:20190331T030000
TZOFFSETFROM:+0200
TZOFFSETTO:+0100
TZNAME:Europe/Brussels CET
END:STANDARD
BEGIN:STANDARD
DTSTART:20191027T020000
RDATE:20200329T030000
TZOFFSETFROM:+0200
TZOFFSETTO:+0100
TZNAME:Europe/Brussels CET
END:STANDARD
BEGIN:STANDARD
DTSTART:20201025T020000
RDATE:20210328T030000
TZOFFSETFROM:+0200
TZOFFSETTO:+0100
TZNAME:Europe/Brussels CET
END:STANDARD
BEGIN:STANDARD
DTSTART:20211031T020000
RDATE:20220327T030000
TZOFFSETFROM:+0200
TZOFFSETTO:+0100
TZNAME:Europe/Brussels CET
END:STANDARD
BEGIN:STANDARD
DTSTART:20221030T020000
RDATE:20230326T030000
TZOFFSETFROM:+0200
TZOFFSETTO:+0100
TZNAME:Europe/Brussels CET
END:STANDARD
BEGIN:STANDARD
DTSTART:20231029T020000
RDATE:20240331T030000
TZOFFSETFROM:+0200
TZOFFSETTO:+0100
TZNAME:Europe/Brussels CET
END:STANDARD
BEGIN:STANDARD
DTSTART:20241027T020000
RDATE:20250330T030000
TZOFFSETFROM:+0200
TZOFFSETTO:+0100
TZNAME:Europe/Brussels CET
END:STANDARD
BEGIN:STANDARD
DTSTART:20251026T020000
RDATE:20260329T030000
TZOFFSETFROM:+0200
TZOFFSETTO:+0100
TZNAME:Europe/Brussels CET
END:STANDARD
BEGIN:STANDARD
DTSTART:20261025T020000
RDATE:20270328T030000
TZOFFSETFROM:+0200
TZOFFSETTO:+0100
TZNAME:Europe/Brussels CET
END:STANDARD
BEGIN:STANDARD
DTSTART:20271031T020000
RDATE:20280326T030000
TZOFFSETFROM:+0200
TZOFFSETTO:+0100
TZNAME:Europe/Brussels CET
END:STANDARD
BEGIN:STANDARD
DTSTART:20281029T020000
RDATE:20290325T030000
TZOFFSETFROM:+0200
TZOFFSETTO:+0100
TZNAME:Europe/Brussels CET
END:STANDARD
BEGIN:STANDARD
DTSTART:20291028T020000
RDATE:20300331T030000
TZOFFSETFROM:+0200
TZOFFSETTO:+0100
TZNAME:Europe/Brussels CET
END:STANDARD
BEGIN:STANDARD
DTSTART:20301027T020000
RDATE:20310330T030000
TZOFFSETFROM:+0200
TZOFFSETTO:+0100
TZNAME:Europe/Brussels CET
END:STANDARD
BEGIN:DAYLIGHT
DTSTART:20150329T030000
RDATE:20151025T020000
TZOFFSETFROM:+0100
TZOFFSETTO:+0200
TZNAME:Europe/Brussels CEST
END:DAYLIGHT
BEGIN:DAYLIGHT
DTSTART:20160327T030000
RDATE:20161030T020000
TZOFFSETFROM:+0100
TZOFFSETTO:+0200
TZNAME:Europe/Brussels CEST
END:DAYLIGHT
BEGIN:DAYLIGHT
DTSTART:20170326T030000
RDATE:20171029T020000
TZOFFSETFROM:+0100
TZOFFSETTO:+0200
TZNAME:Europe/Brussels CEST
END:DAYLIGHT
BEGIN:DAYLIGHT
DTSTART:20180325T030000
RDATE:20181028T020000
TZOFFSETFROM:+0100
TZOFFSETTO:+0200
TZNAME:Europe/Brussels CEST
END:DAYLIGHT
BEGIN:DAYLIGHT
DTSTART:20190331T030000
RDATE:20191027T020000
TZOFFSETFROM:+0100
TZOFFSETTO:+0200
TZNAME:Europe/Brussels CEST
END:DAYLIGHT
BEGIN:DAYLIGHT
DTSTART:20200329T030000
RDATE:20201025T020000
TZOFFSETFROM:+0100
TZOFFSETTO:+0200
TZNAME:Europe/Brussels CEST
END:DAYLIGHT
BEGIN:DAYLIGHT
DTSTART:20210328T030000
RDATE:20211031T020000
TZOFFSETFROM:+0100
TZOFFSETTO:+0200
TZNAME:Europe/Brussels CEST
END:DAYLIGHT
BEGIN:DAYLIGHT
DTSTART:20220327T030000
RDATE:20221030T020000
TZOFFSETFROM:+0100
TZOFFSETTO:+0200
TZNAME:Europe/Brussels CEST
END:DAYLIGHT
BEGIN:DAYLIGHT
DTSTART:20230326T030000
RDATE:20231029T020000
TZOFFSETFROM:+0100
TZOFFSETTO:+0200
TZNAME:Europe/Brussels CEST
END:DAYLIGHT
BEGIN:DAYLIGHT
DTSTART:20240331T030000
RDATE:20241027T020000
TZOFFSETFROM:+0100
TZOFFSETTO:+0200
TZNAME:Europe/Brussels CEST
END:DAYLIGHT
BEGIN:DAYLIGHT
DTSTART:20250330T030000
RDATE:20251026T020000
TZOFFSETFROM:+0100
TZOFFSETTO:+0200
TZNAME:Europe/Brussels CEST
END:DAYLIGHT
BEGIN:DAYLIGHT
DTSTART:20260329T030000
RDATE:20261025T020000
TZOFFSETFROM:+0100
TZOFFSETTO:+0200
TZNAME:Europe/Brussels CEST
END:DAYLIGHT
BEGIN:DAYLIGHT
DTSTART:20270328T030000
RDATE:20271031T020000
TZOFFSETFROM:+0100
TZOFFSETTO:+0200
TZNAME:Europe/Brussels CEST
END:DAYLIGHT
BEGIN:DAYLIGHT
DTSTART:20280326T030000
RDATE:20281029T020000
TZOFFSETFROM:+0100
TZOFFSETTO:+0200
TZNAME:Europe/Brussels CEST
END:DAYLIGHT
BEGIN:DAYLIGHT
DTSTART:20290325T030000
RDATE:20291028T020000
TZOFFSETFROM:+0100
TZOFFSETTO:+0200
TZNAME:Europe/Brussels CEST
END:DAYLIGHT
BEGIN:DAYLIGHT
DTSTART:20300331T030000
RDATE:20301027T020000
TZOFFSETFROM:+0100
TZOFFSETTO:+0200
TZNAME:Europe/Brussels CEST
END:DAYLIGHT
END:VTIMEZONE
BEGIN:VEVENT
UID:e95b5b000b9cfd971bc0eb80a4c3750e
CATEGORIES:JVG
CREATED:20160313T103630
SUMMARY:Paaskamp
DESCRIPTION;ENCODING=QUOTED-PRINTABLE:<p>	 </p><div>	 </div><div>	De tijd vliegt voorbij. We hebben al heel wat l
 euke momenten achter de rug. Maar over een goede 2 weken is het eindelijk P
 AASKAMP. </div><div>	 </div><div>	Vergeet jullie jonggids of jongverkenner 
 zeker niet in te schrijven. Want dit paaskamp belooft het Paaskamp van de e
 euw te worden! Inschrijven kan tot 19 maart 2016. Vergeet dit zeker niet. W
 at niet ingeschreven = ook niet mee op kamp! </div><div>	 </div><div>	We tr
 ekken samen met de welpen en de wolven naar Geel. </div><div>	De jvg's verb
 lijven samen met de welpen in het paviljoen van de Zonnedauw. De wolven zit
 ten op hetzelfde domein, maar in een ander gebouw. (<a href="http://www.zon
 nedauw.be/index.php?page=gebouwen" tabindex="-1" target="_parent">http://ww
 w.zonnedauw.be/index.php?page=gebouwen</a>) </div><div>	 </div><div>	Bij ve
 rtrek op zaterdag 26 maart: </div><div>	      - in perfect uniform meld je 
 je aan bij ekster</div><div>	      - uitgeprinte medische fiche (met rijksr
 egisternummer) afgeven aan Kaketoe</div><div>	      - eventuele medicatie o
 ok af te geven aan Kaketoe</div><div>	      - jvg's hebben een trekrugzak! 
 geen valies!<br />	 </div><div>	Het thema van ons paaskamp is '<b>wolf of H
 avikstreet</b>'. (met andere woorden: casino) Dos je maar lekker mooi uit, 
 neem een lege portefeuille mee en eventuele geluksbrengers, want een foute 
 gok is snel gewaagd!!!</div><div>	 </div><div>	 </div><div>	<span style="ba
 ckground-color: rgb(255, 255, 0);">Bagage  lijst</span></div><div>	 </div><
 div>	<b>--> KLEDING</b></div><div>	 - voldoende truien</div><div>	 - voldoe
 nde broeken</div><div>	 - voldoende t-shirts</div><div>	 - voldoende onderb
 roeken</div><div>	 - voldoende kousen</div><div>	 </div><div>	<b>--> schoei
 sel</b></div><div>	 - gemakkelijke schoenen (sportschoenen)</div><div>	 - p
 antoffels</div><div>	 - Bottines (aan bij vertrek!!!)</div><div>	 </div><di
 v>	<b>--> slaapgerief</b></div><div>	 - pyjama</div><div>	 - slaapzak</div>
 <div>	 - eventueel een knuffel</div><div>	 </div><div>	<b>--> hygiëne</b></
 div><div>	 - stuk zeep</div><div>	 - shampoo</div><div>	 - douchegel</div><
 div>	 - badhanddoek</div><div>	 - kleine handdoek</div><div>	 - kam/borstel
 </div><div>	 - gel</div><div>	 - tandenborstel</div><div>	 - tandpasta</div
 ><div>	 </div><div>	<b>--> Thema kledij</b></div><div>	 - mooie kleren (jur
 k of kostuum)</div><div>	 - lege portefeuille</div><div>	 </div><div>	<b>--
 > extra's (niet te vergeten!!!!)</b></div><div>	<b> </b>- zaklamp</div><div
 >	 - keukenhanddoek!!!</div><div>	 - techniekenboekje</div>
DTSTAMP:20260426T060046Z
DTSTART;TZID=Europe/Brussels;VALUE=DATE:20160326
DTEND;TZID=Europe/Brussels;VALUE=DATE:20160331
SEQUENCE:0
TRANSP:OPAQUE
END:VEVENT
END:VCALENDAR