BEGIN:VCALENDAR
VERSION:2.0
PRODID:-//jEvents 2.0 for Joomla//EN
CALSCALE:GREGORIAN
METHOD:PUBLISH
BEGIN:VTIMEZONE
TZID:Europe/Brussels
BEGIN:STANDARD
DTSTART:20241027T020000
RDATE:20250330T030000
TZOFFSETFROM:+0200
TZOFFSETTO:+0100
TZNAME:Europe/Brussels CET
END:STANDARD
BEGIN:STANDARD
DTSTART:20251026T020000
RDATE:20260329T030000
TZOFFSETFROM:+0200
TZOFFSETTO:+0100
TZNAME:Europe/Brussels CET
END:STANDARD
BEGIN:STANDARD
DTSTART:20261025T020000
RDATE:20270328T030000
TZOFFSETFROM:+0200
TZOFFSETTO:+0100
TZNAME:Europe/Brussels CET
END:STANDARD
BEGIN:STANDARD
DTSTART:20271031T020000
RDATE:20280326T030000
TZOFFSETFROM:+0200
TZOFFSETTO:+0100
TZNAME:Europe/Brussels CET
END:STANDARD
BEGIN:STANDARD
DTSTART:20281029T020000
RDATE:20290325T030000
TZOFFSETFROM:+0200
TZOFFSETTO:+0100
TZNAME:Europe/Brussels CET
END:STANDARD
BEGIN:STANDARD
DTSTART:20291028T020000
RDATE:20300331T030000
TZOFFSETFROM:+0200
TZOFFSETTO:+0100
TZNAME:Europe/Brussels CET
END:STANDARD
BEGIN:STANDARD
DTSTART:20301027T020000
RDATE:20310330T030000
TZOFFSETFROM:+0200
TZOFFSETTO:+0100
TZNAME:Europe/Brussels CET
END:STANDARD
BEGIN:DAYLIGHT
DTSTART:20240620T143000
RDATE:20241027T020000
TZOFFSETFROM:+0100
TZOFFSETTO:+0200
TZNAME:Europe/Brussels CEST
END:DAYLIGHT
BEGIN:DAYLIGHT
DTSTART:20250330T030000
RDATE:20251026T020000
TZOFFSETFROM:+0100
TZOFFSETTO:+0200
TZNAME:Europe/Brussels CEST
END:DAYLIGHT
BEGIN:DAYLIGHT
DTSTART:20260329T030000
RDATE:20261025T020000
TZOFFSETFROM:+0100
TZOFFSETTO:+0200
TZNAME:Europe/Brussels CEST
END:DAYLIGHT
BEGIN:DAYLIGHT
DTSTART:20270328T030000
RDATE:20271031T020000
TZOFFSETFROM:+0100
TZOFFSETTO:+0200
TZNAME:Europe/Brussels CEST
END:DAYLIGHT
BEGIN:DAYLIGHT
DTSTART:20280326T030000
RDATE:20281029T020000
TZOFFSETFROM:+0100
TZOFFSETTO:+0200
TZNAME:Europe/Brussels CEST
END:DAYLIGHT
BEGIN:DAYLIGHT
DTSTART:20290325T030000
RDATE:20291028T020000
TZOFFSETFROM:+0100
TZOFFSETTO:+0200
TZNAME:Europe/Brussels CEST
END:DAYLIGHT
BEGIN:DAYLIGHT
DTSTART:20300331T030000
RDATE:20301027T020000
TZOFFSETFROM:+0100
TZOFFSETTO:+0200
TZNAME:Europe/Brussels CEST
END:DAYLIGHT
END:VTIMEZONE
BEGIN:VEVENT
UID:aec7f914a1a171c42b77c181b9256389
CATEGORIES:JVG
CREATED:20250507T123154
SUMMARY:Laatste vergadering 
LOCATION:scoutslokaal
DESCRIPTION;ENCODING=QUOTED-PRINTABLE:Hey toppers!\n\n\nHet is zover… de allerlaatste scoutsvergadering van het j
 aar staat voor de deur! Joepieee!&nbsp;&nbsp;Voor we samen op kamp vertrekk
 en, maken we er nog één keer een supergezellige dag van!\n\n\n&nbsp;Wanneer
 ?\nZaterdagmiddag van 14:30 tot 17:30\n\n\n&nbsp;Wat doen we?\nWe sluiten h
 et jaar af met een heerlijke BBQ! Maar let op:\n\n\nBreng je eigen stukje v
 lees mee (liefst iets dat niet te lang op de BBQ moet).\n\n\nNeem ook €2 me
 e voor wat lekkere groentjes, sausjes en andere extra’s.\n\n\nZorg dat je g
 oedgemutst en met een lege maag toekomt – dan maken we er samen een topnami
 ddag van!\n\n\nTot dan!\n\n\nGroetjes&nbsp;&nbsp;&nbsp;&nbsp;&nbsp;
X-EXTRAINFO:meebrengen: 2 euro en vlees 
DTSTAMP:20260424T143358Z
DTSTART;TZID=Europe/Brussels:20250621T143000
DTEND;TZID=Europe/Brussels:20250621T173000
SEQUENCE:0
TRANSP:OPAQUE
END:VEVENT
END:VCALENDAR