BEGIN:VCALENDAR
VERSION:2.0
PRODID:-//jEvents 2.0 for Joomla//EN
CALSCALE:GREGORIAN
METHOD:PUBLISH
BEGIN:VTIMEZONE
TZID:Europe/Brussels
BEGIN:STANDARD
DTSTART:20241027T020000
RDATE:20250330T030000
TZOFFSETFROM:+0200
TZOFFSETTO:+0100
TZNAME:Europe/Brussels CET
END:STANDARD
BEGIN:STANDARD
DTSTART:20251026T020000
RDATE:20260329T030000
TZOFFSETFROM:+0200
TZOFFSETTO:+0100
TZNAME:Europe/Brussels CET
END:STANDARD
BEGIN:STANDARD
DTSTART:20261025T020000
RDATE:20270328T030000
TZOFFSETFROM:+0200
TZOFFSETTO:+0100
TZNAME:Europe/Brussels CET
END:STANDARD
BEGIN:STANDARD
DTSTART:20271031T020000
RDATE:20280326T030000
TZOFFSETFROM:+0200
TZOFFSETTO:+0100
TZNAME:Europe/Brussels CET
END:STANDARD
BEGIN:STANDARD
DTSTART:20281029T020000
RDATE:20290325T030000
TZOFFSETFROM:+0200
TZOFFSETTO:+0100
TZNAME:Europe/Brussels CET
END:STANDARD
BEGIN:STANDARD
DTSTART:20291028T020000
RDATE:20300331T030000
TZOFFSETFROM:+0200
TZOFFSETTO:+0100
TZNAME:Europe/Brussels CET
END:STANDARD
BEGIN:STANDARD
DTSTART:20301027T020000
RDATE:20310330T030000
TZOFFSETFROM:+0200
TZOFFSETTO:+0100
TZNAME:Europe/Brussels CET
END:STANDARD
BEGIN:DAYLIGHT
DTSTART:20240606T143000
RDATE:20241027T020000
TZOFFSETFROM:+0100
TZOFFSETTO:+0200
TZNAME:Europe/Brussels CEST
END:DAYLIGHT
BEGIN:DAYLIGHT
DTSTART:20250330T030000
RDATE:20251026T020000
TZOFFSETFROM:+0100
TZOFFSETTO:+0200
TZNAME:Europe/Brussels CEST
END:DAYLIGHT
BEGIN:DAYLIGHT
DTSTART:20260329T030000
RDATE:20261025T020000
TZOFFSETFROM:+0100
TZOFFSETTO:+0200
TZNAME:Europe/Brussels CEST
END:DAYLIGHT
BEGIN:DAYLIGHT
DTSTART:20270328T030000
RDATE:20271031T020000
TZOFFSETFROM:+0100
TZOFFSETTO:+0200
TZNAME:Europe/Brussels CEST
END:DAYLIGHT
BEGIN:DAYLIGHT
DTSTART:20280326T030000
RDATE:20281029T020000
TZOFFSETFROM:+0100
TZOFFSETTO:+0200
TZNAME:Europe/Brussels CEST
END:DAYLIGHT
BEGIN:DAYLIGHT
DTSTART:20290325T030000
RDATE:20291028T020000
TZOFFSETFROM:+0100
TZOFFSETTO:+0200
TZNAME:Europe/Brussels CEST
END:DAYLIGHT
BEGIN:DAYLIGHT
DTSTART:20300331T030000
RDATE:20301027T020000
TZOFFSETFROM:+0100
TZOFFSETTO:+0200
TZNAME:Europe/Brussels CEST
END:DAYLIGHT
END:VTIMEZONE
BEGIN:VEVENT
UID:af22204fe9f643b9b2f04f66650a3c31
CATEGORIES:JVG
CREATED:20250507T121902
SUMMARY:patrouille vergadering
DESCRIPTION;ENCODING=QUOTED-PRINTABLE:<p>Op 7 juni is het eindelijk zover: de langverwachte patrouillevergadering
 ! Maar wat houdt dat nu juist in?</p><p>Dit is jullie moment: de PL’s en AP
 L’s nemen het roer over en organiseren zélf een vergadering voor hun patrou
 ille. Een gezellige namiddag vol leuke activiteiten, en vooral een kans om 
 de band binnen je patrouille te versterken.</p><p>De leiding komt die dag e
 ven bij elke patrouille langs om te zien hoe het gaat, maar verder is het h
 elemaal aan jullie! PS. wij eten graag pannekoeken</p><p>Enkele praktische 
 zaken:</p><p>Het mag bij iemand thuis doorgaan, maar ook op verplaatsing.</
 p><p>Jullie mogen max. €5 per persoon vragen voor de activiteit.</p><p>Denk
  aan dingen zoals spelletjes spelen, pannenkoeken bakken, een movie night, 
 …</p><p>Hou het qua tijdsduur ongeveer zoals een gewone vergadering.</p><p>
 Ben jij patrouilleleider (PL) of assistent-patrouilleleider (APL)?</p><p>Da
 n krijg je binnenkort een persoonlijk bericht met de namen en contactgegeve
 ns van je patrouilleleden. Het is aan jullie om iedereen te contacteren en 
 een planning op te stellen, jullie doen dit natuurlijk samen in overleg zod
 at niemand dit alleen moet doen en spreken dus onderling af hoe, wat, waar,
  wanneer. Laat ons zien waarom jullie de juiste keuzes zijn als PL en APL –
  we geloven in jullie!</p><p>Maak er vooral een supertoffe dag van, en wees
  lief voor elkaar.</p><p>Heb je vragen mag je ons altijd sturen.</p><p>Groe
 tjes</p><p>jullie leiding x</p>
X-EXTRAINFO:meebrengen: 5 euro 
DTSTAMP:20260424T173022Z
DTSTART;TZID=Europe/Brussels:20250607T143000
DTEND;TZID=Europe/Brussels:20250607T173000
SEQUENCE:0
TRANSP:OPAQUE
END:VEVENT
END:VCALENDAR