BEGIN:VCALENDAR
VERSION:2.0
PRODID:-//jEvents 2.0 for Joomla//EN
CALSCALE:GREGORIAN
METHOD:PUBLISH
BEGIN:VTIMEZONE
TZID:Europe/Brussels
BEGIN:STANDARD
DTSTART:20241027T020000
RDATE:20250330T030000
TZOFFSETFROM:+0200
TZOFFSETTO:+0100
TZNAME:Europe/Brussels CET
END:STANDARD
BEGIN:STANDARD
DTSTART:20251026T020000
RDATE:20260329T030000
TZOFFSETFROM:+0200
TZOFFSETTO:+0100
TZNAME:Europe/Brussels CET
END:STANDARD
BEGIN:STANDARD
DTSTART:20261025T020000
RDATE:20270328T030000
TZOFFSETFROM:+0200
TZOFFSETTO:+0100
TZNAME:Europe/Brussels CET
END:STANDARD
BEGIN:STANDARD
DTSTART:20271031T020000
RDATE:20280326T030000
TZOFFSETFROM:+0200
TZOFFSETTO:+0100
TZNAME:Europe/Brussels CET
END:STANDARD
BEGIN:STANDARD
DTSTART:20281029T020000
RDATE:20290325T030000
TZOFFSETFROM:+0200
TZOFFSETTO:+0100
TZNAME:Europe/Brussels CET
END:STANDARD
BEGIN:STANDARD
DTSTART:20291028T020000
RDATE:20300331T030000
TZOFFSETFROM:+0200
TZOFFSETTO:+0100
TZNAME:Europe/Brussels CET
END:STANDARD
BEGIN:STANDARD
DTSTART:20301027T020000
RDATE:20310330T030000
TZOFFSETFROM:+0200
TZOFFSETTO:+0100
TZNAME:Europe/Brussels CET
END:STANDARD
BEGIN:DAYLIGHT
DTSTART:20240425T140000
RDATE:20241027T020000
TZOFFSETFROM:+0100
TZOFFSETTO:+0200
TZNAME:Europe/Brussels CEST
END:DAYLIGHT
BEGIN:DAYLIGHT
DTSTART:20250330T030000
RDATE:20251026T020000
TZOFFSETFROM:+0100
TZOFFSETTO:+0200
TZNAME:Europe/Brussels CEST
END:DAYLIGHT
BEGIN:DAYLIGHT
DTSTART:20260329T030000
RDATE:20261025T020000
TZOFFSETFROM:+0100
TZOFFSETTO:+0200
TZNAME:Europe/Brussels CEST
END:DAYLIGHT
BEGIN:DAYLIGHT
DTSTART:20270328T030000
RDATE:20271031T020000
TZOFFSETFROM:+0100
TZOFFSETTO:+0200
TZNAME:Europe/Brussels CEST
END:DAYLIGHT
BEGIN:DAYLIGHT
DTSTART:20280326T030000
RDATE:20281029T020000
TZOFFSETFROM:+0100
TZOFFSETTO:+0200
TZNAME:Europe/Brussels CEST
END:DAYLIGHT
BEGIN:DAYLIGHT
DTSTART:20290325T030000
RDATE:20291028T020000
TZOFFSETFROM:+0100
TZOFFSETTO:+0200
TZNAME:Europe/Brussels CEST
END:DAYLIGHT
BEGIN:DAYLIGHT
DTSTART:20300331T030000
RDATE:20301027T020000
TZOFFSETFROM:+0100
TZOFFSETTO:+0200
TZNAME:Europe/Brussels CEST
END:DAYLIGHT
END:VTIMEZONE
BEGIN:VEVENT
UID:644ddc410fd529ab4550f0c475dd5d06
CATEGORIES:JVG
CREATED:20250327T114247
SUMMARY:Betaalde activiteit - Rozebroeken
LOCATION:LAGO Gent Rozebroeken, Victor Braeckmanlaan 180 - 9040 Gent 
DESCRIPTION;ENCODING=QUOTED-PRINTABLE:<p>Op zaterdag 26 april&nbsp;trekken we met de JVG’s naar zwembad LAGO Roze
 broeken in Gent&nbsp;voor een spetterende namiddag. Dus haal alvast jullie 
 mooiste zwembroek of badpak uit de kast en blaas je zwembandjes op, want he
 t belooft een topdag te worden!</p><p>Om de kosten te beperken en de uren z
 o stipt mogelijk te houden spreken we niet af op de scouts maar direct aan 
 het zwembad zelf.</p><p>Afspraak om 14u&nbsp;aan de ingang van Rozebroeken.
  We wachten tot iedereen er is zodat we samen naar binnen kunnen gaan.<br /
 >Ophalen om 18u, opnieuw aan de ingang.</p><p>Vul de forms in zodat wij zic
 ht hebben over hoeveel kinderen er zullen zijn en dat we niemand vergeten. 
 <a href="https://docs.google.com/forms/d/e/1FAIpQLSdMenKl7Cqq2WJVEhxPubAEaV
 4r-eI9nGvutDbNlqrrgSpIrg/viewform?usp=dialog" target="_blank" rel="noopener
  noreferrer nofollow" title="https://docs.google.com/forms/d/e/1FAIpQLSdMen
 Kl7Cqq2WJVEhxPubAEaV4r-eI9nGvutDbNlqrrgSpIrg/viewform?usp=dialog" data-auth
 ="NotApplicable" data-linkindex="0"></a><a href="https://docs.google.com/fo
 rms/d/e/1FAIpQLSdMenKl7Cqq2WJVEhxPubAEaV4r-eI9nGvutDbNlqrrgSpIrg/viewform?u
 sp=dialog">https://docs.google.com/forms/d/e/1FAIpQLSdMenKl7Cqq2WJVEhxPubAE
 aV4r-eI9nGvutDbNlqrrgSpIrg/viewform?usp=dialog</a></p><p>We vragen om 15 eu
 ro per kind&nbsp;over te schrijven naar rekeningnummer BE94 7370 1893 1514,
  ten laatste tegen deze woensdag 23/04.<br />Vermeld zeker de naam van je k
 ind bij de overschrijving.<br />Dit bedrag dekt de toegang tot het zwembad 
 en een lekker ijsje achteraf. ?</p><p>Spetterende groetjes,<br />De JVG-lei
 ding ?<br />Veelzijdige Vos<br />Viktor-Alexander van Essen<br />0468299668
 </p>
CONTACT:Vos
DTSTAMP:20260424T120424Z
DTSTART;TZID=Europe/Brussels:20250426T140000
DTEND;TZID=Europe/Brussels:20250426T180000
SEQUENCE:0
TRANSP:OPAQUE
END:VEVENT
END:VCALENDAR