BEGIN:VCALENDAR
VERSION:2.0
PRODID:-//jEvents 2.0 for Joomla//EN
CALSCALE:GREGORIAN
METHOD:PUBLISH
BEGIN:VTIMEZONE
TZID:Europe/Brussels
BEGIN:STANDARD
DTSTART:20240125T173000
RDATE:20240331T030000
TZOFFSETFROM:+0200
TZOFFSETTO:+0100
TZNAME:Europe/Brussels CET
END:STANDARD
BEGIN:STANDARD
DTSTART:20241027T020000
RDATE:20250330T030000
TZOFFSETFROM:+0200
TZOFFSETTO:+0100
TZNAME:Europe/Brussels CET
END:STANDARD
BEGIN:STANDARD
DTSTART:20251026T020000
RDATE:20260329T030000
TZOFFSETFROM:+0200
TZOFFSETTO:+0100
TZNAME:Europe/Brussels CET
END:STANDARD
BEGIN:STANDARD
DTSTART:20261025T020000
RDATE:20270328T030000
TZOFFSETFROM:+0200
TZOFFSETTO:+0100
TZNAME:Europe/Brussels CET
END:STANDARD
BEGIN:STANDARD
DTSTART:20271031T020000
RDATE:20280326T030000
TZOFFSETFROM:+0200
TZOFFSETTO:+0100
TZNAME:Europe/Brussels CET
END:STANDARD
BEGIN:STANDARD
DTSTART:20281029T020000
RDATE:20290325T030000
TZOFFSETFROM:+0200
TZOFFSETTO:+0100
TZNAME:Europe/Brussels CET
END:STANDARD
BEGIN:STANDARD
DTSTART:20291028T020000
RDATE:20300331T030000
TZOFFSETFROM:+0200
TZOFFSETTO:+0100
TZNAME:Europe/Brussels CET
END:STANDARD
BEGIN:STANDARD
DTSTART:20301027T020000
RDATE:20310330T030000
TZOFFSETFROM:+0200
TZOFFSETTO:+0100
TZNAME:Europe/Brussels CET
END:STANDARD
BEGIN:DAYLIGHT
DTSTART:20240331T030000
RDATE:20241027T020000
TZOFFSETFROM:+0100
TZOFFSETTO:+0200
TZNAME:Europe/Brussels CEST
END:DAYLIGHT
BEGIN:DAYLIGHT
DTSTART:20250330T030000
RDATE:20251026T020000
TZOFFSETFROM:+0100
TZOFFSETTO:+0200
TZNAME:Europe/Brussels CEST
END:DAYLIGHT
BEGIN:DAYLIGHT
DTSTART:20260329T030000
RDATE:20261025T020000
TZOFFSETFROM:+0100
TZOFFSETTO:+0200
TZNAME:Europe/Brussels CEST
END:DAYLIGHT
BEGIN:DAYLIGHT
DTSTART:20270328T030000
RDATE:20271031T020000
TZOFFSETFROM:+0100
TZOFFSETTO:+0200
TZNAME:Europe/Brussels CEST
END:DAYLIGHT
BEGIN:DAYLIGHT
DTSTART:20280326T030000
RDATE:20281029T020000
TZOFFSETFROM:+0100
TZOFFSETTO:+0200
TZNAME:Europe/Brussels CEST
END:DAYLIGHT
BEGIN:DAYLIGHT
DTSTART:20290325T030000
RDATE:20291028T020000
TZOFFSETFROM:+0100
TZOFFSETTO:+0200
TZNAME:Europe/Brussels CEST
END:DAYLIGHT
BEGIN:DAYLIGHT
DTSTART:20300331T030000
RDATE:20301027T020000
TZOFFSETFROM:+0100
TZOFFSETTO:+0200
TZNAME:Europe/Brussels CEST
END:DAYLIGHT
END:VTIMEZONE
BEGIN:VEVENT
UID:4c9075fd13a232e85afd410b2f18ef89
CATEGORIES:JVG
CREATED:20250102T150407
SUMMARY:spelletjes avond
LOCATION:scoutslokaal
DESCRIPTION;ENCODING=QUOTED-PRINTABLE:<div><article dir="auto" data-testid="conversation-turn-11" data-scroll-anc
 hor="true"><div><div dir="auto" data-message-author-role="assistant" data-m
 essage-id="4c346694-51de-4c8f-b8be-fa9bd9e8120f" data-message-model-slug="g
 pt-4o-mini">&nbsp;</div></div><div><div><div><button aria-label="Kopiëren" 
 data-testid="copy-turn-action-button"></button></div></div></div></article>
 </div><div><div><div><div><div>&nbsp;Heyyy JVG's<p>Deze zaterdagavond is he
 t tijd voor een gezellige spelletjesavond! ?? We gaan allerlei leuke bordsp
 ellen, kaartspellen en andere spelletjes spelen. Kom samen met je vrienden 
 en laat je strategieën zien!</p><p>Wat moet je meenemen?</p><p>Je favoriete
  spelletje (bordspel, kaartspel, iets anders… alles is welkom!)<br />Veel z
 in om te winnen en natuurlijk ook plezier te maken! ?<br />Dus zorg ervoor 
 dat je een spel meeneemt en klaar bent voor een avond vol gezelligheid en c
 ompetitie. We kunnen niet wachten om samen met jullie te spelen!</p><p>Tot 
 zaterdagavond! ?</p><p>Groetjes de leiding!!!!!!</p></div></div></div></div
 ></div>
X-EXTRAINFO:Meebrengen; 50 cent en gezelschap spelletjes 
DTSTAMP:20260424T144547Z
DTSTART;TZID=Europe/Brussels:20250125T173000
DTEND;TZID=Europe/Brussels:20250125T200000
SEQUENCE:0
TRANSP:OPAQUE
END:VEVENT
END:VCALENDAR