BEGIN:VCALENDAR
VERSION:2.0
PRODID:-//jEvents 2.0 for Joomla//EN
CALSCALE:GREGORIAN
METHOD:PUBLISH
BEGIN:VTIMEZONE
TZID:Europe/Brussels
BEGIN:STANDARD
DTSTART:20231029T020000
RDATE:20240331T030000
TZOFFSETFROM:+0200
TZOFFSETTO:+0100
TZNAME:Europe/Brussels CET
END:STANDARD
BEGIN:STANDARD
DTSTART:20241027T020000
RDATE:20250330T030000
TZOFFSETFROM:+0200
TZOFFSETTO:+0100
TZNAME:Europe/Brussels CET
END:STANDARD
BEGIN:STANDARD
DTSTART:20251026T020000
RDATE:20260329T030000
TZOFFSETFROM:+0200
TZOFFSETTO:+0100
TZNAME:Europe/Brussels CET
END:STANDARD
BEGIN:STANDARD
DTSTART:20261025T020000
RDATE:20270328T030000
TZOFFSETFROM:+0200
TZOFFSETTO:+0100
TZNAME:Europe/Brussels CET
END:STANDARD
BEGIN:STANDARD
DTSTART:20271031T020000
RDATE:20280326T030000
TZOFFSETFROM:+0200
TZOFFSETTO:+0100
TZNAME:Europe/Brussels CET
END:STANDARD
BEGIN:STANDARD
DTSTART:20281029T020000
RDATE:20290325T030000
TZOFFSETFROM:+0200
TZOFFSETTO:+0100
TZNAME:Europe/Brussels CET
END:STANDARD
BEGIN:STANDARD
DTSTART:20291028T020000
RDATE:20300331T030000
TZOFFSETFROM:+0200
TZOFFSETTO:+0100
TZNAME:Europe/Brussels CET
END:STANDARD
BEGIN:STANDARD
DTSTART:20301027T020000
RDATE:20310330T030000
TZOFFSETFROM:+0200
TZOFFSETTO:+0100
TZNAME:Europe/Brussels CET
END:STANDARD
BEGIN:DAYLIGHT
DTSTART:20230518T112000
RDATE:20231029T020000
TZOFFSETFROM:+0100
TZOFFSETTO:+0200
TZNAME:Europe/Brussels CEST
END:DAYLIGHT
BEGIN:DAYLIGHT
DTSTART:20240331T030000
RDATE:20241027T020000
TZOFFSETFROM:+0100
TZOFFSETTO:+0200
TZNAME:Europe/Brussels CEST
END:DAYLIGHT
BEGIN:DAYLIGHT
DTSTART:20250330T030000
RDATE:20251026T020000
TZOFFSETFROM:+0100
TZOFFSETTO:+0200
TZNAME:Europe/Brussels CEST
END:DAYLIGHT
BEGIN:DAYLIGHT
DTSTART:20260329T030000
RDATE:20261025T020000
TZOFFSETFROM:+0100
TZOFFSETTO:+0200
TZNAME:Europe/Brussels CEST
END:DAYLIGHT
BEGIN:DAYLIGHT
DTSTART:20270328T030000
RDATE:20271031T020000
TZOFFSETFROM:+0100
TZOFFSETTO:+0200
TZNAME:Europe/Brussels CEST
END:DAYLIGHT
BEGIN:DAYLIGHT
DTSTART:20280326T030000
RDATE:20281029T020000
TZOFFSETFROM:+0100
TZOFFSETTO:+0200
TZNAME:Europe/Brussels CEST
END:DAYLIGHT
BEGIN:DAYLIGHT
DTSTART:20290325T030000
RDATE:20291028T020000
TZOFFSETFROM:+0100
TZOFFSETTO:+0200
TZNAME:Europe/Brussels CEST
END:DAYLIGHT
BEGIN:DAYLIGHT
DTSTART:20300331T030000
RDATE:20301027T020000
TZOFFSETFROM:+0100
TZOFFSETTO:+0200
TZNAME:Europe/Brussels CEST
END:DAYLIGHT
END:VTIMEZONE
BEGIN:VEVENT
UID:b51b981a4c7e96d5bcfca50540010a1e
CATEGORIES:JVG
CREATED:20240427T112921
SUMMARY:Betaalde activiteit - Rozebroeken
LOCATION:Scoutslokaal
DESCRIPTION;ENCODING=QUOTED-PRINTABLE:<p>We gaan op uitstap naar het zwembad in Rozebroeken en een gezellige pick
 nick nadien in het park! We zouden 15 euro willen vragen aan jullie zodat w
 ij deze super leuke dag voor jullie kinderen kunnen verwezenlijken :)</p><p
 >Er zijn lockers aanwezig in het zwembad die 1 euro kosten,&nbsp; het zou h
 andig zijn moesten jullie evt 1 euro muntstukken willen meegeven met jullie
  kinderen zodat ze hun gerief makkelijk kunnen wegsteken. (muntstuk per 2 o
 f per 3 is ook goed, ze kunnen zeker gerief bij elkaar in een locker steken
 )&nbsp;</p><p>PRAKTISCH</p><p>De vergadering zal op afwijkende uren doorgaa
 n, we spreken namelijk af om <strong>11u20 </strong>aan ons <strong>lokaal<
 /strong>, zodat we op tijd onze bus kunnen nemen richting Gent. Wij zetten 
 jullie kinderen terug af aan het <strong>lokaal </strong>om <strong>16u20</
 strong>.&nbsp;</p><p>Vergeet zeker geen zwemkledij mee te nemen!</p><p>Verg
 eet zeker geen zwemkledij mee te nemen!&nbsp;</p><p>Kinderen vanaf 12 jaar 
 zijn verplicht om hun ID mee te hebben, anders mogen ze niet binnen. Geliev
 e deze dus niet te vergeten aub!</p><p>INSCHRIJVING</p><p>Gelieve jullie ki
 nd via Keeo in te schrijven en de betaling van <strong>15 euro</strong> ove
 r te schrijven naar dit rekeningnummer (met jullie persoonlijke gestructure
 erde mededeling die op Keeo te vinden is): <strong>BE94&nbsp;7370&nbsp;1893
 &nbsp;1514</strong></p><p><em><span style="text-decoration: underline;"><st
 rong>Inschrijvingen sluiten 12 mei !!</strong></span></em></p><p>Vriendelij
 ke scoutsgroeten,</p><p>Spontane Zwaluw</p><p><span id="cloak6ad4e17b9b3035
 221aaa85564f891957">Dit e-mailadres wordt beveiligd tegen spambots. JavaScr
 ipt dient ingeschakeld te zijn om het te bekijken.</span><script type='text
 /javascript'>
				document.getElementById('cloak6ad4e17b9b3035221aaa85564f8
 91957').innerHTML = '';
				var prefix = '&#109;a' + 'i&#108;' + '&#116;o';
 
				var path = 'hr' + 'ef' + '=';
				var addy6ad4e17b9b3035221aaa85564f89
 1957 = 'zw&#97;l&#117;w' + '&#64;';
				addy6ad4e17b9b3035221aaa85564f89195
 7 = addy6ad4e17b9b3035221aaa85564f891957 + 'd&#101;h&#97;v&#105;k' + '&#46;
 ' + 'b&#101;';
				var addy_text6ad4e17b9b3035221aaa85564f891957 = 'zw&#97;
 l&#117;w' + '&#64;' + 'd&#101;h&#97;v&#105;k' + '&#46;' + 'b&#101;';documen
 t.getElementById('cloak6ad4e17b9b3035221aaa85564f891957').innerHTML += '<a 
 ' + path + '\'' + prefix + ':' + addy6ad4e17b9b3035221aaa85564f891957 + '\'
 >'+addy_text6ad4e17b9b3035221aaa85564f891957+'<\/a>';
		</script></p><p>+32
 471274179</p>
CONTACT:Zwaluw
DTSTAMP:20260424T173025Z
DTSTART;TZID=Europe/Brussels:20240518T112000
DTEND;TZID=Europe/Brussels:20240518T162000
SEQUENCE:0
TRANSP:OPAQUE
END:VEVENT
END:VCALENDAR