BEGIN:VCALENDAR
VERSION:2.0
PRODID:-//jEvents 2.0 for Joomla//EN
CALSCALE:GREGORIAN
METHOD:PUBLISH
BEGIN:VTIMEZONE
TZID:Europe/Brussels
BEGIN:STANDARD
DTSTART:20231029T020000
RDATE:20240331T030000
TZOFFSETFROM:+0200
TZOFFSETTO:+0100
TZNAME:Europe/Brussels CET
END:STANDARD
BEGIN:STANDARD
DTSTART:20241027T020000
RDATE:20250330T030000
TZOFFSETFROM:+0200
TZOFFSETTO:+0100
TZNAME:Europe/Brussels CET
END:STANDARD
BEGIN:STANDARD
DTSTART:20251026T020000
RDATE:20260329T030000
TZOFFSETFROM:+0200
TZOFFSETTO:+0100
TZNAME:Europe/Brussels CET
END:STANDARD
BEGIN:STANDARD
DTSTART:20261025T020000
RDATE:20270328T030000
TZOFFSETFROM:+0200
TZOFFSETTO:+0100
TZNAME:Europe/Brussels CET
END:STANDARD
BEGIN:STANDARD
DTSTART:20271031T020000
RDATE:20280326T030000
TZOFFSETFROM:+0200
TZOFFSETTO:+0100
TZNAME:Europe/Brussels CET
END:STANDARD
BEGIN:STANDARD
DTSTART:20281029T020000
RDATE:20290325T030000
TZOFFSETFROM:+0200
TZOFFSETTO:+0100
TZNAME:Europe/Brussels CET
END:STANDARD
BEGIN:STANDARD
DTSTART:20291028T020000
RDATE:20300331T030000
TZOFFSETFROM:+0200
TZOFFSETTO:+0100
TZNAME:Europe/Brussels CET
END:STANDARD
BEGIN:STANDARD
DTSTART:20301027T020000
RDATE:20310330T030000
TZOFFSETFROM:+0200
TZOFFSETTO:+0100
TZNAME:Europe/Brussels CET
END:STANDARD
BEGIN:DAYLIGHT
DTSTART:20230330T102000
RDATE:20231029T020000
TZOFFSETFROM:+0100
TZOFFSETTO:+0200
TZNAME:Europe/Brussels CEST
END:DAYLIGHT
BEGIN:DAYLIGHT
DTSTART:20240331T030000
RDATE:20241027T020000
TZOFFSETFROM:+0100
TZOFFSETTO:+0200
TZNAME:Europe/Brussels CEST
END:DAYLIGHT
BEGIN:DAYLIGHT
DTSTART:20250330T030000
RDATE:20251026T020000
TZOFFSETFROM:+0100
TZOFFSETTO:+0200
TZNAME:Europe/Brussels CEST
END:DAYLIGHT
BEGIN:DAYLIGHT
DTSTART:20260329T030000
RDATE:20261025T020000
TZOFFSETFROM:+0100
TZOFFSETTO:+0200
TZNAME:Europe/Brussels CEST
END:DAYLIGHT
BEGIN:DAYLIGHT
DTSTART:20270328T030000
RDATE:20271031T020000
TZOFFSETFROM:+0100
TZOFFSETTO:+0200
TZNAME:Europe/Brussels CEST
END:DAYLIGHT
BEGIN:DAYLIGHT
DTSTART:20280326T030000
RDATE:20281029T020000
TZOFFSETFROM:+0100
TZOFFSETTO:+0200
TZNAME:Europe/Brussels CEST
END:DAYLIGHT
BEGIN:DAYLIGHT
DTSTART:20290325T030000
RDATE:20291028T020000
TZOFFSETFROM:+0100
TZOFFSETTO:+0200
TZNAME:Europe/Brussels CEST
END:DAYLIGHT
BEGIN:DAYLIGHT
DTSTART:20300331T030000
RDATE:20301027T020000
TZOFFSETFROM:+0100
TZOFFSETTO:+0200
TZNAME:Europe/Brussels CEST
END:DAYLIGHT
END:VTIMEZONE
BEGIN:VEVENT
UID:06710eaec8f6f27f00a0d4263efa782a
CATEGORIES:JVG
CREATED:20240315T121145
SUMMARY:Paaskamp JVG
DESCRIPTION;ENCODING=QUOTED-PRINTABLE:<p>Binnenkort vertrekken we weer op paaskamp!!<br aria-hidden="true" />Dit 
 kamp zal doorgaan in hoffbauer + poortgebouw (Zutendeale) en dit van 30 maa
 rt tot 3 april.</p><p>Het thema van paaskamp is <strong>Undercover agent</s
 trong>, denk dus aan FBI / CSI. Trek allemaal jullie coolste uniformen aan 
 en zorg dat jullie in topvorm zijn voor het komende kamp.</p><p>Vergeet ook
  zeker je pyjama, speelkleren, beddenovertrek, kussensloop, slaapzak, handd
 oek en zeep, toiletzak en keukenhanddoek niet.&nbsp;</p><p>We spreken af aa
 n het station Gent-Sint-Pieters om om 9u20, op zaterdag 30 maart. zodat we 
 zeker op tijd de trein kunnen nemen om 9u40.</p><p>We komen woensdag 3 apri
 l terug om 16u in het station van De Pinte. We spreken af aan de achterkant
  van het station.</p><p>Het lokaal beschikt over bedden dus neem zeker een 
 beddenovertrek en kussensloop mee. We voorzien voor dit weekend geen vervoe
 r van materiaal dus zullen de leden alles wat ze meenemen zelf moeten drage
 n.</p><p>Voor de deugnieten onder jullie die vorig weekend een GSM en/of sn
 oep meehadden, hier nogmaals een duidelijke melding dat dit niet mag. De le
 iding voorziet genoeg snoep voor jullie. </p>
CONTACT:Zwaluw
DTSTAMP:20260424T132554Z
DTSTART;TZID=Europe/Brussels:20240330T092000
DTEND;TZID=Europe/Brussels:20240403T160000
SEQUENCE:0
TRANSP:OPAQUE
END:VEVENT
END:VCALENDAR