BEGIN:VCALENDAR
VERSION:2.0
PRODID:-//jEvents 2.0 for Joomla//EN
CALSCALE:GREGORIAN
METHOD:PUBLISH
BEGIN:VTIMEZONE
TZID:Europe/Brussels
BEGIN:STANDARD
DTSTART:20221030T020000
RDATE:20230326T030000
TZOFFSETFROM:+0200
TZOFFSETTO:+0100
TZNAME:Europe/Brussels CET
END:STANDARD
BEGIN:STANDARD
DTSTART:20231029T020000
RDATE:20240331T030000
TZOFFSETFROM:+0200
TZOFFSETTO:+0100
TZNAME:Europe/Brussels CET
END:STANDARD
BEGIN:STANDARD
DTSTART:20241027T020000
RDATE:20250330T030000
TZOFFSETFROM:+0200
TZOFFSETTO:+0100
TZNAME:Europe/Brussels CET
END:STANDARD
BEGIN:STANDARD
DTSTART:20251026T020000
RDATE:20260329T030000
TZOFFSETFROM:+0200
TZOFFSETTO:+0100
TZNAME:Europe/Brussels CET
END:STANDARD
BEGIN:STANDARD
DTSTART:20261025T020000
RDATE:20270328T030000
TZOFFSETFROM:+0200
TZOFFSETTO:+0100
TZNAME:Europe/Brussels CET
END:STANDARD
BEGIN:STANDARD
DTSTART:20271031T020000
RDATE:20280326T030000
TZOFFSETFROM:+0200
TZOFFSETTO:+0100
TZNAME:Europe/Brussels CET
END:STANDARD
BEGIN:STANDARD
DTSTART:20281029T020000
RDATE:20290325T030000
TZOFFSETFROM:+0200
TZOFFSETTO:+0100
TZNAME:Europe/Brussels CET
END:STANDARD
BEGIN:STANDARD
DTSTART:20291028T020000
RDATE:20300331T030000
TZOFFSETFROM:+0200
TZOFFSETTO:+0100
TZNAME:Europe/Brussels CET
END:STANDARD
BEGIN:STANDARD
DTSTART:20301027T020000
RDATE:20310330T030000
TZOFFSETFROM:+0200
TZOFFSETTO:+0100
TZNAME:Europe/Brussels CET
END:STANDARD
BEGIN:DAYLIGHT
DTSTART:20220512T143000
RDATE:20221030T020000
TZOFFSETFROM:+0100
TZOFFSETTO:+0200
TZNAME:Europe/Brussels CEST
END:DAYLIGHT
BEGIN:DAYLIGHT
DTSTART:20230326T030000
RDATE:20231029T020000
TZOFFSETFROM:+0100
TZOFFSETTO:+0200
TZNAME:Europe/Brussels CEST
END:DAYLIGHT
BEGIN:DAYLIGHT
DTSTART:20240331T030000
RDATE:20241027T020000
TZOFFSETFROM:+0100
TZOFFSETTO:+0200
TZNAME:Europe/Brussels CEST
END:DAYLIGHT
BEGIN:DAYLIGHT
DTSTART:20250330T030000
RDATE:20251026T020000
TZOFFSETFROM:+0100
TZOFFSETTO:+0200
TZNAME:Europe/Brussels CEST
END:DAYLIGHT
BEGIN:DAYLIGHT
DTSTART:20260329T030000
RDATE:20261025T020000
TZOFFSETFROM:+0100
TZOFFSETTO:+0200
TZNAME:Europe/Brussels CEST
END:DAYLIGHT
BEGIN:DAYLIGHT
DTSTART:20270328T030000
RDATE:20271031T020000
TZOFFSETFROM:+0100
TZOFFSETTO:+0200
TZNAME:Europe/Brussels CEST
END:DAYLIGHT
BEGIN:DAYLIGHT
DTSTART:20280326T030000
RDATE:20281029T020000
TZOFFSETFROM:+0100
TZOFFSETTO:+0200
TZNAME:Europe/Brussels CEST
END:DAYLIGHT
BEGIN:DAYLIGHT
DTSTART:20290325T030000
RDATE:20291028T020000
TZOFFSETFROM:+0100
TZOFFSETTO:+0200
TZNAME:Europe/Brussels CEST
END:DAYLIGHT
BEGIN:DAYLIGHT
DTSTART:20300331T030000
RDATE:20301027T020000
TZOFFSETFROM:+0100
TZOFFSETTO:+0200
TZNAME:Europe/Brussels CEST
END:DAYLIGHT
END:VTIMEZONE
BEGIN:VEVENT
UID:acf1744881736df0e5a2fa071d1a1012
CATEGORIES:JVG
CREATED:20220903T001440
SUMMARY:(moerkensheide) de olympische jvg spelen 
LOCATION:sportcomplex moerkensheide
DESCRIPTION;ENCODING=QUOTED-PRINTABLE:<p>Sportvrouwen,sportmannen, iedereen die wilt <span style="color: #00ccff;
  font-size: 14pt;">sporten</span>, kom dat zien!!!&nbsp;</p><p>Vandaag gaan
  we in het olympsch dorp in moerkensheide zien wie de <span style="font-siz
 e: 18pt; background-color: #ff9900;">olympier </span>onder de jvgs is, uite
 raard gaan we hiervoor meerdere disciplines in achting nemen, snelheid, kra
 cht,... alles komt aan bod!&nbsp;</p><p>Warm jullie spieren maar al op want
  deze zaterdag gaat zweten worden! (tip met een uniform aan kan je geen oly
 mpier worden, doe dus allemaal sportkleren aan)</p><p>&nbsp;praktisch: verz
 amelen om <span style="font-size: 18pt; background-color: #ff0000;">14:30 a
 an moerkensheide</span></p><p>einde om <span style="font-size: 18pt; backgr
 ound-color: #ffff00;">17:30 opnieuw aan moerkensheide</span></p><p>xxx</p><
 p>nafi thiam</p>
CONTACT:Takleider Fodi, Dit e-mailadres wordt beveiligd tegen spambots. JavaScript dient ingeschakeld te zijn om het te bekijken.
				document.getElementById('cloakd36efe5b458bbad1af8db021ffa8892e').innerHTML = '';
				var prefix = '&#109;a' + 'i&#108;' + '&#116;o';
				var path = 'hr' + 'ef' + '=';
				var addyd36efe5b458bbad1af8db021ffa8892e = 'jvgs' + '&#64;';
				addyd36efe5b458bbad1af8db021ffa8892e = addyd36efe5b458bbad1af8db021ffa8892e + 'd&#101;h&#97;v&#105;k' + '&#46;' + 'b&#101;';
				var addy_textd36efe5b458bbad1af8db021ffa8892e = 'jvgs' + '&#64;' + 'd&#101;h&#97;v&#105;k' + '&#46;' + 'b&#101;';document.getElementById('cloakd36efe5b458bbad1af8db021ffa8892e').innerHTML += ''+addy_textd36efe5b458bbad1af8db021ffa8892e+'';
		
DTSTAMP:20260424T172948Z
DTSTART;TZID=Europe/Brussels:20230513T143000
DTEND;TZID=Europe/Brussels:20230513T173000
SEQUENCE:0
TRANSP:OPAQUE
END:VEVENT
END:VCALENDAR