BEGIN:VCALENDAR
VERSION:2.0
PRODID:-//jEvents 2.0 for Joomla//EN
CALSCALE:GREGORIAN
METHOD:PUBLISH
BEGIN:VTIMEZONE
TZID:Europe/Brussels
BEGIN:STANDARD
DTSTART:20220303T143000
RDATE:20220327T030000
TZOFFSETFROM:+0200
TZOFFSETTO:+0100
TZNAME:Europe/Brussels CET
END:STANDARD
BEGIN:STANDARD
DTSTART:20221030T020000
RDATE:20230326T030000
TZOFFSETFROM:+0200
TZOFFSETTO:+0100
TZNAME:Europe/Brussels CET
END:STANDARD
BEGIN:STANDARD
DTSTART:20231029T020000
RDATE:20240331T030000
TZOFFSETFROM:+0200
TZOFFSETTO:+0100
TZNAME:Europe/Brussels CET
END:STANDARD
BEGIN:STANDARD
DTSTART:20241027T020000
RDATE:20250330T030000
TZOFFSETFROM:+0200
TZOFFSETTO:+0100
TZNAME:Europe/Brussels CET
END:STANDARD
BEGIN:STANDARD
DTSTART:20251026T020000
RDATE:20260329T030000
TZOFFSETFROM:+0200
TZOFFSETTO:+0100
TZNAME:Europe/Brussels CET
END:STANDARD
BEGIN:STANDARD
DTSTART:20261025T020000
RDATE:20270328T030000
TZOFFSETFROM:+0200
TZOFFSETTO:+0100
TZNAME:Europe/Brussels CET
END:STANDARD
BEGIN:STANDARD
DTSTART:20271031T020000
RDATE:20280326T030000
TZOFFSETFROM:+0200
TZOFFSETTO:+0100
TZNAME:Europe/Brussels CET
END:STANDARD
BEGIN:STANDARD
DTSTART:20281029T020000
RDATE:20290325T030000
TZOFFSETFROM:+0200
TZOFFSETTO:+0100
TZNAME:Europe/Brussels CET
END:STANDARD
BEGIN:STANDARD
DTSTART:20291028T020000
RDATE:20300331T030000
TZOFFSETFROM:+0200
TZOFFSETTO:+0100
TZNAME:Europe/Brussels CET
END:STANDARD
BEGIN:STANDARD
DTSTART:20301027T020000
RDATE:20310330T030000
TZOFFSETFROM:+0200
TZOFFSETTO:+0100
TZNAME:Europe/Brussels CET
END:STANDARD
BEGIN:DAYLIGHT
DTSTART:20220327T030000
RDATE:20221030T020000
TZOFFSETFROM:+0100
TZOFFSETTO:+0200
TZNAME:Europe/Brussels CEST
END:DAYLIGHT
BEGIN:DAYLIGHT
DTSTART:20230326T030000
RDATE:20231029T020000
TZOFFSETFROM:+0100
TZOFFSETTO:+0200
TZNAME:Europe/Brussels CEST
END:DAYLIGHT
BEGIN:DAYLIGHT
DTSTART:20240331T030000
RDATE:20241027T020000
TZOFFSETFROM:+0100
TZOFFSETTO:+0200
TZNAME:Europe/Brussels CEST
END:DAYLIGHT
BEGIN:DAYLIGHT
DTSTART:20250330T030000
RDATE:20251026T020000
TZOFFSETFROM:+0100
TZOFFSETTO:+0200
TZNAME:Europe/Brussels CEST
END:DAYLIGHT
BEGIN:DAYLIGHT
DTSTART:20260329T030000
RDATE:20261025T020000
TZOFFSETFROM:+0100
TZOFFSETTO:+0200
TZNAME:Europe/Brussels CEST
END:DAYLIGHT
BEGIN:DAYLIGHT
DTSTART:20270328T030000
RDATE:20271031T020000
TZOFFSETFROM:+0100
TZOFFSETTO:+0200
TZNAME:Europe/Brussels CEST
END:DAYLIGHT
BEGIN:DAYLIGHT
DTSTART:20280326T030000
RDATE:20281029T020000
TZOFFSETFROM:+0100
TZOFFSETTO:+0200
TZNAME:Europe/Brussels CEST
END:DAYLIGHT
BEGIN:DAYLIGHT
DTSTART:20290325T030000
RDATE:20291028T020000
TZOFFSETFROM:+0100
TZOFFSETTO:+0200
TZNAME:Europe/Brussels CEST
END:DAYLIGHT
BEGIN:DAYLIGHT
DTSTART:20300331T030000
RDATE:20301027T020000
TZOFFSETFROM:+0100
TZOFFSETTO:+0200
TZNAME:Europe/Brussels CEST
END:DAYLIGHT
END:VTIMEZONE
BEGIN:VEVENT
UID:4c930881245fde10793fada4cb424da6
CATEGORIES:JVG
CREATED:20220902T234903
SUMMARY:los fiestas havikos (en afscheid...)
LOCATION:scoutslokaal 
DESCRIPTION;ENCODING=QUOTED-PRINTABLE:\n\nARRRIIBAAAAAAA&nbsp;\n\n\n&nbsp;\n\n\nna een jaar wachten is het vandaa
 g eindelijk weer zover...HAVIKSE FEESTEN!! trek jullie mexicaanse kledij ma
 ar aan, dit feestje is niet te missen!\n\n\nFOSCROSS: als er jvg's willen m
 eedoen met de foscross doe dan sportkleren aan! (mega leuke loopwedstrijd m
 et obstakels!!)\n\n\nFOSBY: ook dit staat op de planning! en ja de jvg's ku
 nne ook meedoen (woohooo), meer info zie link (INSCHRIJVEN&nbsp;IS HIERVOOR
  VERPLICHT ZODAT DE TEAMS KUNNEN GEMAAKT WORDEN)&nbsp;Fosby zaterdagmiddag 
 | De Havik\n\n\n--&gt;deze 2 activiteiten zijn geen verplichte activiteiten
 , gezellig supporteren kan ook!\n\n\n&nbsp;\n\n\njammer genoeg heeft de lei
 ding ook slecht nieuws...\n\n\ndeze vergadering nemen we afscheid van ieman
 d van de leiding die ons nauw in het hart ligt.\n\n\nHIJ stond altijd paraa
 t voor jong en oud.\n\n\nna jaren van trouwe leiderschap en mooie momenten 
 is het einde jammer genoeg in zicht.\n\n\nhet is een man waar we op konden 
 bouwen, waar iedereen voor altijd van houdt.\n\n\nbedankt voor de mooie maa
 nden....\n\n\n(neen dit is geen mop, er gaat iemand van de leiding voor een
  paar maanden weg naar het verre AUSTRALIË, maar wie is het...als je de boo
 dschap goed leest kan je direct al een paar leiding uitsluiten...)\n\n\nom 
 deze boodschap toch wat mooi te eindigen, dit is hoe wild het gaat zijn van
 daag!!!\n\n\n\n\n\n&nbsp;\n
CONTACT:Takleider Fodi, Dit e-mailadres wordt beveiligd tegen spambots. JavaScript dient ingeschakeld te zijn om het te bekijken.
				document.getElementById('cloak9dafeb8eeafcb5302242c660906a04ad').innerHTML = '';
				var prefix = '&#109;a' + 'i&#108;' + '&#116;o';
				var path = 'hr' + 'ef' + '=';
				var addy9dafeb8eeafcb5302242c660906a04ad = 'jvgs' + '&#64;';
				addy9dafeb8eeafcb5302242c660906a04ad = addy9dafeb8eeafcb5302242c660906a04ad + 'd&#101;h&#97;v&#105;k' + '&#46;' + 'b&#101;';
				var addy_text9dafeb8eeafcb5302242c660906a04ad = 'jvgs' + '&#64;' + 'd&#101;h&#97;v&#105;k' + '&#46;' + 'b&#101;';document.getElementById('cloak9dafeb8eeafcb5302242c660906a04ad').innerHTML += ''+addy_text9dafeb8eeafcb5302242c660906a04ad+'';
		
DTSTAMP:20260424T155225Z
DTSTART;TZID=Europe/Brussels:20230304T143000
DTEND;TZID=Europe/Brussels:20230304T173000
SEQUENCE:0
TRANSP:OPAQUE
END:VEVENT
END:VCALENDAR