BEGIN:VCALENDAR
VERSION:2.0
PRODID:-//jEvents 2.0 for Joomla//EN
CALSCALE:GREGORIAN
METHOD:PUBLISH
BEGIN:VTIMEZONE
TZID:Europe/Brussels
BEGIN:STANDARD
DTSTART:20220210T143000
RDATE:20220327T030000
TZOFFSETFROM:+0200
TZOFFSETTO:+0100
TZNAME:Europe/Brussels CET
END:STANDARD
BEGIN:STANDARD
DTSTART:20221030T020000
RDATE:20230326T030000
TZOFFSETFROM:+0200
TZOFFSETTO:+0100
TZNAME:Europe/Brussels CET
END:STANDARD
BEGIN:STANDARD
DTSTART:20231029T020000
RDATE:20240331T030000
TZOFFSETFROM:+0200
TZOFFSETTO:+0100
TZNAME:Europe/Brussels CET
END:STANDARD
BEGIN:STANDARD
DTSTART:20241027T020000
RDATE:20250330T030000
TZOFFSETFROM:+0200
TZOFFSETTO:+0100
TZNAME:Europe/Brussels CET
END:STANDARD
BEGIN:STANDARD
DTSTART:20251026T020000
RDATE:20260329T030000
TZOFFSETFROM:+0200
TZOFFSETTO:+0100
TZNAME:Europe/Brussels CET
END:STANDARD
BEGIN:STANDARD
DTSTART:20261025T020000
RDATE:20270328T030000
TZOFFSETFROM:+0200
TZOFFSETTO:+0100
TZNAME:Europe/Brussels CET
END:STANDARD
BEGIN:STANDARD
DTSTART:20271031T020000
RDATE:20280326T030000
TZOFFSETFROM:+0200
TZOFFSETTO:+0100
TZNAME:Europe/Brussels CET
END:STANDARD
BEGIN:STANDARD
DTSTART:20281029T020000
RDATE:20290325T030000
TZOFFSETFROM:+0200
TZOFFSETTO:+0100
TZNAME:Europe/Brussels CET
END:STANDARD
BEGIN:STANDARD
DTSTART:20291028T020000
RDATE:20300331T030000
TZOFFSETFROM:+0200
TZOFFSETTO:+0100
TZNAME:Europe/Brussels CET
END:STANDARD
BEGIN:STANDARD
DTSTART:20301027T020000
RDATE:20310330T030000
TZOFFSETFROM:+0200
TZOFFSETTO:+0100
TZNAME:Europe/Brussels CET
END:STANDARD
BEGIN:DAYLIGHT
DTSTART:20220327T030000
RDATE:20221030T020000
TZOFFSETFROM:+0100
TZOFFSETTO:+0200
TZNAME:Europe/Brussels CEST
END:DAYLIGHT
BEGIN:DAYLIGHT
DTSTART:20230326T030000
RDATE:20231029T020000
TZOFFSETFROM:+0100
TZOFFSETTO:+0200
TZNAME:Europe/Brussels CEST
END:DAYLIGHT
BEGIN:DAYLIGHT
DTSTART:20240331T030000
RDATE:20241027T020000
TZOFFSETFROM:+0100
TZOFFSETTO:+0200
TZNAME:Europe/Brussels CEST
END:DAYLIGHT
BEGIN:DAYLIGHT
DTSTART:20250330T030000
RDATE:20251026T020000
TZOFFSETFROM:+0100
TZOFFSETTO:+0200
TZNAME:Europe/Brussels CEST
END:DAYLIGHT
BEGIN:DAYLIGHT
DTSTART:20260329T030000
RDATE:20261025T020000
TZOFFSETFROM:+0100
TZOFFSETTO:+0200
TZNAME:Europe/Brussels CEST
END:DAYLIGHT
BEGIN:DAYLIGHT
DTSTART:20270328T030000
RDATE:20271031T020000
TZOFFSETFROM:+0100
TZOFFSETTO:+0200
TZNAME:Europe/Brussels CEST
END:DAYLIGHT
BEGIN:DAYLIGHT
DTSTART:20280326T030000
RDATE:20281029T020000
TZOFFSETFROM:+0100
TZOFFSETTO:+0200
TZNAME:Europe/Brussels CEST
END:DAYLIGHT
BEGIN:DAYLIGHT
DTSTART:20290325T030000
RDATE:20291028T020000
TZOFFSETFROM:+0100
TZOFFSETTO:+0200
TZNAME:Europe/Brussels CEST
END:DAYLIGHT
BEGIN:DAYLIGHT
DTSTART:20300331T030000
RDATE:20301027T020000
TZOFFSETFROM:+0100
TZOFFSETTO:+0200
TZNAME:Europe/Brussels CEST
END:DAYLIGHT
END:VTIMEZONE
BEGIN:VEVENT
UID:de20060acbbc83f1f24af292970d58f6
CATEGORIES:JVG
CREATED:20220902T234427
SUMMARY:Kusje hier kusje daar 
LOCATION:scoutslokaal 
DESCRIPTION;ENCODING=QUOTED-PRINTABLE:Vandaag is de dag dat jullie ons vertellen wie je scouts crush is!!! Jeej d
 an kunnen we jullie koppelen hoe leuk. Nee grapje dat gaan we niet doen. Of
  toch wel... wie weet. We zullen jullie toch al een beetje voorbereiden hoe
  je zegt tegen je crush dat je hem/haar leuk vind.\n Arabisch - ??? ????\n 
 Bulgaars - ?? ?? ??????\n Chinees (Mandarijn) - ???\n Deens - Jeg elsker di
 g\n Duits - Ich liebe Dich\n Engels - I love you\n Fins - Minä rakastan sin
 ua\n Frans - Je t'aime\n Grieks - ?'?????\n Hebreeuws - ??? ???? ????\n Hin
 di - ??? ????? ????? ???? ???\n Hongaars - Szeretlek\n Iers - Tá grá agam d
 uit\n Italiaans - Ti amo\n Japans - ??????????\n Koreaans - ???\n Kroatisch
  - Volim te\n Lets - Es tevi m?lu\n Litouws - Aš tave myliu\n Noors - Jeg e
 lsker deg\n Oekraïens - ? ???? ?????\n Oezbeeks - Men seni sevaman\n Perzis
 ch - ????? ?? ????\n Pools - Kocham Ci?\n Portugees - Eu te amo\n Roemeens 
 - Te iubesc\n Russisch - ? ????? ????\n Servisch - ????? ??\n Slowaaks - Mi
 lujem ?a\n Sloveens - Ljubim te\n Spaans - Te quiero\n Thai - ????????\n Tu
 rks - Seni seviyorum\n Vietnamees - Tôi yêu em\n Zweeds - Jag älskar dig\n 
 Albanees - Unë të dua\n Armeens - ?? ?????? ?? ???\n Basjkiers - ???? ??? ?
 ??? ???\n Bengaals - ??? ?????? ????????\n Bosnisch - Volim te\n Katalaans 
 - T'estimo\n Corsicaans - Ti tengu caru\n Esperanto - Mi amas vin\n Galicis
 ch - Queroochete\n Georgisch - ?? ?????? ????\n Gujarati - ??? ???? ????? ?
 ??\n IJslands - Ég elska þig\n Javaans - Aku tresno marang kowe\n Laotiaans
  - ??????????\n Nederlands - Ik hou van je&nbsp;&nbsp;
CONTACT:Takleider Fodi, Dit e-mailadres wordt beveiligd tegen spambots. JavaScript dient ingeschakeld te zijn om het te bekijken.
				document.getElementById('cloak1dcf241200b6704d2d25ae0868eaeb12').innerHTML = '';
				var prefix = '&#109;a' + 'i&#108;' + '&#116;o';
				var path = 'hr' + 'ef' + '=';
				var addy1dcf241200b6704d2d25ae0868eaeb12 = 'jvgs' + '&#64;';
				addy1dcf241200b6704d2d25ae0868eaeb12 = addy1dcf241200b6704d2d25ae0868eaeb12 + 'd&#101;h&#97;v&#105;k' + '&#46;' + 'b&#101;';
				var addy_text1dcf241200b6704d2d25ae0868eaeb12 = 'jvgs' + '&#64;' + 'd&#101;h&#97;v&#105;k' + '&#46;' + 'b&#101;';document.getElementById('cloak1dcf241200b6704d2d25ae0868eaeb12').innerHTML += ''+addy_text1dcf241200b6704d2d25ae0868eaeb12+'';
		
DTSTAMP:20260424T171446Z
DTSTART;TZID=Europe/Brussels:20230211T143000
DTEND;TZID=Europe/Brussels:20230211T173000
SEQUENCE:0
TRANSP:OPAQUE
END:VEVENT
END:VCALENDAR