BEGIN:VCALENDAR
VERSION:2.0
PRODID:-//jEvents 2.0 for Joomla//EN
CALSCALE:GREGORIAN
METHOD:PUBLISH
BEGIN:VTIMEZONE
TZID:Europe/Brussels
BEGIN:STANDARD
DTSTART:20181107T000000
RDATE:20190331T030000
TZOFFSETFROM:+0200
TZOFFSETTO:+0100
TZNAME:Europe/Brussels CET
END:STANDARD
BEGIN:STANDARD
DTSTART:20191027T020000
RDATE:20200329T030000
TZOFFSETFROM:+0200
TZOFFSETTO:+0100
TZNAME:Europe/Brussels CET
END:STANDARD
BEGIN:STANDARD
DTSTART:20201025T020000
RDATE:20210328T030000
TZOFFSETFROM:+0200
TZOFFSETTO:+0100
TZNAME:Europe/Brussels CET
END:STANDARD
BEGIN:STANDARD
DTSTART:20211031T020000
RDATE:20220327T030000
TZOFFSETFROM:+0200
TZOFFSETTO:+0100
TZNAME:Europe/Brussels CET
END:STANDARD
BEGIN:STANDARD
DTSTART:20221030T020000
RDATE:20230326T030000
TZOFFSETFROM:+0200
TZOFFSETTO:+0100
TZNAME:Europe/Brussels CET
END:STANDARD
BEGIN:STANDARD
DTSTART:20231029T020000
RDATE:20240331T030000
TZOFFSETFROM:+0200
TZOFFSETTO:+0100
TZNAME:Europe/Brussels CET
END:STANDARD
BEGIN:STANDARD
DTSTART:20241027T020000
RDATE:20250330T030000
TZOFFSETFROM:+0200
TZOFFSETTO:+0100
TZNAME:Europe/Brussels CET
END:STANDARD
BEGIN:STANDARD
DTSTART:20251026T020000
RDATE:20260329T030000
TZOFFSETFROM:+0200
TZOFFSETTO:+0100
TZNAME:Europe/Brussels CET
END:STANDARD
BEGIN:STANDARD
DTSTART:20261025T020000
RDATE:20270328T030000
TZOFFSETFROM:+0200
TZOFFSETTO:+0100
TZNAME:Europe/Brussels CET
END:STANDARD
BEGIN:STANDARD
DTSTART:20271031T020000
RDATE:20280326T030000
TZOFFSETFROM:+0200
TZOFFSETTO:+0100
TZNAME:Europe/Brussels CET
END:STANDARD
BEGIN:STANDARD
DTSTART:20281029T020000
RDATE:20290325T030000
TZOFFSETFROM:+0200
TZOFFSETTO:+0100
TZNAME:Europe/Brussels CET
END:STANDARD
BEGIN:STANDARD
DTSTART:20291028T020000
RDATE:20300331T030000
TZOFFSETFROM:+0200
TZOFFSETTO:+0100
TZNAME:Europe/Brussels CET
END:STANDARD
BEGIN:STANDARD
DTSTART:20301027T020000
RDATE:20310330T030000
TZOFFSETFROM:+0200
TZOFFSETTO:+0100
TZNAME:Europe/Brussels CET
END:STANDARD
BEGIN:DAYLIGHT
DTSTART:20190331T030000
RDATE:20191027T020000
TZOFFSETFROM:+0100
TZOFFSETTO:+0200
TZNAME:Europe/Brussels CEST
END:DAYLIGHT
BEGIN:DAYLIGHT
DTSTART:20200329T030000
RDATE:20201025T020000
TZOFFSETFROM:+0100
TZOFFSETTO:+0200
TZNAME:Europe/Brussels CEST
END:DAYLIGHT
BEGIN:DAYLIGHT
DTSTART:20210328T030000
RDATE:20211031T020000
TZOFFSETFROM:+0100
TZOFFSETTO:+0200
TZNAME:Europe/Brussels CEST
END:DAYLIGHT
BEGIN:DAYLIGHT
DTSTART:20220327T030000
RDATE:20221030T020000
TZOFFSETFROM:+0100
TZOFFSETTO:+0200
TZNAME:Europe/Brussels CEST
END:DAYLIGHT
BEGIN:DAYLIGHT
DTSTART:20230326T030000
RDATE:20231029T020000
TZOFFSETFROM:+0100
TZOFFSETTO:+0200
TZNAME:Europe/Brussels CEST
END:DAYLIGHT
BEGIN:DAYLIGHT
DTSTART:20240331T030000
RDATE:20241027T020000
TZOFFSETFROM:+0100
TZOFFSETTO:+0200
TZNAME:Europe/Brussels CEST
END:DAYLIGHT
BEGIN:DAYLIGHT
DTSTART:20250330T030000
RDATE:20251026T020000
TZOFFSETFROM:+0100
TZOFFSETTO:+0200
TZNAME:Europe/Brussels CEST
END:DAYLIGHT
BEGIN:DAYLIGHT
DTSTART:20260329T030000
RDATE:20261025T020000
TZOFFSETFROM:+0100
TZOFFSETTO:+0200
TZNAME:Europe/Brussels CEST
END:DAYLIGHT
BEGIN:DAYLIGHT
DTSTART:20270328T030000
RDATE:20271031T020000
TZOFFSETFROM:+0100
TZOFFSETTO:+0200
TZNAME:Europe/Brussels CEST
END:DAYLIGHT
BEGIN:DAYLIGHT
DTSTART:20280326T030000
RDATE:20281029T020000
TZOFFSETFROM:+0100
TZOFFSETTO:+0200
TZNAME:Europe/Brussels CEST
END:DAYLIGHT
BEGIN:DAYLIGHT
DTSTART:20290325T030000
RDATE:20291028T020000
TZOFFSETFROM:+0100
TZOFFSETTO:+0200
TZNAME:Europe/Brussels CEST
END:DAYLIGHT
BEGIN:DAYLIGHT
DTSTART:20300331T030000
RDATE:20301027T020000
TZOFFSETFROM:+0100
TZOFFSETTO:+0200
TZNAME:Europe/Brussels CEST
END:DAYLIGHT
END:VTIMEZONE
BEGIN:VEVENT
UID:a7a36b70eb23a5ff9241f1147f0d53c0
CATEGORIES:JVG
CREATED:20190905T000607
SUMMARY:Novemberweekend
LOCATION:Jeugdheem Sint-Benedictus in Affligem
DESCRIPTION;ENCODING=QUOTED-PRINTABLE:<p>Heugelijk nieuws: binnen twee weken vertrekken alle JVG's op novemberwee
 kend! De inschrijvingsmails werden enkele dagen geleden verzonden, hierin v
 indt u alle informatie om in te schrijven en de betaling uit te voeren.&nbs
 p;</p><p>We verblijven in Jeugdheem Sint-Benedictus, naast de abdij van Aff
 ligem. Het thema voor dit weekend is dan ook&nbsp;<strong>'paters en nonnen
 '</strong>.&nbsp;</p><p>Aangezien Affligem&nbsp;op meer dan een uur wandele
 n van een treinstation ligt, zouden we&nbsp;<strong>vrijdagavond&nbsp;</str
 ong>(8 november) ons al&nbsp;<strong>carpoolend</strong>&nbsp;verplaatsen. 
 Als u zich kan vrijmaken op vrijdagavond, om de kinderen naar Affligem te b
 rengen, mag u Schildpad dit per mail laten weten. We spreken af om<strong>&
 nbsp;18u</strong>&nbsp;aan ons eigen&nbsp;<strong>scoutslokaal</strong>&nbs
 p;in De Pinte. 's Avonds voorziet de leiding nog een kleine maaltijd voor d
 e JVG's.</p><p><strong>Zondag</strong>&nbsp;(10 november) zouden we met de&
 nbsp;<strong>trein</strong>&nbsp;terugkeren, maar voor de bagage zoeken we 
 nog vervoer. Als u een grote auto en/of aanhangwagen heeft en u wil daarmee
  zondagmiddag (16u) de bagage vervoeren, mag u Schildpad dit eveneens per m
 ail laten weten. De kinderen zullen rond&nbsp;<strong>17u</strong>&nbsp;aan
 komen in het&nbsp;<strong>station</strong>&nbsp;van De Pinte.</p><p>Bij ver
 trek geeft iedereen zijn&nbsp;<strong>medische fiche, medicatie&nbsp;</stro
 ng>en identiteitskaart/<strong>kids-ID</strong>&nbsp;af aan de leiding. Het
  verblijf heeft bedden en vraagt om een kussenovertrek, matrasovertrek, lak
 ens en een slaapzak mee te nemen. Een uitgebreide bagagelijst kan u hierond
 er vinden.</p><p>Kinderen die dit weekend&nbsp;<strong>vegetarisch&nbsp;</s
 trong>wensen te eten, kinderen die&nbsp;<strong>allergieën&nbsp;</strong>he
 bben en kinderen met&nbsp;<strong>voedselintoleranties&nbsp;</strong>mogen 
 Schildpad dit per mail laten weten. Als u Schildpad hierover reeds een mail
  stuurde, dan hoeft u dit niet opnieuw te laten weten.&nbsp;</p><p>Mocht u 
 nog vragen hebben, kan u Schildpad contacteren.</p><p>De leiding zal toffe 
 activiteiten voorzien en heeft er dan ook veel zin in!</p><p><span style="f
 ont-size: 14pt;">Bagagelijst novemberweekend JVG’s&nbsp;&nbsp;&nbsp;&nbsp;&
 nbsp;&nbsp;&nbsp;&nbsp;&nbsp;&nbsp;&nbsp;&nbsp;&nbsp;&nbsp;&nbsp;&nbsp;&nbs
 p;&nbsp;&nbsp;&nbsp;&nbsp;&nbsp;&nbsp;&nbsp;&nbsp;&nbsp;&nbsp;&nbsp;&nbsp;&
 nbsp;&nbsp;&nbsp;&nbsp; 8-10 november 2019</span></p><p>Wat heb je bij jou 
 als we vertrekken?</p><ul><li>perfect uniform</li><li>medische fiche</li><l
 i>kids-ID of identiteitskaart</li><li>medicatie</li></ul><p>Wat steek je in
  je rugzak?</p><ul><li>kussenovertrek</li><li>matrasovertrek</li><li>lakens
 </li><li>slaapzak</li><li><strong>themakledij: </strong>paters en nonnen</l
 i><li>regenjas</li><li>keukenhanddoek</li><li>speelkledij</li><li>ondergoed
  en kousen</li><li>warme pull</li><li>schoenen</li><li>dekentje</li><li>pyj
 ama</li><li>eventueel een muts</li><li>zak- of hoofdlamp</li><li>tandenpoet
 sgerief</li></ul><p>De tweedejaars die hun <strong>techniekenfiche</strong>
  nog hebben, mogen die op weekend aan de leiding geven.</p><p>Wat neem je n
 iet mee?</p><ul><li>elektronica</li><li>snoep</li></ul><p>&nbsp;</p>
CONTACT:Schildpad (+32 477 56 63 33 of Dit e-mailadres wordt beveiligd tegen spambots. JavaScript dient ingeschakeld te zijn om het te bekijken.
				document.getElementById('cloak8e584acc3fa4574e92df449efed74480').innerHTML = '';
				var prefix = '&#109;a' + 'i&#108;' + '&#116;o';
				var path = 'hr' + 'ef' + '=';
				var addy8e584acc3fa4574e92df449efed74480 = 'sch&#105;ldp&#97;d' + '&#64;';
				addy8e584acc3fa4574e92df449efed74480 = addy8e584acc3fa4574e92df449efed74480 + 'd&#101;h&#97;v&#105;k' + '&#46;' + 'b&#101;';
				var addy_text8e584acc3fa4574e92df449efed74480 = 'sch&#105;ldp&#97;d' + '&#64;' + 'd&#101;h&#97;v&#105;k' + '&#46;' + 'b&#101;';document.getElementById('cloak8e584acc3fa4574e92df449efed74480').innerHTML += ''+addy_text8e584acc3fa4574e92df449efed74480+'';
		)
DTSTAMP:20260425T020108Z
DTSTART;TZID=Europe/Brussels;VALUE=DATE:20191108
DTEND;TZID=Europe/Brussels;VALUE=DATE:20191111
SEQUENCE:0
TRANSP:OPAQUE
END:VEVENT
END:VCALENDAR