BEGIN:VCALENDAR
VERSION:2.0
PRODID:-//jEvents 2.0 for Joomla//EN
CALSCALE:GREGORIAN
METHOD:PUBLISH
BEGIN:VTIMEZONE
TZID:Europe/Brussels
BEGIN:STANDARD
DTSTART:20181028T020000
RDATE:20190331T030000
TZOFFSETFROM:+0200
TZOFFSETTO:+0100
TZNAME:Europe/Brussels CET
END:STANDARD
BEGIN:STANDARD
DTSTART:20191027T020000
RDATE:20200329T030000
TZOFFSETFROM:+0200
TZOFFSETTO:+0100
TZNAME:Europe/Brussels CET
END:STANDARD
BEGIN:STANDARD
DTSTART:20201025T020000
RDATE:20210328T030000
TZOFFSETFROM:+0200
TZOFFSETTO:+0100
TZNAME:Europe/Brussels CET
END:STANDARD
BEGIN:STANDARD
DTSTART:20211031T020000
RDATE:20220327T030000
TZOFFSETFROM:+0200
TZOFFSETTO:+0100
TZNAME:Europe/Brussels CET
END:STANDARD
BEGIN:STANDARD
DTSTART:20221030T020000
RDATE:20230326T030000
TZOFFSETFROM:+0200
TZOFFSETTO:+0100
TZNAME:Europe/Brussels CET
END:STANDARD
BEGIN:STANDARD
DTSTART:20231029T020000
RDATE:20240331T030000
TZOFFSETFROM:+0200
TZOFFSETTO:+0100
TZNAME:Europe/Brussels CET
END:STANDARD
BEGIN:STANDARD
DTSTART:20241027T020000
RDATE:20250330T030000
TZOFFSETFROM:+0200
TZOFFSETTO:+0100
TZNAME:Europe/Brussels CET
END:STANDARD
BEGIN:STANDARD
DTSTART:20251026T020000
RDATE:20260329T030000
TZOFFSETFROM:+0200
TZOFFSETTO:+0100
TZNAME:Europe/Brussels CET
END:STANDARD
BEGIN:STANDARD
DTSTART:20261025T020000
RDATE:20270328T030000
TZOFFSETFROM:+0200
TZOFFSETTO:+0100
TZNAME:Europe/Brussels CET
END:STANDARD
BEGIN:STANDARD
DTSTART:20271031T020000
RDATE:20280326T030000
TZOFFSETFROM:+0200
TZOFFSETTO:+0100
TZNAME:Europe/Brussels CET
END:STANDARD
BEGIN:STANDARD
DTSTART:20281029T020000
RDATE:20290325T030000
TZOFFSETFROM:+0200
TZOFFSETTO:+0100
TZNAME:Europe/Brussels CET
END:STANDARD
BEGIN:STANDARD
DTSTART:20291028T020000
RDATE:20300331T030000
TZOFFSETFROM:+0200
TZOFFSETTO:+0100
TZNAME:Europe/Brussels CET
END:STANDARD
BEGIN:STANDARD
DTSTART:20301027T020000
RDATE:20310330T030000
TZOFFSETFROM:+0200
TZOFFSETTO:+0100
TZNAME:Europe/Brussels CET
END:STANDARD
BEGIN:DAYLIGHT
DTSTART:20181003T000000
RDATE:20181028T020000
TZOFFSETFROM:+0100
TZOFFSETTO:+0200
TZNAME:Europe/Brussels CEST
END:DAYLIGHT
BEGIN:DAYLIGHT
DTSTART:20190331T030000
RDATE:20191027T020000
TZOFFSETFROM:+0100
TZOFFSETTO:+0200
TZNAME:Europe/Brussels CEST
END:DAYLIGHT
BEGIN:DAYLIGHT
DTSTART:20200329T030000
RDATE:20201025T020000
TZOFFSETFROM:+0100
TZOFFSETTO:+0200
TZNAME:Europe/Brussels CEST
END:DAYLIGHT
BEGIN:DAYLIGHT
DTSTART:20210328T030000
RDATE:20211031T020000
TZOFFSETFROM:+0100
TZOFFSETTO:+0200
TZNAME:Europe/Brussels CEST
END:DAYLIGHT
BEGIN:DAYLIGHT
DTSTART:20220327T030000
RDATE:20221030T020000
TZOFFSETFROM:+0100
TZOFFSETTO:+0200
TZNAME:Europe/Brussels CEST
END:DAYLIGHT
BEGIN:DAYLIGHT
DTSTART:20230326T030000
RDATE:20231029T020000
TZOFFSETFROM:+0100
TZOFFSETTO:+0200
TZNAME:Europe/Brussels CEST
END:DAYLIGHT
BEGIN:DAYLIGHT
DTSTART:20240331T030000
RDATE:20241027T020000
TZOFFSETFROM:+0100
TZOFFSETTO:+0200
TZNAME:Europe/Brussels CEST
END:DAYLIGHT
BEGIN:DAYLIGHT
DTSTART:20250330T030000
RDATE:20251026T020000
TZOFFSETFROM:+0100
TZOFFSETTO:+0200
TZNAME:Europe/Brussels CEST
END:DAYLIGHT
BEGIN:DAYLIGHT
DTSTART:20260329T030000
RDATE:20261025T020000
TZOFFSETFROM:+0100
TZOFFSETTO:+0200
TZNAME:Europe/Brussels CEST
END:DAYLIGHT
BEGIN:DAYLIGHT
DTSTART:20270328T030000
RDATE:20271031T020000
TZOFFSETFROM:+0100
TZOFFSETTO:+0200
TZNAME:Europe/Brussels CEST
END:DAYLIGHT
BEGIN:DAYLIGHT
DTSTART:20280326T030000
RDATE:20281029T020000
TZOFFSETFROM:+0100
TZOFFSETTO:+0200
TZNAME:Europe/Brussels CEST
END:DAYLIGHT
BEGIN:DAYLIGHT
DTSTART:20290325T030000
RDATE:20291028T020000
TZOFFSETFROM:+0100
TZOFFSETTO:+0200
TZNAME:Europe/Brussels CEST
END:DAYLIGHT
BEGIN:DAYLIGHT
DTSTART:20300331T030000
RDATE:20301027T020000
TZOFFSETFROM:+0100
TZOFFSETTO:+0200
TZNAME:Europe/Brussels CEST
END:DAYLIGHT
END:VTIMEZONE
BEGIN:VEVENT
UID:12b6cc65306045f214aa2fa486da5f4b
CATEGORIES:JVG
CREATED:20190904T233910
SUMMARY:Tweedejaarsweekend
LOCATION:Lokeren (Hoogland - De Raap)
DESCRIPTION;ENCODING=QUOTED-PRINTABLE:\n\nVoor de eerstejaars&nbsp;is er opnieuw slecht nieuws: deze week is er g
 een vergadering, de leiding gaat nog eens op weekend.\n\n\nVoor de tweedeja
 ars&nbsp;is er leuker nieuws: jullie mogen mee op weekend met de leiding!&n
 bsp;\n\n\nHet wordt een super tof weekend, bomvol leuke activiteiten. Dit w
 eekend zullen we beslissen&nbsp;welke tweedejaars patrouilleleiders (PL's) 
 en assistent-patrouilleleiders (APL's) zullen worden.\n\n\nVrijdagavond voo
 rziet de leiding nog soep met brood!\n\n\nMeer info werd per mail verzonden
 , u kan de mail hier nog eens nalezen:\n\n\nBeste ouders\n\n\nBeste tweedej
 aars\n\n\n&nbsp;\n\n\nHou jullie maar klaar, want binnen 2 weken vertrekken
  we op weekend! Dit weekend is enkel voor tweedejaars (geboren in 2007), de
  eerstejaars komen op 12 oktober te weten in welke patrouille ze dit jaar z
 ullen zitten.\n\n\nDe inschrijvingsmails mogen door de eerstejaars genegeer
 d worden, enkel de tweedejaars moeten dus inschrijven en betalen voor maand
 ag 30 september.\n\n\nOok nu zaterdag (28/9) is er voor onze JVG's geen ver
 gadering, de leiding is namelijk op Saamdagen van FOS. De eerstejaars hebbe
 n dus 2 weken na elkaar geen vergadering.Met de tweedejaars spreken we af o
 p vrijdag 4 oktober om 18u30 aan de achterkant van het station in De Pinte.
  Zondag zouden we rond 16u terug in De Pinte moeten zijn.&nbsp;\n\n\nBij ve
 rtrek geeft iedereen zijn medische fiche, medicatie en identiteitskaart/kid
 s-ID af aan de leiding. Het weekend gaat door in De Raap in Lokeren. Dit ve
 rblijf heeft geen bedden, neem dus zeker een slaapzak en matje mee. We reiz
 en met de trein, dus raden we aan om een trekrugzak te gebruiken. In bijlag
 e vindt u een uitgebreide bagagelijst.&nbsp;\n\n\nKinderen die dit weekend 
 vegetarisch wensen te eten, kinderen die allergieën hebben en kinderen met 
 voedselintoleranties mogen mij dit per mail laten weten. We houden hier dan
  rekening mee tijdens onze aankopen. Als u mij hierover reeds een mail stuu
 rde (aan het begin van het scoutsjaar), dan hoeft u dit niet opnieuw te lat
 en weten.&nbsp;\n\n\nDe leiding staat alvast te poppelen om te vertrekken.\
 n\n\nMet vriendelijke groeten\n\n\nBenjamin De Letter // Schildpad\n\n\n&nb
 sp;\n\n\n&nbsp;\n\n\n&nbsp;\n
CONTACT:Schildpad
DTSTAMP:20260425T020253Z
DTSTART;TZID=Europe/Brussels;VALUE=DATE:20191004
DTEND;TZID=Europe/Brussels;VALUE=DATE:20191007
SEQUENCE:0
TRANSP:OPAQUE
END:VEVENT
END:VCALENDAR