BEGIN:VCALENDAR
VERSION:2.0
PRODID:-//jEvents 2.0 for Joomla//EN
CALSCALE:GREGORIAN
METHOD:PUBLISH
BEGIN:VTIMEZONE
TZID:Europe/Brussels
BEGIN:STANDARD
DTSTART:20181028T020000
RDATE:20190331T030000
TZOFFSETFROM:+0200
TZOFFSETTO:+0100
TZNAME:Europe/Brussels CET
END:STANDARD
BEGIN:STANDARD
DTSTART:20191027T020000
RDATE:20200329T030000
TZOFFSETFROM:+0200
TZOFFSETTO:+0100
TZNAME:Europe/Brussels CET
END:STANDARD
BEGIN:STANDARD
DTSTART:20201025T020000
RDATE:20210328T030000
TZOFFSETFROM:+0200
TZOFFSETTO:+0100
TZNAME:Europe/Brussels CET
END:STANDARD
BEGIN:STANDARD
DTSTART:20211031T020000
RDATE:20220327T030000
TZOFFSETFROM:+0200
TZOFFSETTO:+0100
TZNAME:Europe/Brussels CET
END:STANDARD
BEGIN:STANDARD
DTSTART:20221030T020000
RDATE:20230326T030000
TZOFFSETFROM:+0200
TZOFFSETTO:+0100
TZNAME:Europe/Brussels CET
END:STANDARD
BEGIN:STANDARD
DTSTART:20231029T020000
RDATE:20240331T030000
TZOFFSETFROM:+0200
TZOFFSETTO:+0100
TZNAME:Europe/Brussels CET
END:STANDARD
BEGIN:STANDARD
DTSTART:20241027T020000
RDATE:20250330T030000
TZOFFSETFROM:+0200
TZOFFSETTO:+0100
TZNAME:Europe/Brussels CET
END:STANDARD
BEGIN:STANDARD
DTSTART:20251026T020000
RDATE:20260329T030000
TZOFFSETFROM:+0200
TZOFFSETTO:+0100
TZNAME:Europe/Brussels CET
END:STANDARD
BEGIN:STANDARD
DTSTART:20261025T020000
RDATE:20270328T030000
TZOFFSETFROM:+0200
TZOFFSETTO:+0100
TZNAME:Europe/Brussels CET
END:STANDARD
BEGIN:STANDARD
DTSTART:20271031T020000
RDATE:20280326T030000
TZOFFSETFROM:+0200
TZOFFSETTO:+0100
TZNAME:Europe/Brussels CET
END:STANDARD
BEGIN:STANDARD
DTSTART:20281029T020000
RDATE:20290325T030000
TZOFFSETFROM:+0200
TZOFFSETTO:+0100
TZNAME:Europe/Brussels CET
END:STANDARD
BEGIN:STANDARD
DTSTART:20291028T020000
RDATE:20300331T030000
TZOFFSETFROM:+0200
TZOFFSETTO:+0100
TZNAME:Europe/Brussels CET
END:STANDARD
BEGIN:STANDARD
DTSTART:20301027T020000
RDATE:20310330T030000
TZOFFSETFROM:+0200
TZOFFSETTO:+0100
TZNAME:Europe/Brussels CET
END:STANDARD
BEGIN:DAYLIGHT
DTSTART:20180630T000000
RDATE:20181028T020000
TZOFFSETFROM:+0100
TZOFFSETTO:+0200
TZNAME:Europe/Brussels CEST
END:DAYLIGHT
BEGIN:DAYLIGHT
DTSTART:20190331T030000
RDATE:20191027T020000
TZOFFSETFROM:+0100
TZOFFSETTO:+0200
TZNAME:Europe/Brussels CEST
END:DAYLIGHT
BEGIN:DAYLIGHT
DTSTART:20200329T030000
RDATE:20201025T020000
TZOFFSETFROM:+0100
TZOFFSETTO:+0200
TZNAME:Europe/Brussels CEST
END:DAYLIGHT
BEGIN:DAYLIGHT
DTSTART:20210328T030000
RDATE:20211031T020000
TZOFFSETFROM:+0100
TZOFFSETTO:+0200
TZNAME:Europe/Brussels CEST
END:DAYLIGHT
BEGIN:DAYLIGHT
DTSTART:20220327T030000
RDATE:20221030T020000
TZOFFSETFROM:+0100
TZOFFSETTO:+0200
TZNAME:Europe/Brussels CEST
END:DAYLIGHT
BEGIN:DAYLIGHT
DTSTART:20230326T030000
RDATE:20231029T020000
TZOFFSETFROM:+0100
TZOFFSETTO:+0200
TZNAME:Europe/Brussels CEST
END:DAYLIGHT
BEGIN:DAYLIGHT
DTSTART:20240331T030000
RDATE:20241027T020000
TZOFFSETFROM:+0100
TZOFFSETTO:+0200
TZNAME:Europe/Brussels CEST
END:DAYLIGHT
BEGIN:DAYLIGHT
DTSTART:20250330T030000
RDATE:20251026T020000
TZOFFSETFROM:+0100
TZOFFSETTO:+0200
TZNAME:Europe/Brussels CEST
END:DAYLIGHT
BEGIN:DAYLIGHT
DTSTART:20260329T030000
RDATE:20261025T020000
TZOFFSETFROM:+0100
TZOFFSETTO:+0200
TZNAME:Europe/Brussels CEST
END:DAYLIGHT
BEGIN:DAYLIGHT
DTSTART:20270328T030000
RDATE:20271031T020000
TZOFFSETFROM:+0100
TZOFFSETTO:+0200
TZNAME:Europe/Brussels CEST
END:DAYLIGHT
BEGIN:DAYLIGHT
DTSTART:20280326T030000
RDATE:20281029T020000
TZOFFSETFROM:+0100
TZOFFSETTO:+0200
TZNAME:Europe/Brussels CEST
END:DAYLIGHT
BEGIN:DAYLIGHT
DTSTART:20290325T030000
RDATE:20291028T020000
TZOFFSETFROM:+0100
TZOFFSETTO:+0200
TZNAME:Europe/Brussels CEST
END:DAYLIGHT
BEGIN:DAYLIGHT
DTSTART:20300331T030000
RDATE:20301027T020000
TZOFFSETFROM:+0100
TZOFFSETTO:+0200
TZNAME:Europe/Brussels CEST
END:DAYLIGHT
END:VTIMEZONE
BEGIN:VEVENT
UID:90806c3654507c7e6e95075b1723c580
CATEGORIES:JVG
CREATED:20190402T105735
SUMMARY:GROOT kamp
LOCATION:wyompont 1, 	6970 Tenneville
DESCRIPTION;ENCODING=QUOTED-PRINTABLE:\n\nBeste ouder(s)\n Beste JVG's\n \n Binnenkort is het alweer tijd voor he
 t hoogtepunt van het jaar: Grootkamp! Het kamp gaat door van maandag 1 juli
  tot en met vrijdag 12 juli in Wyompont (het postadres wordt later meegedee
 ld op de website).&nbsp;\n We spreken af op&nbsp;maandag 1 juli&nbsp;om 8u3
 0&nbsp;op het&nbsp;voetbalveld naast de scouts&nbsp;in&nbsp;perfect uniform
 . We komen terug op&nbsp;vrijdag 12 juli&nbsp;rond 18u (eventuele wijziging
 en worden meegedeeld via facebook). Bezoekdag gaat door op zondag 7 juli te
  Wyompont 1, Tenneville. Inschrijven hiervoor kan&nbsp;voor&nbsp;maandag 17
  juni&nbsp;via de eerder verzonden inschrijvingsmail.&nbsp;\n \n Het thema 
 van grootkamp is&nbsp;De Middeleeuwen. Haal dus je beste jonkvrouw of ridde
 rkostuum maar van zolder! \n De bagage van de JVG's dient meegenomen te wor
 den in een trekrugzak. Een bagagelijst kan u vinden in bijlage. Gelieve ook
  alle kledij te naamtekenen.&nbsp;\n \n Inschrijven kan tot ten laatste&nbs
 p;maandag 17 juni. Kinderen die niet ingeschreven zijn of niet betaald hebb
 en kunnen niet mee.&nbsp;\n Gelieve de&nbsp;medische fiche&nbsp;online in t
 e vullen en geprint samen met&nbsp;persoonlijke medicatie af te geven bij v
 ertrek. (Kids) ID's hoeven niet mee, het rijksregisternummer op de geprinte
  medische fiche volstaat.&nbsp;\n Indien uw kind vegetarisch eet of bepaald
 e allergieën heeft, kan u mij dat laten weten voor&nbsp;maandag 17 juni. In
 dien dit later of niet wordt doorgegeven, kan hier geen rekening mee worden
  gehouden. \n Bij vragen of opmerkingen kan u mij ook steeds bereiken via m
 ail (Dit e-mailadres wordt beveiligd tegen spambots. JavaScript dient inges
 chakeld te zijn om het te bekijken.
				document.getElementById('cloake8ef1
 3dfb4bedf1ec9970758a04c0dd9').innerHTML = '';
				var prefix = '&#109;a' + 
 'i&#108;' + '&#116;o';
				var path = 'hr' + 'ef' + '=';
				var addye8ef13
 dfb4bedf1ec9970758a04c0dd9 = 'j&#117;d&#105;th_sdw' + '&#64;';
				addye8ef
 13dfb4bedf1ec9970758a04c0dd9 = addye8ef13dfb4bedf1ec9970758a04c0dd9 + 'h&#1
 11;tm&#97;&#105;l' + '&#46;' + 'c&#111;m';
				var addy_texte8ef13dfb4bedf1
 ec9970758a04c0dd9 = 'j&#117;d&#105;th_sdw' + '&#64;' + 'h&#111;tm&#97;&#105
 ;l' + '&#46;' + 'c&#111;m';document.getElementById('cloake8ef13dfb4bedf1ec9
 970758a04c0dd9').innerHTML += ''+addy_texte8ef13dfb4bedf1ec9970758a04c0dd9+
 '';
		) of +32 485 18 60 65.&nbsp;\n \n De leiding heeft er al super veel z
 in in!\n Met vriendelijke groeten,\n De JVG-leiding\n\n\nOPGELET!!! Het uur
  wanneer er afgesproken&nbsp;is, is van 8 uur naar half 9 verplaats omdat d
 e bussen wat later zouden toekomen en zodat alle bagage onmiddellijk in de 
 bussen kunnen.\n\n\n\n
X-EXTRAINFO:Postadres: 156e FOS De Havik\n                   Naam van kind + tak\n     
               Rue de Genonval 1\n                   6972 Tenneville
DTSTAMP:20260424T233611Z
DTSTART;TZID=Europe/Brussels;VALUE=DATE:20190701
DTEND;TZID=Europe/Brussels;VALUE=DATE:20190713
SEQUENCE:0
TRANSP:OPAQUE
END:VEVENT
END:VCALENDAR