BEGIN:VCALENDAR
VERSION:2.0
PRODID:-//jEvents 2.0 for Joomla//EN
CALSCALE:GREGORIAN
METHOD:PUBLISH
BEGIN:VTIMEZONE
TZID:Europe/Brussels
BEGIN:STANDARD
DTSTART:20181028T020000
RDATE:20190331T030000
TZOFFSETFROM:+0200
TZOFFSETTO:+0100
TZNAME:Europe/Brussels CET
END:STANDARD
BEGIN:STANDARD
DTSTART:20191027T020000
RDATE:20200329T030000
TZOFFSETFROM:+0200
TZOFFSETTO:+0100
TZNAME:Europe/Brussels CET
END:STANDARD
BEGIN:STANDARD
DTSTART:20201025T020000
RDATE:20210328T030000
TZOFFSETFROM:+0200
TZOFFSETTO:+0100
TZNAME:Europe/Brussels CET
END:STANDARD
BEGIN:STANDARD
DTSTART:20211031T020000
RDATE:20220327T030000
TZOFFSETFROM:+0200
TZOFFSETTO:+0100
TZNAME:Europe/Brussels CET
END:STANDARD
BEGIN:STANDARD
DTSTART:20221030T020000
RDATE:20230326T030000
TZOFFSETFROM:+0200
TZOFFSETTO:+0100
TZNAME:Europe/Brussels CET
END:STANDARD
BEGIN:STANDARD
DTSTART:20231029T020000
RDATE:20240331T030000
TZOFFSETFROM:+0200
TZOFFSETTO:+0100
TZNAME:Europe/Brussels CET
END:STANDARD
BEGIN:STANDARD
DTSTART:20241027T020000
RDATE:20250330T030000
TZOFFSETFROM:+0200
TZOFFSETTO:+0100
TZNAME:Europe/Brussels CET
END:STANDARD
BEGIN:STANDARD
DTSTART:20251026T020000
RDATE:20260329T030000
TZOFFSETFROM:+0200
TZOFFSETTO:+0100
TZNAME:Europe/Brussels CET
END:STANDARD
BEGIN:STANDARD
DTSTART:20261025T020000
RDATE:20270328T030000
TZOFFSETFROM:+0200
TZOFFSETTO:+0100
TZNAME:Europe/Brussels CET
END:STANDARD
BEGIN:STANDARD
DTSTART:20271031T020000
RDATE:20280326T030000
TZOFFSETFROM:+0200
TZOFFSETTO:+0100
TZNAME:Europe/Brussels CET
END:STANDARD
BEGIN:STANDARD
DTSTART:20281029T020000
RDATE:20290325T030000
TZOFFSETFROM:+0200
TZOFFSETTO:+0100
TZNAME:Europe/Brussels CET
END:STANDARD
BEGIN:STANDARD
DTSTART:20291028T020000
RDATE:20300331T030000
TZOFFSETFROM:+0200
TZOFFSETTO:+0100
TZNAME:Europe/Brussels CET
END:STANDARD
BEGIN:STANDARD
DTSTART:20301027T020000
RDATE:20310330T030000
TZOFFSETFROM:+0200
TZOFFSETTO:+0100
TZNAME:Europe/Brussels CET
END:STANDARD
BEGIN:DAYLIGHT
DTSTART:20180405T000000
RDATE:20181028T020000
TZOFFSETFROM:+0100
TZOFFSETTO:+0200
TZNAME:Europe/Brussels CEST
END:DAYLIGHT
BEGIN:DAYLIGHT
DTSTART:20190331T030000
RDATE:20191027T020000
TZOFFSETFROM:+0100
TZOFFSETTO:+0200
TZNAME:Europe/Brussels CEST
END:DAYLIGHT
BEGIN:DAYLIGHT
DTSTART:20200329T030000
RDATE:20201025T020000
TZOFFSETFROM:+0100
TZOFFSETTO:+0200
TZNAME:Europe/Brussels CEST
END:DAYLIGHT
BEGIN:DAYLIGHT
DTSTART:20210328T030000
RDATE:20211031T020000
TZOFFSETFROM:+0100
TZOFFSETTO:+0200
TZNAME:Europe/Brussels CEST
END:DAYLIGHT
BEGIN:DAYLIGHT
DTSTART:20220327T030000
RDATE:20221030T020000
TZOFFSETFROM:+0100
TZOFFSETTO:+0200
TZNAME:Europe/Brussels CEST
END:DAYLIGHT
BEGIN:DAYLIGHT
DTSTART:20230326T030000
RDATE:20231029T020000
TZOFFSETFROM:+0100
TZOFFSETTO:+0200
TZNAME:Europe/Brussels CEST
END:DAYLIGHT
BEGIN:DAYLIGHT
DTSTART:20240331T030000
RDATE:20241027T020000
TZOFFSETFROM:+0100
TZOFFSETTO:+0200
TZNAME:Europe/Brussels CEST
END:DAYLIGHT
BEGIN:DAYLIGHT
DTSTART:20250330T030000
RDATE:20251026T020000
TZOFFSETFROM:+0100
TZOFFSETTO:+0200
TZNAME:Europe/Brussels CEST
END:DAYLIGHT
BEGIN:DAYLIGHT
DTSTART:20260329T030000
RDATE:20261025T020000
TZOFFSETFROM:+0100
TZOFFSETTO:+0200
TZNAME:Europe/Brussels CEST
END:DAYLIGHT
BEGIN:DAYLIGHT
DTSTART:20270328T030000
RDATE:20271031T020000
TZOFFSETFROM:+0100
TZOFFSETTO:+0200
TZNAME:Europe/Brussels CEST
END:DAYLIGHT
BEGIN:DAYLIGHT
DTSTART:20280326T030000
RDATE:20281029T020000
TZOFFSETFROM:+0100
TZOFFSETTO:+0200
TZNAME:Europe/Brussels CEST
END:DAYLIGHT
BEGIN:DAYLIGHT
DTSTART:20290325T030000
RDATE:20291028T020000
TZOFFSETFROM:+0100
TZOFFSETTO:+0200
TZNAME:Europe/Brussels CEST
END:DAYLIGHT
BEGIN:DAYLIGHT
DTSTART:20300331T030000
RDATE:20301027T020000
TZOFFSETFROM:+0100
TZOFFSETTO:+0200
TZNAME:Europe/Brussels CEST
END:DAYLIGHT
END:VTIMEZONE
BEGIN:VEVENT
UID:5f3c5d784de5e42eea30c40aec65d714
CATEGORIES:JVG
CREATED:20190213T191828
SUMMARY:PAASKAMP!!!
DESCRIPTION;ENCODING=QUOTED-PRINTABLE:\n\n\n\n\nDit paaskamp gaan we naar...(trommel geroffel)... naar de&nbsp;HO
 GE RIELEN!!!\n\n\nHet kamp gaat door van zaterdag 6 april tot en met woensd
 ag 10 april in de Hoge Rielen (Molenstraat 62, 2460 Kasterlee).&nbsp;\nWe s
 preken af op&nbsp;zaterdag 6 april om 8u30&nbsp;op het&nbsp;voetbalveld naa
 st de scouts&nbsp;in&nbsp;perfect uniform. We komen terug op&nbsp;woensdag 
 10 april rond 16u30.&nbsp;\n\nHet thema van dit paaskamp is&nbsp;De Ruimte.
  Haal je beste astronautenpak boven, of schmink je groen als een alien, all
 es is mogelijk! De bagage van de JVG's zal vervoerd worden met de bussen, d
 e bagagelijst kan u vinden in bijlage. De JVG's zelf gaan met de trein naar
  de Hoge Rielen. We eten onderweg, dus neem een rugzakje mee voor op de tre
 in met een&nbsp;lunchpakket.&nbsp;\n\nInschrijven kan tot ten laatste maand
 ag 25 maart. Kinderen die niet zijn ingeschreven zijn of niet hebben betaal
 d hebben kunnen niet mee.&nbsp;\nGelieve de&nbsp;medische fiche&nbsp;online
  in te vullen en geprint samen met de&nbsp;kids ID of identiteitskaart&nbsp
 ;en persoonlijke medicatie af te geven bij vertrek.&nbsp;\nIndien uw kind v
 egetarisch eet of bepaalde allergieën heeft, kan u mij dat laten weten voor
  zondag 10 maart. Bij vragen of opmerkingen kan u mij ook steeds bereiken v
 ia mail (Dit e-mailadres wordt beveiligd tegen spambots. JavaScript dient i
 ngeschakeld te zijn om het te bekijken.
				document.getElementById('cloak5
 2394c9679afcd0123a7fd0184154578').innerHTML = '';
				var prefix = '&#109;a
 ' + 'i&#108;' + '&#116;o';
				var path = 'hr' + 'ef' + '=';
				var addy52
 394c9679afcd0123a7fd0184154578 = 'j&#117;d&#105;th_sdw' + '&#64;';
				addy
 52394c9679afcd0123a7fd0184154578 = addy52394c9679afcd0123a7fd0184154578 + '
 h&#111;tm&#97;&#105;l' + '&#46;' + 'c&#111;m';
				var addy_text52394c9679a
 fcd0123a7fd0184154578 = 'j&#117;d&#105;th_sdw' + '&#64;' + 'h&#111;tm&#97;&
 #105;l' + '&#46;' + 'c&#111;m';document.getElementById('cloak52394c9679afcd
 0123a7fd0184154578').innerHTML += ''+addy_text52394c9679afcd0123a7fd0184154
 578+'';
		) of +32 485 18 60 65.&nbsp;\nIn geval van nood kan u Spinaap ber
 eiken op +32 479 17 78 23, gelieve dit enkel te gebruiken voor belangrijke 
 zaken.&nbsp;\n\nDe leiding heeft er al super veel zin in!\nMet vriendelijke
  groeten,\nDe JVG-leiding\n\n\nHeb jij liedjes die een MUST zijn op het fee
 stje van paaskamp? laat het ons weten\nhttps://nl.surveymonkey.com/r/385NKW
 M\n\n
X-EXTRAINFO:Bagagelijst is in de mail van paaskamp te vinden.
DTSTAMP:20260424T210904Z
DTSTART;TZID=Europe/Brussels;VALUE=DATE:20190406
DTEND;TZID=Europe/Brussels;VALUE=DATE:20190411
SEQUENCE:0
TRANSP:OPAQUE
END:VEVENT
END:VCALENDAR