BEGIN:VCALENDAR
VERSION:2.0
PRODID:-//jEvents 2.0 for Joomla//EN
CALSCALE:GREGORIAN
METHOD:PUBLISH
BEGIN:VTIMEZONE
TZID:Europe/Brussels
BEGIN:STANDARD
DTSTART:20161030T020000
RDATE:20170326T030000
TZOFFSETFROM:+0200
TZOFFSETTO:+0100
TZNAME:Europe/Brussels CET
END:STANDARD
BEGIN:STANDARD
DTSTART:20171029T020000
RDATE:20180325T030000
TZOFFSETFROM:+0200
TZOFFSETTO:+0100
TZNAME:Europe/Brussels CET
END:STANDARD
BEGIN:STANDARD
DTSTART:20181028T020000
RDATE:20190331T030000
TZOFFSETFROM:+0200
TZOFFSETTO:+0100
TZNAME:Europe/Brussels CET
END:STANDARD
BEGIN:STANDARD
DTSTART:20191027T020000
RDATE:20200329T030000
TZOFFSETFROM:+0200
TZOFFSETTO:+0100
TZNAME:Europe/Brussels CET
END:STANDARD
BEGIN:STANDARD
DTSTART:20201025T020000
RDATE:20210328T030000
TZOFFSETFROM:+0200
TZOFFSETTO:+0100
TZNAME:Europe/Brussels CET
END:STANDARD
BEGIN:STANDARD
DTSTART:20211031T020000
RDATE:20220327T030000
TZOFFSETFROM:+0200
TZOFFSETTO:+0100
TZNAME:Europe/Brussels CET
END:STANDARD
BEGIN:STANDARD
DTSTART:20221030T020000
RDATE:20230326T030000
TZOFFSETFROM:+0200
TZOFFSETTO:+0100
TZNAME:Europe/Brussels CET
END:STANDARD
BEGIN:STANDARD
DTSTART:20231029T020000
RDATE:20240331T030000
TZOFFSETFROM:+0200
TZOFFSETTO:+0100
TZNAME:Europe/Brussels CET
END:STANDARD
BEGIN:STANDARD
DTSTART:20241027T020000
RDATE:20250330T030000
TZOFFSETFROM:+0200
TZOFFSETTO:+0100
TZNAME:Europe/Brussels CET
END:STANDARD
BEGIN:STANDARD
DTSTART:20251026T020000
RDATE:20260329T030000
TZOFFSETFROM:+0200
TZOFFSETTO:+0100
TZNAME:Europe/Brussels CET
END:STANDARD
BEGIN:STANDARD
DTSTART:20261025T020000
RDATE:20270328T030000
TZOFFSETFROM:+0200
TZOFFSETTO:+0100
TZNAME:Europe/Brussels CET
END:STANDARD
BEGIN:STANDARD
DTSTART:20271031T020000
RDATE:20280326T030000
TZOFFSETFROM:+0200
TZOFFSETTO:+0100
TZNAME:Europe/Brussels CET
END:STANDARD
BEGIN:STANDARD
DTSTART:20281029T020000
RDATE:20290325T030000
TZOFFSETFROM:+0200
TZOFFSETTO:+0100
TZNAME:Europe/Brussels CET
END:STANDARD
BEGIN:STANDARD
DTSTART:20291028T020000
RDATE:20300331T030000
TZOFFSETFROM:+0200
TZOFFSETTO:+0100
TZNAME:Europe/Brussels CET
END:STANDARD
BEGIN:STANDARD
DTSTART:20301027T020000
RDATE:20310330T030000
TZOFFSETFROM:+0200
TZOFFSETTO:+0100
TZNAME:Europe/Brussels CET
END:STANDARD
BEGIN:DAYLIGHT
DTSTART:20160702T000000
RDATE:20161030T020000
TZOFFSETFROM:+0100
TZOFFSETTO:+0200
TZNAME:Europe/Brussels CEST
END:DAYLIGHT
BEGIN:DAYLIGHT
DTSTART:20170326T030000
RDATE:20171029T020000
TZOFFSETFROM:+0100
TZOFFSETTO:+0200
TZNAME:Europe/Brussels CEST
END:DAYLIGHT
BEGIN:DAYLIGHT
DTSTART:20180325T030000
RDATE:20181028T020000
TZOFFSETFROM:+0100
TZOFFSETTO:+0200
TZNAME:Europe/Brussels CEST
END:DAYLIGHT
BEGIN:DAYLIGHT
DTSTART:20190331T030000
RDATE:20191027T020000
TZOFFSETFROM:+0100
TZOFFSETTO:+0200
TZNAME:Europe/Brussels CEST
END:DAYLIGHT
BEGIN:DAYLIGHT
DTSTART:20200329T030000
RDATE:20201025T020000
TZOFFSETFROM:+0100
TZOFFSETTO:+0200
TZNAME:Europe/Brussels CEST
END:DAYLIGHT
BEGIN:DAYLIGHT
DTSTART:20210328T030000
RDATE:20211031T020000
TZOFFSETFROM:+0100
TZOFFSETTO:+0200
TZNAME:Europe/Brussels CEST
END:DAYLIGHT
BEGIN:DAYLIGHT
DTSTART:20220327T030000
RDATE:20221030T020000
TZOFFSETFROM:+0100
TZOFFSETTO:+0200
TZNAME:Europe/Brussels CEST
END:DAYLIGHT
BEGIN:DAYLIGHT
DTSTART:20230326T030000
RDATE:20231029T020000
TZOFFSETFROM:+0100
TZOFFSETTO:+0200
TZNAME:Europe/Brussels CEST
END:DAYLIGHT
BEGIN:DAYLIGHT
DTSTART:20240331T030000
RDATE:20241027T020000
TZOFFSETFROM:+0100
TZOFFSETTO:+0200
TZNAME:Europe/Brussels CEST
END:DAYLIGHT
BEGIN:DAYLIGHT
DTSTART:20250330T030000
RDATE:20251026T020000
TZOFFSETFROM:+0100
TZOFFSETTO:+0200
TZNAME:Europe/Brussels CEST
END:DAYLIGHT
BEGIN:DAYLIGHT
DTSTART:20260329T030000
RDATE:20261025T020000
TZOFFSETFROM:+0100
TZOFFSETTO:+0200
TZNAME:Europe/Brussels CEST
END:DAYLIGHT
BEGIN:DAYLIGHT
DTSTART:20270328T030000
RDATE:20271031T020000
TZOFFSETFROM:+0100
TZOFFSETTO:+0200
TZNAME:Europe/Brussels CEST
END:DAYLIGHT
BEGIN:DAYLIGHT
DTSTART:20280326T030000
RDATE:20281029T020000
TZOFFSETFROM:+0100
TZOFFSETTO:+0200
TZNAME:Europe/Brussels CEST
END:DAYLIGHT
BEGIN:DAYLIGHT
DTSTART:20290325T030000
RDATE:20291028T020000
TZOFFSETFROM:+0100
TZOFFSETTO:+0200
TZNAME:Europe/Brussels CEST
END:DAYLIGHT
BEGIN:DAYLIGHT
DTSTART:20300331T030000
RDATE:20301027T020000
TZOFFSETFROM:+0100
TZOFFSETTO:+0200
TZNAME:Europe/Brussels CEST
END:DAYLIGHT
END:VTIMEZONE
BEGIN:VEVENT
UID:4605be07e5616d3d56f058508a67a190
CATEGORIES:Eenheid
CREATED:20160902T161706
SUMMARY:GROOTKAMP '17
LOCATION:Rue du plan d'eau, 5580 Han-Sur-Lesse
DESCRIPTION;ENCODING=QUOTED-PRINTABLE:\n\nZowel de leiding als het comité is volop bezig met de voorbereidingen e
 n kunnen niet wachten om te vertrekken! De inschrijvingsmails zijn ondertus
 sen verzonden, dus ook de kindjes kunnen zich beginnen inschrijven. Wees er
  zeker op tijd bij, de inschrijvingen sluiten 18 juni af.\n\n\n \n\n\nNiet 
 op tijd ingeschreven = niet mee op kamp. We kunnen hier geen uitzonderingen
  op maken. Dit vooral uit praktisch en logistiek aspect. In enkele luttele 
 minuten is uw kind ingeschreven en kan u er er van aan dat uw kind een prac
 htige tijd zal beleven deze zomer. Kampherinneringen zijn altijd de beste.\
 n\n\nWe gaan weer naar Han-Sur-Lesse. Het is een terrein waar we onder ande
 re in 2011 ook hebben gezeten. Het behoort tot één van onze betere locaties
 . \n\n\n \n\n\nPlanning\n\n\n1 & 2 juli: voorkamp\nDe leiding bouwt samen m
 et een hoop enthousiaste MagDa's het kampterrein op.\n\n\n \n\n\n3 juli: ve
 rtrek\nIedereen verzamelt aan het lokaal zodat we samen kunnen vertrekken. 
 Het exacte uur wordt later nog gecommuniceerd. Zorg er voor dat de medische
  fiche afgedrukt is en geef die samen met de eventuele medicatie en/of pamp
 ertjes af aan de leiding. Haal zeker ook alle oude gekleurde lintjes van de
  valiezen en rugzakken. Ze zullen een nieuwe krijgen. Aan de hand van de kl
 eurencode kunnen wij weten waar welke valies moet terechtkomen.\n\n\n \n\n\
 n9 juli: bezoekdag 10u-17u\nWe verwelkomen jullie met veel plezier op ons k
 ampterrein. We openen met een vlaggengroet. Hierna gaan we over tot een ove
 rheerlijke barbecue. Er zal een bar zijn, en ook koffie, taart en fruit zul
 len niet ontbreken. Jullie brengen best eigen stoelen, tafel, parasol, ... 
 mee. Wij voorzien hier niet in. Ook afsluiten doen we met een vlaggengroet.
  \n\n\nWe nemen afscheid van de bevertjes en de andere takken beginnen aan 
 de tweede week van hun kamp.\n\n\n \n\n\n14 juli: terugkomst\nWe zullen all
 emaal samen toekomen aan het scoutslokaal. Het exacte uur wordt nog gecommu
 niceerd.\n\n\n \n\n\nAdres: Rue du plan d'eau in Han-sur-Lesse\n\n\n \n\n\n
 Personen met speciale eetgewoontes dienen Stormvogel (Dit e-mailadres wordt
  beveiligd tegen spambots. JavaScript dient ingeschakeld te zijn om het te 
 bekijken.
				document.getElementById('cloak5438d8646818ffee8c8b07f5a093657
 1').innerHTML = '';
				var prefix = '&#109;a' + 'i&#108;' + '&#116;o';
			
 	var path = 'hr' + 'ef' + '=';
				var addy5438d8646818ffee8c8b07f5a0936571
  = '&#101;&#101;nh&#101;&#105;dsl&#101;&#105;d&#105;ng' + '&#64;';
				addy
 5438d8646818ffee8c8b07f5a0936571 = addy5438d8646818ffee8c8b07f5a0936571 + '
 d&#101;h&#97;v&#105;k' + '&#46;' + 'b&#101;';
				var addy_text5438d8646818
 ffee8c8b07f5a0936571 = '&#101;&#101;nh&#101;&#105;dsl&#101;&#105;d&#105;ng'
  + '&#64;' + 'd&#101;h&#97;v&#105;k' + '&#46;' + 'b&#101;';document.getElem
 entById('cloak5438d8646818ffee8c8b07f5a0936571').innerHTML += ''+addy_text5
 438d8646818ffee8c8b07f5a0936571+'';
		) persoonlijk te contacteren voor 16 
 juni.\n\n\n\nMeer info en updates: \n- http://www.dehavik.be/grootkamp\n- D
 e takleiders zullen nog een gedetailleerde mail sturen met tak-specifieke i
 nformatie.\n- Bescherm jezelf en uw kinderen tegen teken en luizen verzorg 
 uw/hun voethygiëne!  Als je kind toch nog luizen heeft bij het vertrek, gel
 ieve de leiding dan zeker te verwittigen en zelf het nodige materiaal (kamm
 etje, shampoo) mee te geven. Zo kan de behandeling verder gezet worden. Kos
 ten van de luizenbehandeling bij kinderen waar dit niet gemeld is voor de s
 tart van het kamp zullen in rekening worden gebracht\n\n\n\n\n
CONTACT:Stormvogel +32474/19.94.71
X-EXTRAINFO:www.dehavik.be/grootkamp
DTSTAMP:20260423T101949Z
DTSTART;TZID=Europe/Brussels;VALUE=DATE:20170703
DTEND;TZID=Europe/Brussels;VALUE=DATE:20170715
SEQUENCE:0
TRANSP:OPAQUE
END:VEVENT
END:VCALENDAR