BEGIN:VCALENDAR
VERSION:2.0
PRODID:-//jEvents 2.0 for Joomla//EN
CALSCALE:GREGORIAN
METHOD:PUBLISH
BEGIN:VTIMEZONE
TZID:Europe/Brussels
BEGIN:STANDARD
DTSTART:20231108T180000
RDATE:20240331T030000
TZOFFSETFROM:+0200
TZOFFSETTO:+0100
TZNAME:Europe/Brussels CET
END:STANDARD
BEGIN:STANDARD
DTSTART:20241027T020000
RDATE:20250330T030000
TZOFFSETFROM:+0200
TZOFFSETTO:+0100
TZNAME:Europe/Brussels CET
END:STANDARD
BEGIN:STANDARD
DTSTART:20251026T020000
RDATE:20260329T030000
TZOFFSETFROM:+0200
TZOFFSETTO:+0100
TZNAME:Europe/Brussels CET
END:STANDARD
BEGIN:STANDARD
DTSTART:20261025T020000
RDATE:20270328T030000
TZOFFSETFROM:+0200
TZOFFSETTO:+0100
TZNAME:Europe/Brussels CET
END:STANDARD
BEGIN:STANDARD
DTSTART:20271031T020000
RDATE:20280326T030000
TZOFFSETFROM:+0200
TZOFFSETTO:+0100
TZNAME:Europe/Brussels CET
END:STANDARD
BEGIN:STANDARD
DTSTART:20281029T020000
RDATE:20290325T030000
TZOFFSETFROM:+0200
TZOFFSETTO:+0100
TZNAME:Europe/Brussels CET
END:STANDARD
BEGIN:STANDARD
DTSTART:20291028T020000
RDATE:20300331T030000
TZOFFSETFROM:+0200
TZOFFSETTO:+0100
TZNAME:Europe/Brussels CET
END:STANDARD
BEGIN:STANDARD
DTSTART:20301027T020000
RDATE:20310330T030000
TZOFFSETFROM:+0200
TZOFFSETTO:+0100
TZNAME:Europe/Brussels CET
END:STANDARD
BEGIN:DAYLIGHT
DTSTART:20240331T030000
RDATE:20241027T020000
TZOFFSETFROM:+0100
TZOFFSETTO:+0200
TZNAME:Europe/Brussels CEST
END:DAYLIGHT
BEGIN:DAYLIGHT
DTSTART:20250330T030000
RDATE:20251026T020000
TZOFFSETFROM:+0100
TZOFFSETTO:+0200
TZNAME:Europe/Brussels CEST
END:DAYLIGHT
BEGIN:DAYLIGHT
DTSTART:20260329T030000
RDATE:20261025T020000
TZOFFSETFROM:+0100
TZOFFSETTO:+0200
TZNAME:Europe/Brussels CEST
END:DAYLIGHT
BEGIN:DAYLIGHT
DTSTART:20270328T030000
RDATE:20271031T020000
TZOFFSETFROM:+0100
TZOFFSETTO:+0200
TZNAME:Europe/Brussels CEST
END:DAYLIGHT
BEGIN:DAYLIGHT
DTSTART:20280326T030000
RDATE:20281029T020000
TZOFFSETFROM:+0100
TZOFFSETTO:+0200
TZNAME:Europe/Brussels CEST
END:DAYLIGHT
BEGIN:DAYLIGHT
DTSTART:20290325T030000
RDATE:20291028T020000
TZOFFSETFROM:+0100
TZOFFSETTO:+0200
TZNAME:Europe/Brussels CEST
END:DAYLIGHT
BEGIN:DAYLIGHT
DTSTART:20300331T030000
RDATE:20301027T020000
TZOFFSETFROM:+0100
TZOFFSETTO:+0200
TZNAME:Europe/Brussels CEST
END:DAYLIGHT
END:VTIMEZONE
BEGIN:VEVENT
UID:494a61408239fe028e512e82ffdc77a0
CATEGORIES:Bevers
CREATED:20241021T233229
SUMMARY:novemberweekend
DESCRIPTION;ENCODING=QUOTED-PRINTABLE:\n\n&nbsp;\n\n\nDag beste beverouders,\n\n\n&nbsp;Het eerste weekend van de
  bevertjes komt er aan wat voor velen toch wat spannend kan zijn, dus wil i
 k hier alvast al veel informatie over geven en laten weten dat de inschrijv
 ingen geopend zijn!\n\n\n&nbsp;Het weekend is van vrijdag 8 november tem zo
 ndag 10 november. De bevers zitten in het lokaal de blije alpaca in Lokeren
 , adres: Hulsdongenstraat 6, 9160 Lokeren.\n\n\nVoor het vertrek en terugko
 mst van de bevertjes zouden we carpoolen van en naar Lokeren. We verzamelen
  aan het scouts lokaal in De Pinte om 19u voor het vertrek en voor de terug
 komst om 14:30u aan de blije alpaca. Als u als ouder wilt carpoolen heen en
 /of terug gelieve mij een mail te sturen zodat we zeker genoeg plaatsen heb
 ben voor de bevertjes. &nbsp;Alle bevers vertrekken in perfect uniform! (he
 md + das + blauwe broek + bottines)\n\n\nMedicatie en medische fiche: De me
 dische fiche moet niet afgegeven worden bij vertrek maar vul online op Keoo
  de medische gegevens van uw bever aan.Indien uw kind medicatie moet krijge
 n, had ik graag hierover een apart mailtje ontvangen met daarin de frequent
 ie en hoeveelheid zodat ik een duidelijk overzicht kan opmaken. Gelieve de 
 medicatie bij vertrek af te geven genaamtekend.&nbsp;&nbsp;\n\n\nIs het mog
 elijk om voor de kindjes die de afgelopen maanden nog ongelukjes gehad hebb
 en toch nog voor dit weekend pampers mee te geven. &nbsp;Op een weekend in 
 een andere omgeving kunnen ongelukjes zeker snel gebeurd zijn en zo willen 
 we de bevertjes die dit toch nog soms hebben het meest op hun gemak stellen
 . Als leiding voorzien wij voor de bevers ook de mogelijkheid dat we rond 1
 2u 's nachts uw kind nog eens naar toilet laten gaan om ongelukjes te vermi
 jden.\n\n\n&nbsp;&nbsp;Bijzondere eetgewoontes: Als uw kind een intoleranti
 e heeft of vegetarisch of veganistisch eet gelieve dit ook op Keoo in te vu
 llen bij het vakje 'dieet' en mij dit ook in een mail door te sturen.\n\n\n
 &nbsp;Benodigdheden:\n\n - bedovertrek&nbsp;\n - kussen &amp; kussensloop\n
  - slaapzak\n - pyjama&nbsp;\n - knuffel\n - tandenborstel + tandpasta (+ b
 eker)\n - kam\n - washandje\n - perfect uniform (hemd + das + blauwe broek 
 + bottines)\n - minimum 3 t shirts\n - 2 speelbroeken&nbsp;\n - minimum 3 o
 nderbroeken + 3 paar kousen\n - dikke trui\n - thema kledij\n - indien nodi
 g: pampers, medicatie\n - regenjas\n - speelschoenen\n - sjaal en muts\n - 
 (pantoffels)\n - zaklamp\n - kleurboekjes/ strips&nbsp;\n\nHet weekend kost
  35 euro per kind, het som-kort tarief is zoals elke keer 1/3 van de prijs.
  U kunt betalen via het rekeningnummer: BE85 7370 1893 0706, met uw persoon
 lijke gestructureerde mededeling. Direct betalen online met qr code kan via
  deze link: www.dehavik.be/gestructureerde_mededeling/?id=[SCOUT_ID]. De de
 adline voor de inschrijvingen is zondag 3 november.\n\n\nNa al deze praktis
 che zaken meegedeeld te hebben, laat ik met veel plezier weten dat het them
 a voor dit weekend bosdiertjes is!!!! Dus voor dit novemberweekend zien we 
 graag allemaal vosjes, konijntjes, beertjes of hertjes of zo veel andere sc
 hattige diertjes!\n\n\nNog kort samengevat wat moet gebeuren: het weekend l
 oopt van vrijdag 08/11 vanaf 19u (De Pinte) - zondag 10/11 tot 14:30u (Loke
 ren).\n\n - als u wilt carpoolen gelieve een mail te sturen voor heen en/of
  terug + aantal plaatsen\n - medicatie van uw kind in een mail door te stur
 en + op keoo invullen\n - intoleranties of andere eetgewoontes in een mail 
 te sturen + op Keoo invullen\n - kindjes die in de nacht nog eens wakker mo
 eten gemaakt worden om naar toilet te gaan of in de nacht nog een pamper dr
 agen te laten weten via mail\n\nHier vindt u nog mijn contactgegevens voor 
 dringende zaken: 0468 461750 , e-mail: Dit e-mailadres wordt beveiligd tege
 n spambots. JavaScript dient ingeschakeld te zijn om het te bekijken.
				d
 ocument.getElementById('cloak72a25a1d81a7f4ecf1240840b82319b4').innerHTML =
  '';
				var prefix = '&#109;a' + 'i&#108;' + '&#116;o';
				var path = 'hr
 ' + 'ef' + '=';
				var addy72a25a1d81a7f4ecf1240840b82319b4 = 'z&#105;lv&#
 101;rm&#101;&#101;&#117;w' + '&#64;';
				addy72a25a1d81a7f4ecf1240840b8231
 9b4 = addy72a25a1d81a7f4ecf1240840b82319b4 + 'd&#101;h&#97;v&#105;k' + '&#4
 6;' + 'b&#101;';
				var addy_text72a25a1d81a7f4ecf1240840b82319b4 = 'z&#10
 5;lv&#101;rm&#101;&#101;&#117;w' + '&#64;' + 'd&#101;h&#97;v&#105;k' + '&#4
 6;' + 'b&#101;';document.getElementById('cloak72a25a1d81a7f4ecf1240840b8231
 9b4').innerHTML += ''+addy_text72a25a1d81a7f4ecf1240840b82319b4+'';
		\n\n\
 nWij kijken met alle leiding alvast zeer hard uit naar het eerste weekend m
 et onze bevertjes!\n\n\nVele groetjes Simsam/ Nina\n
DTSTAMP:20260421T185828Z
DTSTART;TZID=Europe/Brussels:20241108T180000
DTEND;TZID=Europe/Brussels:20241110T143000
SEQUENCE:0
TRANSP:OPAQUE
END:VEVENT
END:VCALENDAR