BEGIN:VCALENDAR
VERSION:2.0
PRODID:-//jEvents 2.0 for Joomla//EN
CALSCALE:GREGORIAN
METHOD:PUBLISH
BEGIN:VTIMEZONE
TZID:Europe/Brussels
BEGIN:STANDARD
DTSTART:20241027T020000
RDATE:20250330T030000
TZOFFSETFROM:+0200
TZOFFSETTO:+0100
TZNAME:Europe/Brussels CET
END:STANDARD
BEGIN:STANDARD
DTSTART:20251026T020000
RDATE:20260329T030000
TZOFFSETFROM:+0200
TZOFFSETTO:+0100
TZNAME:Europe/Brussels CET
END:STANDARD
BEGIN:STANDARD
DTSTART:20261025T020000
RDATE:20270328T030000
TZOFFSETFROM:+0200
TZOFFSETTO:+0100
TZNAME:Europe/Brussels CET
END:STANDARD
BEGIN:STANDARD
DTSTART:20271031T020000
RDATE:20280326T030000
TZOFFSETFROM:+0200
TZOFFSETTO:+0100
TZNAME:Europe/Brussels CET
END:STANDARD
BEGIN:STANDARD
DTSTART:20281029T020000
RDATE:20290325T030000
TZOFFSETFROM:+0200
TZOFFSETTO:+0100
TZNAME:Europe/Brussels CET
END:STANDARD
BEGIN:STANDARD
DTSTART:20291028T020000
RDATE:20300331T030000
TZOFFSETFROM:+0200
TZOFFSETTO:+0100
TZNAME:Europe/Brussels CET
END:STANDARD
BEGIN:STANDARD
DTSTART:20301027T020000
RDATE:20310330T030000
TZOFFSETFROM:+0200
TZOFFSETTO:+0100
TZNAME:Europe/Brussels CET
END:STANDARD
BEGIN:DAYLIGHT
DTSTART:20240425T000000
RDATE:20241027T020000
TZOFFSETFROM:+0100
TZOFFSETTO:+0200
TZNAME:Europe/Brussels CEST
END:DAYLIGHT
BEGIN:DAYLIGHT
DTSTART:20250330T030000
RDATE:20251026T020000
TZOFFSETFROM:+0100
TZOFFSETTO:+0200
TZNAME:Europe/Brussels CEST
END:DAYLIGHT
BEGIN:DAYLIGHT
DTSTART:20260329T030000
RDATE:20261025T020000
TZOFFSETFROM:+0100
TZOFFSETTO:+0200
TZNAME:Europe/Brussels CEST
END:DAYLIGHT
BEGIN:DAYLIGHT
DTSTART:20270328T030000
RDATE:20271031T020000
TZOFFSETFROM:+0100
TZOFFSETTO:+0200
TZNAME:Europe/Brussels CEST
END:DAYLIGHT
BEGIN:DAYLIGHT
DTSTART:20280326T030000
RDATE:20281029T020000
TZOFFSETFROM:+0100
TZOFFSETTO:+0200
TZNAME:Europe/Brussels CEST
END:DAYLIGHT
BEGIN:DAYLIGHT
DTSTART:20290325T030000
RDATE:20291028T020000
TZOFFSETFROM:+0100
TZOFFSETTO:+0200
TZNAME:Europe/Brussels CEST
END:DAYLIGHT
BEGIN:DAYLIGHT
DTSTART:20300331T030000
RDATE:20301027T020000
TZOFFSETFROM:+0100
TZOFFSETTO:+0200
TZNAME:Europe/Brussels CEST
END:DAYLIGHT
END:VTIMEZONE
BEGIN:VEVENT
UID:746e7d8e7f145640ab19efd0d945588a
CATEGORIES:Bevers
CREATED:20240916T193146
SUMMARY:Betaalde activiteit - Plopsaland!!!
DESCRIPTION;ENCODING=QUOTED-PRINTABLE:<p data-start="77" data-end="93"><span style="color: #993300;"><strong data
 -start="77" data-end="93">Heyy bevers,</strong></span></p><p data-start="95
 " data-end="258">Deze zaterdag trekken we er samen op uit naar<span style="
 color: #ff9900;">… <strong data-start="142" data-end="156">Plopsaland</stro
 ng>! </span>&nbsp;Bereid je voor op een dag vol plezier, avontuur en betove
 ring tussen je favoriete Plop-figuren.</p><p data-start="260" data-end="446
 ">Let op: dit is een <span style="color: #008000;"><strong data-start="279"
  data-end="302">betaalde activiteit</strong></span>. Alle bijkomende inform
 atie (zoals vertrekuren, wat mee te nemen, en de kostprijs) vind je op de<s
 pan style="color: #993366;"> <strong data-start="400" data-end="413">frontp
 age</strong></span> en in de <span style="color: #ff6600;"><strong data-sta
 rt="423" data-end="445">mail van Simsam</strong>.</span></p><p data-start="
 448" data-end="533">Zorg dus dat je alles goed checkt en helemaal klaar ben
 t voor een onvergetelijke dag!</p><p data-start="535" data-end="552"><span 
 style="color: #ff00ff;"><strong data-start="535" data-end="552">Tot zaterda
 g!</strong></span></p><p data-start="554" data-end="653">Wilde groetjes van
  de Beverleiding.<br data-start="589" data-end="592" /> <span style="color:
  #800080;">Niet vergeten: goed humeur, perfect uniform</span></p>
DTSTAMP:20260421T104908Z
DTSTART;TZID=Europe/Brussels;VALUE=DATE:20250426
DTEND;TZID=Europe/Brussels;VALUE=DATE:20250427
SEQUENCE:0
TRANSP:OPAQUE
END:VEVENT
END:VCALENDAR