BEGIN:VCALENDAR
VERSION:2.0
PRODID:-//jEvents 2.0 for Joomla//EN
CALSCALE:GREGORIAN
METHOD:PUBLISH
BEGIN:VTIMEZONE
TZID:Europe/Brussels
BEGIN:STANDARD
DTSTART:20240314T143000
RDATE:20240331T030000
TZOFFSETFROM:+0200
TZOFFSETTO:+0100
TZNAME:Europe/Brussels CET
END:STANDARD
BEGIN:STANDARD
DTSTART:20241027T020000
RDATE:20250330T030000
TZOFFSETFROM:+0200
TZOFFSETTO:+0100
TZNAME:Europe/Brussels CET
END:STANDARD
BEGIN:STANDARD
DTSTART:20251026T020000
RDATE:20260329T030000
TZOFFSETFROM:+0200
TZOFFSETTO:+0100
TZNAME:Europe/Brussels CET
END:STANDARD
BEGIN:STANDARD
DTSTART:20261025T020000
RDATE:20270328T030000
TZOFFSETFROM:+0200
TZOFFSETTO:+0100
TZNAME:Europe/Brussels CET
END:STANDARD
BEGIN:STANDARD
DTSTART:20271031T020000
RDATE:20280326T030000
TZOFFSETFROM:+0200
TZOFFSETTO:+0100
TZNAME:Europe/Brussels CET
END:STANDARD
BEGIN:STANDARD
DTSTART:20281029T020000
RDATE:20290325T030000
TZOFFSETFROM:+0200
TZOFFSETTO:+0100
TZNAME:Europe/Brussels CET
END:STANDARD
BEGIN:STANDARD
DTSTART:20291028T020000
RDATE:20300331T030000
TZOFFSETFROM:+0200
TZOFFSETTO:+0100
TZNAME:Europe/Brussels CET
END:STANDARD
BEGIN:STANDARD
DTSTART:20301027T020000
RDATE:20310330T030000
TZOFFSETFROM:+0200
TZOFFSETTO:+0100
TZNAME:Europe/Brussels CET
END:STANDARD
BEGIN:DAYLIGHT
DTSTART:20240331T030000
RDATE:20241027T020000
TZOFFSETFROM:+0100
TZOFFSETTO:+0200
TZNAME:Europe/Brussels CEST
END:DAYLIGHT
BEGIN:DAYLIGHT
DTSTART:20250330T030000
RDATE:20251026T020000
TZOFFSETFROM:+0100
TZOFFSETTO:+0200
TZNAME:Europe/Brussels CEST
END:DAYLIGHT
BEGIN:DAYLIGHT
DTSTART:20260329T030000
RDATE:20261025T020000
TZOFFSETFROM:+0100
TZOFFSETTO:+0200
TZNAME:Europe/Brussels CEST
END:DAYLIGHT
BEGIN:DAYLIGHT
DTSTART:20270328T030000
RDATE:20271031T020000
TZOFFSETFROM:+0100
TZOFFSETTO:+0200
TZNAME:Europe/Brussels CEST
END:DAYLIGHT
BEGIN:DAYLIGHT
DTSTART:20280326T030000
RDATE:20281029T020000
TZOFFSETFROM:+0100
TZOFFSETTO:+0200
TZNAME:Europe/Brussels CEST
END:DAYLIGHT
BEGIN:DAYLIGHT
DTSTART:20290325T030000
RDATE:20291028T020000
TZOFFSETFROM:+0100
TZOFFSETTO:+0200
TZNAME:Europe/Brussels CEST
END:DAYLIGHT
BEGIN:DAYLIGHT
DTSTART:20300331T030000
RDATE:20301027T020000
TZOFFSETFROM:+0100
TZOFFSETTO:+0200
TZNAME:Europe/Brussels CEST
END:DAYLIGHT
END:VTIMEZONE
BEGIN:VEVENT
UID:ae4030f9039fb1b5ff16a7a260c9bdcd
CATEGORIES:Bevers
CREATED:20240916T192551
SUMMARY:Vergadering 
DESCRIPTION;ENCODING=QUOTED-PRINTABLE:<p data-start="0" data-end="23">Heyy creatievelingen,</p><p data-start="25"
  data-end="300">Deze zaterdag zetten we de <span style="color: #993300;"><s
 trong data-start="52" data-end="71">puntjes op de i</strong> </span>voor de
  Havikse Feesten! ??? We werken onze knutselwerken af, zorgen voor de laats
 te details en maken alles helemaal feestklaar. Ook ons <span style="color: 
 #ff00ff;"><strong data-start="210" data-end="220">dansje</strong></span> kr
 ijgt de finishing touch, zodat we straks kunnen stralen op het podium! ??</
 p><p data-start="302" data-end="447"><span style="color: #3366ff;"><strong 
 data-start="302" data-end="353">Vergeet niet om je ouders in te laten schri
 jven</strong></span> als ze dat nog niet hebben gedaan! We kijken ernaar ui
 t om samen iets moois neer te zetten.</p><p data-start="449" data-end="464"
 >Tot zaterdag!</p><p data-start="466" data-end="508">Kleurrijke groetjes va
 n de Crea-leiding.</p><p data-start="510" data-end="571"><span style="color
 : #00ccff;"><strong data-start="510" data-end="528">Niet vergeten:</strong>
  </span>goed humeur, perfect uniform en 50 cent. ?</p>
DTSTAMP:20260421T120149Z
DTSTART;TZID=Europe/Brussels:20250315T143000
DTEND;TZID=Europe/Brussels:20250315T173000
SEQUENCE:0
TRANSP:OPAQUE
END:VEVENT
END:VCALENDAR