BEGIN:VCALENDAR
VERSION:2.0
PRODID:-//jEvents 2.0 for Joomla//EN
CALSCALE:GREGORIAN
METHOD:PUBLISH
BEGIN:VTIMEZONE
TZID:Europe/Brussels
BEGIN:STANDARD
DTSTART:20240307T143000
RDATE:20240331T030000
TZOFFSETFROM:+0200
TZOFFSETTO:+0100
TZNAME:Europe/Brussels CET
END:STANDARD
BEGIN:STANDARD
DTSTART:20241027T020000
RDATE:20250330T030000
TZOFFSETFROM:+0200
TZOFFSETTO:+0100
TZNAME:Europe/Brussels CET
END:STANDARD
BEGIN:STANDARD
DTSTART:20251026T020000
RDATE:20260329T030000
TZOFFSETFROM:+0200
TZOFFSETTO:+0100
TZNAME:Europe/Brussels CET
END:STANDARD
BEGIN:STANDARD
DTSTART:20261025T020000
RDATE:20270328T030000
TZOFFSETFROM:+0200
TZOFFSETTO:+0100
TZNAME:Europe/Brussels CET
END:STANDARD
BEGIN:STANDARD
DTSTART:20271031T020000
RDATE:20280326T030000
TZOFFSETFROM:+0200
TZOFFSETTO:+0100
TZNAME:Europe/Brussels CET
END:STANDARD
BEGIN:STANDARD
DTSTART:20281029T020000
RDATE:20290325T030000
TZOFFSETFROM:+0200
TZOFFSETTO:+0100
TZNAME:Europe/Brussels CET
END:STANDARD
BEGIN:STANDARD
DTSTART:20291028T020000
RDATE:20300331T030000
TZOFFSETFROM:+0200
TZOFFSETTO:+0100
TZNAME:Europe/Brussels CET
END:STANDARD
BEGIN:STANDARD
DTSTART:20301027T020000
RDATE:20310330T030000
TZOFFSETFROM:+0200
TZOFFSETTO:+0100
TZNAME:Europe/Brussels CET
END:STANDARD
BEGIN:DAYLIGHT
DTSTART:20240331T030000
RDATE:20241027T020000
TZOFFSETFROM:+0100
TZOFFSETTO:+0200
TZNAME:Europe/Brussels CEST
END:DAYLIGHT
BEGIN:DAYLIGHT
DTSTART:20250330T030000
RDATE:20251026T020000
TZOFFSETFROM:+0100
TZOFFSETTO:+0200
TZNAME:Europe/Brussels CEST
END:DAYLIGHT
BEGIN:DAYLIGHT
DTSTART:20260329T030000
RDATE:20261025T020000
TZOFFSETFROM:+0100
TZOFFSETTO:+0200
TZNAME:Europe/Brussels CEST
END:DAYLIGHT
BEGIN:DAYLIGHT
DTSTART:20270328T030000
RDATE:20271031T020000
TZOFFSETFROM:+0100
TZOFFSETTO:+0200
TZNAME:Europe/Brussels CEST
END:DAYLIGHT
BEGIN:DAYLIGHT
DTSTART:20280326T030000
RDATE:20281029T020000
TZOFFSETFROM:+0100
TZOFFSETTO:+0200
TZNAME:Europe/Brussels CEST
END:DAYLIGHT
BEGIN:DAYLIGHT
DTSTART:20290325T030000
RDATE:20291028T020000
TZOFFSETFROM:+0100
TZOFFSETTO:+0200
TZNAME:Europe/Brussels CEST
END:DAYLIGHT
BEGIN:DAYLIGHT
DTSTART:20300331T030000
RDATE:20301027T020000
TZOFFSETFROM:+0100
TZOFFSETTO:+0200
TZNAME:Europe/Brussels CEST
END:DAYLIGHT
END:VTIMEZONE
BEGIN:VEVENT
UID:bcaf584f24cddc6d194abb81b3989f21
CATEGORIES:Bevers
CREATED:20240916T192527
SUMMARY:Vergadering
DESCRIPTION;ENCODING=QUOTED-PRINTABLE:<p data-start="0" data-end="23">Heyy creatievelingen,</p><p data-start="25"
  data-end="363">Deze zaterdag staat helemaal in het teken van <span style="
 color: #ff6600;"><strong data-start="71" data-end="117">crea en knutselen v
 oor de Havikse Feesten!</strong> </span>??? We gaan schilderen, knippen, pl
 akken en onze mooiste creaties maken om het evenement extra speciaal te mak
 en. Maar dat is nog niet alles... We gaan ook een <span style="color: #9933
 66;"><strong data-start="279" data-end="298">supertof dansje</strong></span
 > oefenen, zodat we straks kunnen schitteren op de feesten! ??</p><p data-s
 tart="365" data-end="466"><span style="color: #ff0000;"><strong data-start=
 "365" data-end="423">Vergeet zeker niet om je ouders in te laten schrijven,
 </strong> </span>zodat niemand dit geweldige moment mist!</p><p data-start=
 "468" data-end="483">Tot zaterdag!</p><p data-start="485" data-end="527">Kl
 eurrijke groetjes van de Crea-leiding.</p><p data-start="529" data-end="590
 "><span style="color: #3366ff;"><strong data-start="529" data-end="547">Nie
 t vergeten:</strong> </span>goed humeur, perfect uniform en 50 cent. ?</p>
DTSTAMP:20260421T133310Z
DTSTART;TZID=Europe/Brussels:20250308T143000
DTEND;TZID=Europe/Brussels:20250308T173000
SEQUENCE:0
TRANSP:OPAQUE
END:VEVENT
END:VCALENDAR