BEGIN:VCALENDAR
VERSION:2.0
PRODID:-//jEvents 2.0 for Joomla//EN
CALSCALE:GREGORIAN
METHOD:PUBLISH
BEGIN:VTIMEZONE
TZID:Europe/Brussels
BEGIN:STANDARD
DTSTART:20240201T143000
RDATE:20240331T030000
TZOFFSETFROM:+0200
TZOFFSETTO:+0100
TZNAME:Europe/Brussels CET
END:STANDARD
BEGIN:STANDARD
DTSTART:20241027T020000
RDATE:20250330T030000
TZOFFSETFROM:+0200
TZOFFSETTO:+0100
TZNAME:Europe/Brussels CET
END:STANDARD
BEGIN:STANDARD
DTSTART:20251026T020000
RDATE:20260329T030000
TZOFFSETFROM:+0200
TZOFFSETTO:+0100
TZNAME:Europe/Brussels CET
END:STANDARD
BEGIN:STANDARD
DTSTART:20261025T020000
RDATE:20270328T030000
TZOFFSETFROM:+0200
TZOFFSETTO:+0100
TZNAME:Europe/Brussels CET
END:STANDARD
BEGIN:STANDARD
DTSTART:20271031T020000
RDATE:20280326T030000
TZOFFSETFROM:+0200
TZOFFSETTO:+0100
TZNAME:Europe/Brussels CET
END:STANDARD
BEGIN:STANDARD
DTSTART:20281029T020000
RDATE:20290325T030000
TZOFFSETFROM:+0200
TZOFFSETTO:+0100
TZNAME:Europe/Brussels CET
END:STANDARD
BEGIN:STANDARD
DTSTART:20291028T020000
RDATE:20300331T030000
TZOFFSETFROM:+0200
TZOFFSETTO:+0100
TZNAME:Europe/Brussels CET
END:STANDARD
BEGIN:STANDARD
DTSTART:20301027T020000
RDATE:20310330T030000
TZOFFSETFROM:+0200
TZOFFSETTO:+0100
TZNAME:Europe/Brussels CET
END:STANDARD
BEGIN:DAYLIGHT
DTSTART:20240331T030000
RDATE:20241027T020000
TZOFFSETFROM:+0100
TZOFFSETTO:+0200
TZNAME:Europe/Brussels CEST
END:DAYLIGHT
BEGIN:DAYLIGHT
DTSTART:20250330T030000
RDATE:20251026T020000
TZOFFSETFROM:+0100
TZOFFSETTO:+0200
TZNAME:Europe/Brussels CEST
END:DAYLIGHT
BEGIN:DAYLIGHT
DTSTART:20260329T030000
RDATE:20261025T020000
TZOFFSETFROM:+0100
TZOFFSETTO:+0200
TZNAME:Europe/Brussels CEST
END:DAYLIGHT
BEGIN:DAYLIGHT
DTSTART:20270328T030000
RDATE:20271031T020000
TZOFFSETFROM:+0100
TZOFFSETTO:+0200
TZNAME:Europe/Brussels CEST
END:DAYLIGHT
BEGIN:DAYLIGHT
DTSTART:20280326T030000
RDATE:20281029T020000
TZOFFSETFROM:+0100
TZOFFSETTO:+0200
TZNAME:Europe/Brussels CEST
END:DAYLIGHT
BEGIN:DAYLIGHT
DTSTART:20290325T030000
RDATE:20291028T020000
TZOFFSETFROM:+0100
TZOFFSETTO:+0200
TZNAME:Europe/Brussels CEST
END:DAYLIGHT
BEGIN:DAYLIGHT
DTSTART:20300331T030000
RDATE:20301027T020000
TZOFFSETFROM:+0100
TZOFFSETTO:+0200
TZNAME:Europe/Brussels CEST
END:DAYLIGHT
END:VTIMEZONE
BEGIN:VEVENT
UID:857be0d120687eabef862b358ed56c82
CATEGORIES:Bevers
CREATED:20240916T191705
SUMMARY:Azaleaverkoop
DESCRIPTION;ENCODING=QUOTED-PRINTABLE:<p>Deze zaterdagmiddag gaan we in De Pinte op pad om azalea's te verkopen e
 n geld in te zamelen voor de scouts! Het is een perfecte kans om je beste v
 erkooppraatjes boven te halen en iedereen te overtuigen van die mooie bloem
 en! ?? We doen dit in groepjes met kinderen van elke tak, dus je zal samen 
 met een vriendje (of 2?) en enkele welpen, wolven, jvg enz op stap gaan met
  een leiding. Een ouder vervoert de bloemen tot in de wijk.</p><p>Wat moet 
 je meenemen?</p><ul><li>Goede stapschoenen want we gaan heel de middag wand
 elen in een wijk van De Pinte!</li><li>Warme en droge kleren. Het kan fris 
 zijn of regenen, dus pak je goed in. Vergeet zeker je handschoenen niet!</l
 i><li>Enthousiasme en je beste verkooppraatjes! ?</li></ul><p>Kom mee, wand
 el gezellig en help ons geld in te zamelen voor nieuwe avonturen en activit
 eiten! We rekenen op jou om de azalea's aan de man te brengen!</p><p>Tot za
 terdagmiddag! ?</p><p>Groetjes de leiding!!!!</p>
DTSTAMP:20260421T144927Z
DTSTART;TZID=Europe/Brussels:20250201T143000
DTEND;TZID=Europe/Brussels:20250201T173000
SEQUENCE:0
TRANSP:OPAQUE
END:VEVENT
END:VCALENDAR