BEGIN:VCALENDAR
VERSION:2.0
PRODID:-//jEvents 2.0 for Joomla//EN
CALSCALE:GREGORIAN
METHOD:PUBLISH
BEGIN:VTIMEZONE
TZID:Europe/Brussels
BEGIN:STANDARD
DTSTART:20231221T173000
RDATE:20240331T030000
TZOFFSETFROM:+0200
TZOFFSETTO:+0100
TZNAME:Europe/Brussels CET
END:STANDARD
BEGIN:STANDARD
DTSTART:20241027T020000
RDATE:20250330T030000
TZOFFSETFROM:+0200
TZOFFSETTO:+0100
TZNAME:Europe/Brussels CET
END:STANDARD
BEGIN:STANDARD
DTSTART:20251026T020000
RDATE:20260329T030000
TZOFFSETFROM:+0200
TZOFFSETTO:+0100
TZNAME:Europe/Brussels CET
END:STANDARD
BEGIN:STANDARD
DTSTART:20261025T020000
RDATE:20270328T030000
TZOFFSETFROM:+0200
TZOFFSETTO:+0100
TZNAME:Europe/Brussels CET
END:STANDARD
BEGIN:STANDARD
DTSTART:20271031T020000
RDATE:20280326T030000
TZOFFSETFROM:+0200
TZOFFSETTO:+0100
TZNAME:Europe/Brussels CET
END:STANDARD
BEGIN:STANDARD
DTSTART:20281029T020000
RDATE:20290325T030000
TZOFFSETFROM:+0200
TZOFFSETTO:+0100
TZNAME:Europe/Brussels CET
END:STANDARD
BEGIN:STANDARD
DTSTART:20291028T020000
RDATE:20300331T030000
TZOFFSETFROM:+0200
TZOFFSETTO:+0100
TZNAME:Europe/Brussels CET
END:STANDARD
BEGIN:STANDARD
DTSTART:20301027T020000
RDATE:20310330T030000
TZOFFSETFROM:+0200
TZOFFSETTO:+0100
TZNAME:Europe/Brussels CET
END:STANDARD
BEGIN:DAYLIGHT
DTSTART:20240331T030000
RDATE:20241027T020000
TZOFFSETFROM:+0100
TZOFFSETTO:+0200
TZNAME:Europe/Brussels CEST
END:DAYLIGHT
BEGIN:DAYLIGHT
DTSTART:20250330T030000
RDATE:20251026T020000
TZOFFSETFROM:+0100
TZOFFSETTO:+0200
TZNAME:Europe/Brussels CEST
END:DAYLIGHT
BEGIN:DAYLIGHT
DTSTART:20260329T030000
RDATE:20261025T020000
TZOFFSETFROM:+0100
TZOFFSETTO:+0200
TZNAME:Europe/Brussels CEST
END:DAYLIGHT
BEGIN:DAYLIGHT
DTSTART:20270328T030000
RDATE:20271031T020000
TZOFFSETFROM:+0100
TZOFFSETTO:+0200
TZNAME:Europe/Brussels CEST
END:DAYLIGHT
BEGIN:DAYLIGHT
DTSTART:20280326T030000
RDATE:20281029T020000
TZOFFSETFROM:+0100
TZOFFSETTO:+0200
TZNAME:Europe/Brussels CEST
END:DAYLIGHT
BEGIN:DAYLIGHT
DTSTART:20290325T030000
RDATE:20291028T020000
TZOFFSETFROM:+0100
TZOFFSETTO:+0200
TZNAME:Europe/Brussels CEST
END:DAYLIGHT
BEGIN:DAYLIGHT
DTSTART:20300331T030000
RDATE:20301027T020000
TZOFFSETFROM:+0100
TZOFFSETTO:+0200
TZNAME:Europe/Brussels CEST
END:DAYLIGHT
END:VTIMEZONE
BEGIN:VEVENT
UID:d396c1b293835485c4e20f130a8a8158
CATEGORIES:Bevers
CREATED:20240916T190402
SUMMARY:Vergadering
DESCRIPTION;ENCODING=QUOTED-PRINTABLE:<p><span style="color: #ff6600;"><strong>Ho Ho Ho! Tijd voor het Kerstfeest
 je!</strong></span></p><p>Hey Bevers,</p><p>Deze week starten de avondverga
 deringen!!! <strong>(17:30u - 20:00)</strong></p><p>De gezelligste tijd van
  het jaar is aangebroken, en dat vieren we natuurlijk samen! Tijdens onze v
 olgende vergadering houden we een&nbsp;<span style="color: #800080;"><stron
 g>kerstfeestje</strong></span>&nbsp;vol spelletjes, plezier en kerstsfeer. 
 En wat is een feestje zonder cadeautjes?</p><p>We willen graag dat iedereen
  een klein cadeautje meeneemt,&nbsp;<span style="color: #ff6600;"><strong>t
 er waarde van maximaal 5 euro</strong></span>. Dit cadeautje is bedoeld voo
 r een ander bevertje, dus pak het mooi in en schrijf er geen naam op. We ma
 ken er een leuke uitwisseling van!</p><p>Voor deze keer vragen we ook om&nb
 sp;<span style="color: #ff0000;"><strong>2 euro</strong></span>&nbsp;mee te
  nemen in plaats van 50 cent voor het vieruurtje. We zorgen dan voor iets e
 xtra lekkers om er een écht feest van te maken.</p><p>&nbsp;</p><p>We kijke
 n ernaar uit om samen met jullie het jaar op een gezellige en feestelijke m
 anier af te sluiten!</p><p>Tot dan,<br />De Beverleiding</p><p><strong styl
 e="color: #ff6600; background-color: inherit; font-family: inherit; font-si
 ze: 1rem; caret-color: auto;">Niet te vergeten: goed humeur, een mooi kerst
 oufitje, 2 euro en je cadeautje</strong></p>
DTSTAMP:20260421T145018Z
DTSTART;TZID=Europe/Brussels:20241221T173000
DTEND;TZID=Europe/Brussels:20241221T200000
SEQUENCE:0
TRANSP:OPAQUE
END:VEVENT
END:VCALENDAR