BEGIN:VCALENDAR
VERSION:2.0
PRODID:-//jEvents 2.0 for Joomla//EN
CALSCALE:GREGORIAN
METHOD:PUBLISH
BEGIN:VTIMEZONE
TZID:Europe/Brussels
BEGIN:STANDARD
DTSTART:20231214T143000
RDATE:20240331T030000
TZOFFSETFROM:+0200
TZOFFSETTO:+0100
TZNAME:Europe/Brussels CET
END:STANDARD
BEGIN:STANDARD
DTSTART:20241027T020000
RDATE:20250330T030000
TZOFFSETFROM:+0200
TZOFFSETTO:+0100
TZNAME:Europe/Brussels CET
END:STANDARD
BEGIN:STANDARD
DTSTART:20251026T020000
RDATE:20260329T030000
TZOFFSETFROM:+0200
TZOFFSETTO:+0100
TZNAME:Europe/Brussels CET
END:STANDARD
BEGIN:STANDARD
DTSTART:20261025T020000
RDATE:20270328T030000
TZOFFSETFROM:+0200
TZOFFSETTO:+0100
TZNAME:Europe/Brussels CET
END:STANDARD
BEGIN:STANDARD
DTSTART:20271031T020000
RDATE:20280326T030000
TZOFFSETFROM:+0200
TZOFFSETTO:+0100
TZNAME:Europe/Brussels CET
END:STANDARD
BEGIN:STANDARD
DTSTART:20281029T020000
RDATE:20290325T030000
TZOFFSETFROM:+0200
TZOFFSETTO:+0100
TZNAME:Europe/Brussels CET
END:STANDARD
BEGIN:STANDARD
DTSTART:20291028T020000
RDATE:20300331T030000
TZOFFSETFROM:+0200
TZOFFSETTO:+0100
TZNAME:Europe/Brussels CET
END:STANDARD
BEGIN:STANDARD
DTSTART:20301027T020000
RDATE:20310330T030000
TZOFFSETFROM:+0200
TZOFFSETTO:+0100
TZNAME:Europe/Brussels CET
END:STANDARD
BEGIN:DAYLIGHT
DTSTART:20240331T030000
RDATE:20241027T020000
TZOFFSETFROM:+0100
TZOFFSETTO:+0200
TZNAME:Europe/Brussels CEST
END:DAYLIGHT
BEGIN:DAYLIGHT
DTSTART:20250330T030000
RDATE:20251026T020000
TZOFFSETFROM:+0100
TZOFFSETTO:+0200
TZNAME:Europe/Brussels CEST
END:DAYLIGHT
BEGIN:DAYLIGHT
DTSTART:20260329T030000
RDATE:20261025T020000
TZOFFSETFROM:+0100
TZOFFSETTO:+0200
TZNAME:Europe/Brussels CEST
END:DAYLIGHT
BEGIN:DAYLIGHT
DTSTART:20270328T030000
RDATE:20271031T020000
TZOFFSETFROM:+0100
TZOFFSETTO:+0200
TZNAME:Europe/Brussels CEST
END:DAYLIGHT
BEGIN:DAYLIGHT
DTSTART:20280326T030000
RDATE:20281029T020000
TZOFFSETFROM:+0100
TZOFFSETTO:+0200
TZNAME:Europe/Brussels CEST
END:DAYLIGHT
BEGIN:DAYLIGHT
DTSTART:20290325T030000
RDATE:20291028T020000
TZOFFSETFROM:+0100
TZOFFSETTO:+0200
TZNAME:Europe/Brussels CEST
END:DAYLIGHT
BEGIN:DAYLIGHT
DTSTART:20300331T030000
RDATE:20301027T020000
TZOFFSETFROM:+0100
TZOFFSETTO:+0200
TZNAME:Europe/Brussels CEST
END:DAYLIGHT
END:VTIMEZONE
BEGIN:VEVENT
UID:cd53ad3dfdbac27b921ea0f55f69b8ac
CATEGORIES:Bevers
CREATED:20240916T190350
SUMMARY:Vergadering
DESCRIPTION;ENCODING=QUOTED-PRINTABLE:<p>Hey Bevers,</p><p>De kersttijd is in aantocht, en dat betekent dat onze 
 scouts helemaal in de feeststemming komt! Op<span style="color: #ff0000;"><
 /span><strong><span style="color: #ff0000;">donderdag 14</span> <span style
 ="color: #ff0000;">december</span></strong>&nbsp;is het zover: de grote&nbs
 p;<span style="color: #3366ff;"><strong>kerstmarkt</strong></span>&nbsp;van
  de scouts. Jullie prachtige knutselwerkjes van de Kerstcrea krijgen daar e
 en ereplekje en worden verkocht ten voordele van een goed doel.</p><p>Maar.
 .. voor het zover is, hebben we eerst nog een vervolg van de&nbsp;<span sty
 le="color: #339966;"><strong>Kerstcrea</strong></span>&nbsp;gepland! Tijden
 s deze vergadering gaan we verder knutselen en de laatste hand leggen aan o
 nze geheime kerstprojectjes.&nbsp;&nbsp;</p><p>We hopen dat jullie allemaal
  komen, want samen maken we er een sfeervolle en gezellige kersttijd van!</
 p><p>Tot dan,<br />De Beverleiding</p>
DTSTAMP:20260421T174354Z
DTSTART;TZID=Europe/Brussels:20241214T143000
DTEND;TZID=Europe/Brussels:20241214T173000
SEQUENCE:0
TRANSP:OPAQUE
END:VEVENT
END:VCALENDAR