BEGIN:VCALENDAR
VERSION:2.0
PRODID:-//jEvents 2.0 for Joomla//EN
CALSCALE:GREGORIAN
METHOD:PUBLISH
BEGIN:VTIMEZONE
TZID:Europe/Brussels
BEGIN:STANDARD
DTSTART:20231029T020000
RDATE:20240331T030000
TZOFFSETFROM:+0200
TZOFFSETTO:+0100
TZNAME:Europe/Brussels CET
END:STANDARD
BEGIN:STANDARD
DTSTART:20241027T020000
RDATE:20250330T030000
TZOFFSETFROM:+0200
TZOFFSETTO:+0100
TZNAME:Europe/Brussels CET
END:STANDARD
BEGIN:STANDARD
DTSTART:20251026T020000
RDATE:20260329T030000
TZOFFSETFROM:+0200
TZOFFSETTO:+0100
TZNAME:Europe/Brussels CET
END:STANDARD
BEGIN:STANDARD
DTSTART:20261025T020000
RDATE:20270328T030000
TZOFFSETFROM:+0200
TZOFFSETTO:+0100
TZNAME:Europe/Brussels CET
END:STANDARD
BEGIN:STANDARD
DTSTART:20271031T020000
RDATE:20280326T030000
TZOFFSETFROM:+0200
TZOFFSETTO:+0100
TZNAME:Europe/Brussels CET
END:STANDARD
BEGIN:STANDARD
DTSTART:20281029T020000
RDATE:20290325T030000
TZOFFSETFROM:+0200
TZOFFSETTO:+0100
TZNAME:Europe/Brussels CET
END:STANDARD
BEGIN:STANDARD
DTSTART:20291028T020000
RDATE:20300331T030000
TZOFFSETFROM:+0200
TZOFFSETTO:+0100
TZNAME:Europe/Brussels CET
END:STANDARD
BEGIN:STANDARD
DTSTART:20301027T020000
RDATE:20310330T030000
TZOFFSETFROM:+0200
TZOFFSETTO:+0100
TZNAME:Europe/Brussels CET
END:STANDARD
BEGIN:DAYLIGHT
DTSTART:20230518T123000
RDATE:20231029T020000
TZOFFSETFROM:+0100
TZOFFSETTO:+0200
TZNAME:Europe/Brussels CEST
END:DAYLIGHT
BEGIN:DAYLIGHT
DTSTART:20240331T030000
RDATE:20241027T020000
TZOFFSETFROM:+0100
TZOFFSETTO:+0200
TZNAME:Europe/Brussels CEST
END:DAYLIGHT
BEGIN:DAYLIGHT
DTSTART:20250330T030000
RDATE:20251026T020000
TZOFFSETFROM:+0100
TZOFFSETTO:+0200
TZNAME:Europe/Brussels CEST
END:DAYLIGHT
BEGIN:DAYLIGHT
DTSTART:20260329T030000
RDATE:20261025T020000
TZOFFSETFROM:+0100
TZOFFSETTO:+0200
TZNAME:Europe/Brussels CEST
END:DAYLIGHT
BEGIN:DAYLIGHT
DTSTART:20270328T030000
RDATE:20271031T020000
TZOFFSETFROM:+0100
TZOFFSETTO:+0200
TZNAME:Europe/Brussels CEST
END:DAYLIGHT
BEGIN:DAYLIGHT
DTSTART:20280326T030000
RDATE:20281029T020000
TZOFFSETFROM:+0100
TZOFFSETTO:+0200
TZNAME:Europe/Brussels CEST
END:DAYLIGHT
BEGIN:DAYLIGHT
DTSTART:20290325T030000
RDATE:20291028T020000
TZOFFSETFROM:+0100
TZOFFSETTO:+0200
TZNAME:Europe/Brussels CEST
END:DAYLIGHT
BEGIN:DAYLIGHT
DTSTART:20300331T030000
RDATE:20301027T020000
TZOFFSETFROM:+0100
TZOFFSETTO:+0200
TZNAME:Europe/Brussels CEST
END:DAYLIGHT
END:VTIMEZONE
BEGIN:VEVENT
UID:4ed933a8ef705d950395b2b9df1739ba
CATEGORIES:Bevers
CREATED:20240420T112240
SUMMARY:betaalde activiteit 
DESCRIPTION;ENCODING=QUOTED-PRINTABLE:<p>koekoek bevers</p><p>vandaag is de leukste dag van heel het jaar want we
  gaan namelijk naar….. Harry malter!!!! dit is een hele dag samen spelen me
 t vriendjes en op de gekste achtbanen gaan!</p><p>voor de ouders: extra inf
 o volgt nog in een mail!</p><p>beste ouder(s)</p><p>Helaas zal Plopsaland n
 iet langer doorgaan. De betaalde activiteit ligt uitzonderlijk later in het
  jaar, waardoor het voor de meesten van de leiding niet gaat om een volledi
 ge dag studietijd te verliezen wat de examens betreft.&nbsp;</p><p>Na even 
 denken hebben we, althans volgens ons, een volwaardig alternatief gevonden:
  Harry Malter te Destelbergen!&nbsp;</p><p>De betaalde activiteit gaat door
  op 18 mei. We spreken af aan het scoutslokaal om 12u30 en om 17u30 spreken
  we opnieuw allemaal samen af, maar deze keer aan de voorkant van het park.
 &nbsp;</p><p>We zouden graag carpoolen om het vervoer naar het park en teru
 g naar huis efficiënt en vlot te laten verlopen. Het is vanaf het lokaal ee
 n kleine twintig minuten rijden. Mijn vraag is dus of er enkele ouders zijn
  die dit zien zitten? Gelieve mij dit te laten weten door op deze mail te a
 ntwoorden. Laat ons ook weten of dat u wilt rijden in het heen of in het te
 rugkeren. Vermeld hierbij ook de naam van uw kind voor ons overzicht.&nbsp;
 &nbsp;&nbsp;</p><p>De kinderen krijgen een drankje en een lekkernij, maar g
 eef voor de zekerheid uw kind een klein rugzakje met een (drink)fles water 
 mee en kledij aangepast aan de weersomstandigheden.&nbsp;</p><p>Er wordt va
 n de bevers verwacht dat zij hun uniform aan hebben. dit omvat:&nbsp;een bl
 auwe broek, bergschoenen/sandalen, het scoutshemd en de scoutsdas.&nbsp;&nb
 sp;</p><p>Als er medische informatie is die wij behoren te weten gelieve de
 ze op voorhand aan mij te melden om een veilig en vlot verloop van de dag t
 e kunnen verzekeren.&nbsp;</p><p><br />Vele bevergroeten en hopelijk tot da
 n!&nbsp;<br />Het beverteam</p>
DTSTAMP:20260421T133304Z
DTSTART;TZID=Europe/Brussels:20240518T123000
DTEND;TZID=Europe/Brussels:20240518T173000
SEQUENCE:0
TRANSP:OPAQUE
END:VEVENT
END:VCALENDAR