BEGIN:VCALENDAR
VERSION:2.0
PRODID:-//jEvents 2.0 for Joomla//EN
CALSCALE:GREGORIAN
METHOD:PUBLISH
BEGIN:VTIMEZONE
TZID:Europe/Brussels
BEGIN:STANDARD
DTSTART:20231029T020000
RDATE:20240331T030000
TZOFFSETFROM:+0200
TZOFFSETTO:+0100
TZNAME:Europe/Brussels CET
END:STANDARD
BEGIN:STANDARD
DTSTART:20241027T020000
RDATE:20250330T030000
TZOFFSETFROM:+0200
TZOFFSETTO:+0100
TZNAME:Europe/Brussels CET
END:STANDARD
BEGIN:STANDARD
DTSTART:20251026T020000
RDATE:20260329T030000
TZOFFSETFROM:+0200
TZOFFSETTO:+0100
TZNAME:Europe/Brussels CET
END:STANDARD
BEGIN:STANDARD
DTSTART:20261025T020000
RDATE:20270328T030000
TZOFFSETFROM:+0200
TZOFFSETTO:+0100
TZNAME:Europe/Brussels CET
END:STANDARD
BEGIN:STANDARD
DTSTART:20271031T020000
RDATE:20280326T030000
TZOFFSETFROM:+0200
TZOFFSETTO:+0100
TZNAME:Europe/Brussels CET
END:STANDARD
BEGIN:STANDARD
DTSTART:20281029T020000
RDATE:20290325T030000
TZOFFSETFROM:+0200
TZOFFSETTO:+0100
TZNAME:Europe/Brussels CET
END:STANDARD
BEGIN:STANDARD
DTSTART:20291028T020000
RDATE:20300331T030000
TZOFFSETFROM:+0200
TZOFFSETTO:+0100
TZNAME:Europe/Brussels CET
END:STANDARD
BEGIN:STANDARD
DTSTART:20301027T020000
RDATE:20310330T030000
TZOFFSETFROM:+0200
TZOFFSETTO:+0100
TZNAME:Europe/Brussels CET
END:STANDARD
BEGIN:DAYLIGHT
DTSTART:20230511T143000
RDATE:20231029T020000
TZOFFSETFROM:+0100
TZOFFSETTO:+0200
TZNAME:Europe/Brussels CEST
END:DAYLIGHT
BEGIN:DAYLIGHT
DTSTART:20240331T030000
RDATE:20241027T020000
TZOFFSETFROM:+0100
TZOFFSETTO:+0200
TZNAME:Europe/Brussels CEST
END:DAYLIGHT
BEGIN:DAYLIGHT
DTSTART:20250330T030000
RDATE:20251026T020000
TZOFFSETFROM:+0100
TZOFFSETTO:+0200
TZNAME:Europe/Brussels CEST
END:DAYLIGHT
BEGIN:DAYLIGHT
DTSTART:20260329T030000
RDATE:20261025T020000
TZOFFSETFROM:+0100
TZOFFSETTO:+0200
TZNAME:Europe/Brussels CEST
END:DAYLIGHT
BEGIN:DAYLIGHT
DTSTART:20270328T030000
RDATE:20271031T020000
TZOFFSETFROM:+0100
TZOFFSETTO:+0200
TZNAME:Europe/Brussels CEST
END:DAYLIGHT
BEGIN:DAYLIGHT
DTSTART:20280326T030000
RDATE:20281029T020000
TZOFFSETFROM:+0100
TZOFFSETTO:+0200
TZNAME:Europe/Brussels CEST
END:DAYLIGHT
BEGIN:DAYLIGHT
DTSTART:20290325T030000
RDATE:20291028T020000
TZOFFSETFROM:+0100
TZOFFSETTO:+0200
TZNAME:Europe/Brussels CEST
END:DAYLIGHT
BEGIN:DAYLIGHT
DTSTART:20300331T030000
RDATE:20301027T020000
TZOFFSETFROM:+0100
TZOFFSETTO:+0200
TZNAME:Europe/Brussels CEST
END:DAYLIGHT
END:VTIMEZONE
BEGIN:VEVENT
UID:c7a8a8d343e53da2c3c0307f5f38ba67
CATEGORIES:Bevers
CREATED:20240420T112045
SUMMARY:reis rond de wereld
DESCRIPTION;ENCODING=QUOTED-PRINTABLE:<p>heeeey kleine bevertjes of moet ik zeggen welkom avonturiers!</p><p>Ben 
 je klaar om de wereld te verkennen? Stap aan boord van onze magische reisbo
 ot en laten we samen op avontuur gaan! We zullen prachtige plekken ontdekke
 n, nieuwe vrienden ontmoeten en spannende avonturen beleven.</p><p>Onze eer
 ste stop is in het bruisende New York City, waar de wolkenkrabbers hoog in 
 de lucht reiken en de gele taxi's toeteren op de straten. Laten we dansen o
 p de ritmische klanken van jazzmuziek in Central Park en de kleurrijke lich
 tjes bewonderen op Times Square!</p><p>Daarna varen we naar het mysterieuze
  en exotische Afrikaanse continent. Hier zullen we de wilde dieren van de s
 avanne ontmoeten, zoals de majestueuze leeuwen, de speelse olifanten en de 
 grappige apen. We zullen ook leren trommelen op traditionele Afrikaanse dru
 ms en dansen onder de fonkelende sterrenhemel.</p><p>Vervolgens gaan we naa
 r het land van de rijzende zon, Japan! We zullen kersenbloesems bewonderen 
 in de prachtige tuinen, sushi leren maken met onze vriendelijke chef-kok en
  misschien zelfs een glimp opvangen van een echte ninja!</p><p>Na Japan gaa
 n we naar het betoverende land van de piramides, Egypte! We zullen de oude 
 piramides verkennen, op een kameel rijden door de woestijn en hiërogliefen 
 leren schrijven als echte Egyptische scribes.</p><p>Maar onze reis stopt hi
 er niet! We zullen nog veel meer spannende plekken ontdekken op onze reis r
 ond de wereld. Dus pak je koffer en je avontuurshoed, want de reis van je l
 even staat op het punt te beginnen! Ben je er klaar voor? laten we gaan!</p
 >
DTSTAMP:20260421T145020Z
DTSTART;TZID=Europe/Brussels:20240511T143000
DTEND;TZID=Europe/Brussels:20240511T173000
SEQUENCE:0
TRANSP:OPAQUE
END:VEVENT
END:VCALENDAR