BEGIN:VCALENDAR
VERSION:2.0
PRODID:-//jEvents 2.0 for Joomla//EN
CALSCALE:GREGORIAN
METHOD:PUBLISH
BEGIN:VTIMEZONE
TZID:Europe/Brussels
BEGIN:STANDARD
DTSTART:20231029T020000
RDATE:20240331T030000
TZOFFSETFROM:+0200
TZOFFSETTO:+0100
TZNAME:Europe/Brussels CET
END:STANDARD
BEGIN:STANDARD
DTSTART:20241027T020000
RDATE:20250330T030000
TZOFFSETFROM:+0200
TZOFFSETTO:+0100
TZNAME:Europe/Brussels CET
END:STANDARD
BEGIN:STANDARD
DTSTART:20251026T020000
RDATE:20260329T030000
TZOFFSETFROM:+0200
TZOFFSETTO:+0100
TZNAME:Europe/Brussels CET
END:STANDARD
BEGIN:STANDARD
DTSTART:20261025T020000
RDATE:20270328T030000
TZOFFSETFROM:+0200
TZOFFSETTO:+0100
TZNAME:Europe/Brussels CET
END:STANDARD
BEGIN:STANDARD
DTSTART:20271031T020000
RDATE:20280326T030000
TZOFFSETFROM:+0200
TZOFFSETTO:+0100
TZNAME:Europe/Brussels CET
END:STANDARD
BEGIN:STANDARD
DTSTART:20281029T020000
RDATE:20290325T030000
TZOFFSETFROM:+0200
TZOFFSETTO:+0100
TZNAME:Europe/Brussels CET
END:STANDARD
BEGIN:STANDARD
DTSTART:20291028T020000
RDATE:20300331T030000
TZOFFSETFROM:+0200
TZOFFSETTO:+0100
TZNAME:Europe/Brussels CET
END:STANDARD
BEGIN:STANDARD
DTSTART:20301027T020000
RDATE:20310330T030000
TZOFFSETFROM:+0200
TZOFFSETTO:+0100
TZNAME:Europe/Brussels CET
END:STANDARD
BEGIN:DAYLIGHT
DTSTART:20230330T103000
RDATE:20231029T020000
TZOFFSETFROM:+0100
TZOFFSETTO:+0200
TZNAME:Europe/Brussels CEST
END:DAYLIGHT
BEGIN:DAYLIGHT
DTSTART:20240331T030000
RDATE:20241027T020000
TZOFFSETFROM:+0100
TZOFFSETTO:+0200
TZNAME:Europe/Brussels CEST
END:DAYLIGHT
BEGIN:DAYLIGHT
DTSTART:20250330T030000
RDATE:20251026T020000
TZOFFSETFROM:+0100
TZOFFSETTO:+0200
TZNAME:Europe/Brussels CEST
END:DAYLIGHT
BEGIN:DAYLIGHT
DTSTART:20260329T030000
RDATE:20261025T020000
TZOFFSETFROM:+0100
TZOFFSETTO:+0200
TZNAME:Europe/Brussels CEST
END:DAYLIGHT
BEGIN:DAYLIGHT
DTSTART:20270328T030000
RDATE:20271031T020000
TZOFFSETFROM:+0100
TZOFFSETTO:+0200
TZNAME:Europe/Brussels CEST
END:DAYLIGHT
BEGIN:DAYLIGHT
DTSTART:20280326T030000
RDATE:20281029T020000
TZOFFSETFROM:+0100
TZOFFSETTO:+0200
TZNAME:Europe/Brussels CEST
END:DAYLIGHT
BEGIN:DAYLIGHT
DTSTART:20290325T030000
RDATE:20291028T020000
TZOFFSETFROM:+0100
TZOFFSETTO:+0200
TZNAME:Europe/Brussels CEST
END:DAYLIGHT
BEGIN:DAYLIGHT
DTSTART:20300331T030000
RDATE:20301027T020000
TZOFFSETFROM:+0100
TZOFFSETTO:+0200
TZNAME:Europe/Brussels CEST
END:DAYLIGHT
END:VTIMEZONE
BEGIN:VEVENT
UID:4dc6c37b36486a9394ebb90fbc01f067
CATEGORIES:Bevers
CREATED:20240313T201505
SUMMARY:PAASKAMP
DESCRIPTION;ENCODING=QUOTED-PRINTABLE:\n\nPaaskamp zal plaatsvinden van zaterdag 30 maart tot woensdag 3 april in
  het dorpshuis Haringe te Poperinge.&nbsp;Zaterdag ochtend spreken we af om
  half tien aan de voorkant van het station De Pinte. Wees op tijd en geen p
 aniek, de bagage van jullie kinderen zal met de auto naar de locatie worden
  gebracht.&nbsp;Aangezien wij pas toekomen rond de middag wordt er verwacht
  dat je kind een lunchpakket mee heeft. Dit stop je best in een kleiner rug
 zakje die je kind makkelijk kan meenemen op de trein.\n\n\nJe kan je kind i
 nschrijven via deze link:&nbsp;Inloggen op Keeo&nbsp;.&nbsp;Op 13 maart slu
 iten de inschrijvingen dus schrijf je kind tijdig in anders kan je bever ni
 et mee. Indien je kind allergieën en/of intoleranties heeft vermeld je dit 
 op de inschrijving. Het zelfde wat betreft indien je kind geen vlees eet. E
 en medische fiche is niet langer nodig, maar indien je bevertje medicatie n
 odig heeft moet deze worden naamgetekend. \n\n\nWoensdag 3 april is het hel
 aas al tijd om terug naar huis te keren. We spreken opnieuw af aan de voork
 ant van het station, om 15u50. Zou dit uur door omstandigheden wijzigen, da
 n worden jullie op de hoogte gehouden. Hou dus uw gsm in de gaten woensdag!
 &nbsp;\n\n\nVoor de ouders die graag toch nog een beetje meer informatie zo
 uden willen wordt er op 16 maart om 14u30 een infosessie georganiseerd die 
 jullie wat wijzer zal maken hoe alles in zijn gang gaat. Deze infosessie za
 l plaatsvinden in het beverlokaal. Deze zal gegeven worden door mij, zo ler
 en jullie mij alvast ook een beetje beter kennen.&nbsp;\n\n\nWat betreft br
 ieven: helaas zijn er heel veel brieven die toekomen na einde van het kamp.
  Daarom kiezen wij er de laatste jaren voor om de brieven die u normaal zou
  opzenden, reeds mee te geven met ons voor vertrek. Indien u wilt dat de br
 ief op een bepaalde dag afgegeven wordt, dan schrijft u die datum op de env
 eloppe.&nbsp;\n\n\nHet thema van het paaskamp 2024 is... STUDIO 100!&nbsp;V
 oorzie verkleedkledij die hierbij aansluit.&nbsp;\n\n\nWat moet je bever ze
 ker mee hebben op paaskamp?&nbsp;\n\n - een kleiner rugzakje met:\n - een g
 evulde drinkfles\n - koekje/fruitje\n - boterhammen&nbsp;\n - regenjas\n - 
 jas\n - pyjama (liest meer dan 1! ongelukjes kunnen altijd gebeuren)&nbsp;\
 n - kleding die vuil mag worden&nbsp;\n - broeken&nbsp;\n - t-shirts&nbsp;\
 n - ondergoed (opnieuw ook hier voldoende, een ongelukje is rap gebeurd)&nb
 sp;\n - Sokken&nbsp;\n - Schoenen&nbsp;\n - Pantoffels&nbsp;\n - truien&nbs
 p;\n - slaapzak&nbsp;\n - Beddengoed en kussensloop&nbsp;\n - tandenborstel
 &nbsp;\n - tandpasta\n - handdoeken&nbsp;\n - douche gel en shampoo&nbsp;\n
  - themakledij\n - uniform (heel belangrijk!)&nbsp;\n - hemd&nbsp;\n - das&
 nbsp;\n - blauwe broek&nbsp;\n - bottines&nbsp;\n - vuillinnenzak&nbsp;\n -
  zaklamp&nbsp;\n - iets waar je kind zich mee kan bezig houden&nbsp;\n - kl
 eurpotloden, een boekje, ...&nbsp;\n\nWij kijken er alvast heel hard naar u
 it!&nbsp;\n\n\nVele bevergroeten\n
DTSTAMP:20260421T115502Z
DTSTART;TZID=Europe/Brussels:20240330T093000
DTEND;TZID=Europe/Brussels:20240403T155000
SEQUENCE:0
TRANSP:OPAQUE
END:VEVENT
END:VCALENDAR