BEGIN:VCALENDAR
VERSION:2.0
PRODID:-//jEvents 2.0 for Joomla//EN
CALSCALE:GREGORIAN
METHOD:PUBLISH
BEGIN:VTIMEZONE
TZID:Europe/Brussels
BEGIN:STANDARD
DTSTART:20221109T173000
RDATE:20230326T030000
TZOFFSETFROM:+0200
TZOFFSETTO:+0100
TZNAME:Europe/Brussels CET
END:STANDARD
BEGIN:STANDARD
DTSTART:20231029T020000
RDATE:20240331T030000
TZOFFSETFROM:+0200
TZOFFSETTO:+0100
TZNAME:Europe/Brussels CET
END:STANDARD
BEGIN:STANDARD
DTSTART:20241027T020000
RDATE:20250330T030000
TZOFFSETFROM:+0200
TZOFFSETTO:+0100
TZNAME:Europe/Brussels CET
END:STANDARD
BEGIN:STANDARD
DTSTART:20251026T020000
RDATE:20260329T030000
TZOFFSETFROM:+0200
TZOFFSETTO:+0100
TZNAME:Europe/Brussels CET
END:STANDARD
BEGIN:STANDARD
DTSTART:20261025T020000
RDATE:20270328T030000
TZOFFSETFROM:+0200
TZOFFSETTO:+0100
TZNAME:Europe/Brussels CET
END:STANDARD
BEGIN:STANDARD
DTSTART:20271031T020000
RDATE:20280326T030000
TZOFFSETFROM:+0200
TZOFFSETTO:+0100
TZNAME:Europe/Brussels CET
END:STANDARD
BEGIN:STANDARD
DTSTART:20281029T020000
RDATE:20290325T030000
TZOFFSETFROM:+0200
TZOFFSETTO:+0100
TZNAME:Europe/Brussels CET
END:STANDARD
BEGIN:STANDARD
DTSTART:20291028T020000
RDATE:20300331T030000
TZOFFSETFROM:+0200
TZOFFSETTO:+0100
TZNAME:Europe/Brussels CET
END:STANDARD
BEGIN:STANDARD
DTSTART:20301027T020000
RDATE:20310330T030000
TZOFFSETFROM:+0200
TZOFFSETTO:+0100
TZNAME:Europe/Brussels CET
END:STANDARD
BEGIN:DAYLIGHT
DTSTART:20230326T030000
RDATE:20231029T020000
TZOFFSETFROM:+0100
TZOFFSETTO:+0200
TZNAME:Europe/Brussels CEST
END:DAYLIGHT
BEGIN:DAYLIGHT
DTSTART:20240331T030000
RDATE:20241027T020000
TZOFFSETFROM:+0100
TZOFFSETTO:+0200
TZNAME:Europe/Brussels CEST
END:DAYLIGHT
BEGIN:DAYLIGHT
DTSTART:20250330T030000
RDATE:20251026T020000
TZOFFSETFROM:+0100
TZOFFSETTO:+0200
TZNAME:Europe/Brussels CEST
END:DAYLIGHT
BEGIN:DAYLIGHT
DTSTART:20260329T030000
RDATE:20261025T020000
TZOFFSETFROM:+0100
TZOFFSETTO:+0200
TZNAME:Europe/Brussels CEST
END:DAYLIGHT
BEGIN:DAYLIGHT
DTSTART:20270328T030000
RDATE:20271031T020000
TZOFFSETFROM:+0100
TZOFFSETTO:+0200
TZNAME:Europe/Brussels CEST
END:DAYLIGHT
BEGIN:DAYLIGHT
DTSTART:20280326T030000
RDATE:20281029T020000
TZOFFSETFROM:+0100
TZOFFSETTO:+0200
TZNAME:Europe/Brussels CEST
END:DAYLIGHT
BEGIN:DAYLIGHT
DTSTART:20290325T030000
RDATE:20291028T020000
TZOFFSETFROM:+0100
TZOFFSETTO:+0200
TZNAME:Europe/Brussels CEST
END:DAYLIGHT
BEGIN:DAYLIGHT
DTSTART:20300331T030000
RDATE:20301027T020000
TZOFFSETFROM:+0100
TZOFFSETTO:+0200
TZNAME:Europe/Brussels CEST
END:DAYLIGHT
END:VTIMEZONE
BEGIN:VEVENT
UID:af7a88b3c898bec63e8782f526014ac0
CATEGORIES:Bevers
CREATED:20231027T122822
SUMMARY:Beverweekend!
DESCRIPTION;ENCODING=QUOTED-PRINTABLE:<p>Hallooooo Bevers!</p><p>wij zijn mega superduper enthousiast om met jull
 ie op jullie eerste weekend te vertrekken! Het gaat een weekend zijn vol me
 t spelletjes en leuke activiteiten.&nbsp;Dit zal doorgaan in het&nbsp;Berke
 nhof, te Anzegem, met als thema:&nbsp;<strong>PIRATEN</strong>!!&nbsp; Wij 
 hebben alvast ook een paar verassingen voor jullie in petto. Voor de ouders
  gaat er een mail worden verstuurd met nog verdere info over het weekend. W
 ij weten ook dat voor vele bevertjes zo een eerste weekend niet gemakkelijk
  is maar wij staan als leidingsploeg zeker klaar om jullie schatjes te troo
 sten en afleiden. Wij kijken allemaal super hard uit om elkaar allemaal bet
 er te leren kennen. Dus hopelijk tot dan!</p><p>Vertrekken zouden we doen o
 p vrijdag 10 november aan het lokaal in Sportwegel 7, 9840 De Pinte omstree
 ks 17u30. <br />Het vertrek op zondag van het Berkenhof (Westdorp 46, 8573 
 Anzegem) is gepland omstreeks 15u. Aankomst op zondag is dus geschat in De 
 Pinte rond 15u30, maar houd natuurlijk zoals altijd de Facebook- of Instagr
 am-pagina van De Havik goed in de gaten voor de exacte aankomsttijden.</p><
 p>Meer info op de takpagina en in de email.</p>
CONTACT:Keeo
DTSTAMP:20260421T203444Z
DTSTART;TZID=Europe/Brussels:20231110T173000
DTEND;TZID=Europe/Brussels:20231112T153000
SEQUENCE:0
TRANSP:OPAQUE
END:VEVENT
END:VCALENDAR