BEGIN:VCALENDAR
VERSION:2.0
PRODID:-//jEvents 2.0 for Joomla//EN
CALSCALE:GREGORIAN
METHOD:PUBLISH
BEGIN:VTIMEZONE
TZID:Europe/Brussels
BEGIN:STANDARD
DTSTART:20221030T020000
RDATE:20230326T030000
TZOFFSETFROM:+0200
TZOFFSETTO:+0100
TZNAME:Europe/Brussels CET
END:STANDARD
BEGIN:STANDARD
DTSTART:20231029T020000
RDATE:20240331T030000
TZOFFSETFROM:+0200
TZOFFSETTO:+0100
TZNAME:Europe/Brussels CET
END:STANDARD
BEGIN:STANDARD
DTSTART:20241027T020000
RDATE:20250330T030000
TZOFFSETFROM:+0200
TZOFFSETTO:+0100
TZNAME:Europe/Brussels CET
END:STANDARD
BEGIN:STANDARD
DTSTART:20251026T020000
RDATE:20260329T030000
TZOFFSETFROM:+0200
TZOFFSETTO:+0100
TZNAME:Europe/Brussels CET
END:STANDARD
BEGIN:STANDARD
DTSTART:20261025T020000
RDATE:20270328T030000
TZOFFSETFROM:+0200
TZOFFSETTO:+0100
TZNAME:Europe/Brussels CET
END:STANDARD
BEGIN:STANDARD
DTSTART:20271031T020000
RDATE:20280326T030000
TZOFFSETFROM:+0200
TZOFFSETTO:+0100
TZNAME:Europe/Brussels CET
END:STANDARD
BEGIN:STANDARD
DTSTART:20281029T020000
RDATE:20290325T030000
TZOFFSETFROM:+0200
TZOFFSETTO:+0100
TZNAME:Europe/Brussels CET
END:STANDARD
BEGIN:STANDARD
DTSTART:20291028T020000
RDATE:20300331T030000
TZOFFSETFROM:+0200
TZOFFSETTO:+0100
TZNAME:Europe/Brussels CET
END:STANDARD
BEGIN:STANDARD
DTSTART:20301027T020000
RDATE:20310330T030000
TZOFFSETFROM:+0200
TZOFFSETTO:+0100
TZNAME:Europe/Brussels CET
END:STANDARD
BEGIN:DAYLIGHT
DTSTART:20220428T100000
RDATE:20221030T020000
TZOFFSETFROM:+0100
TZOFFSETTO:+0200
TZNAME:Europe/Brussels CEST
END:DAYLIGHT
BEGIN:DAYLIGHT
DTSTART:20230326T030000
RDATE:20231029T020000
TZOFFSETFROM:+0100
TZOFFSETTO:+0200
TZNAME:Europe/Brussels CEST
END:DAYLIGHT
BEGIN:DAYLIGHT
DTSTART:20240331T030000
RDATE:20241027T020000
TZOFFSETFROM:+0100
TZOFFSETTO:+0200
TZNAME:Europe/Brussels CEST
END:DAYLIGHT
BEGIN:DAYLIGHT
DTSTART:20250330T030000
RDATE:20251026T020000
TZOFFSETFROM:+0100
TZOFFSETTO:+0200
TZNAME:Europe/Brussels CEST
END:DAYLIGHT
BEGIN:DAYLIGHT
DTSTART:20260329T030000
RDATE:20261025T020000
TZOFFSETFROM:+0100
TZOFFSETTO:+0200
TZNAME:Europe/Brussels CEST
END:DAYLIGHT
BEGIN:DAYLIGHT
DTSTART:20270328T030000
RDATE:20271031T020000
TZOFFSETFROM:+0100
TZOFFSETTO:+0200
TZNAME:Europe/Brussels CEST
END:DAYLIGHT
BEGIN:DAYLIGHT
DTSTART:20280326T030000
RDATE:20281029T020000
TZOFFSETFROM:+0100
TZOFFSETTO:+0200
TZNAME:Europe/Brussels CEST
END:DAYLIGHT
BEGIN:DAYLIGHT
DTSTART:20290325T030000
RDATE:20291028T020000
TZOFFSETFROM:+0100
TZOFFSETTO:+0200
TZNAME:Europe/Brussels CEST
END:DAYLIGHT
BEGIN:DAYLIGHT
DTSTART:20300331T030000
RDATE:20301027T020000
TZOFFSETFROM:+0100
TZOFFSETTO:+0200
TZNAME:Europe/Brussels CEST
END:DAYLIGHT
END:VTIMEZONE
BEGIN:VEVENT
UID:de5c03e85328f154e21c488c45afd7a9
CATEGORIES:Bevers
CREATED:20220908T113228
SUMMARY:Betaalde activiteit
LOCATION:Hurstweg 8 Galveston, 9000 Gent
DESCRIPTION;ENCODING=QUOTED-PRINTABLE:<div>Beste ouder,<br /><br /></div><div>Op zaterdag 29/04 organiseren we me
 t de bevers een betaalde activiteit. Deze zal doorgaan in Pretland in Gent 
 (Hurstweg 8, 9000 Gent). We spreken ter plaatse af om 10u en uw mag uw geli
 efde bevertje terug komen ophalen om 17u. De volledige dag zal 15 euro kost
 en en dit is inclusief een middagmaal. Jullie moeten dus geen lunchpakket v
 oorzien.&nbsp;&nbsp;</div><div>Omdat we moeten reserveren zouden we graag o
 p voorhand al een correct aantal kinderen willen doorgeven. Gelieve dus&nbs
 p;<a href="https://forms.gle/YAArDjVkgSs7jxLRA">dit formulier&nbsp;</a>in t
 e vullen.</div><div>&nbsp;</div><div>Wij kijken er alvast naar uit!&nbsp;<b
 r /><br /></div><div>Groetjes&nbsp;</div><div>De beverleiding</div>
CONTACT:Takleider Scholekster, Dit e-mailadres wordt beveiligd tegen spambots. JavaScript dient ingeschakeld te zijn om het te bekijken.
				document.getElementById('cloak63927d44781d4a8b569dfd6db80d49c4').innerHTML = '';
				var prefix = '&#109;a' + 'i&#108;' + '&#116;o';
				var path = 'hr' + 'ef' + '=';
				var addy63927d44781d4a8b569dfd6db80d49c4 = 'b&#101;v&#101;rs' + '&#64;';
				addy63927d44781d4a8b569dfd6db80d49c4 = addy63927d44781d4a8b569dfd6db80d49c4 + 'd&#101;h&#97;v&#105;k' + '&#46;' + 'b&#101;';
				var addy_text63927d44781d4a8b569dfd6db80d49c4 = 'b&#101;v&#101;rs' + '&#64;' + 'd&#101;h&#97;v&#105;k' + '&#46;' + 'b&#101;';document.getElementById('cloak63927d44781d4a8b569dfd6db80d49c4').innerHTML += ''+addy_text63927d44781d4a8b569dfd6db80d49c4+'';
		
DTSTAMP:20260421T144927Z
DTSTART;TZID=Europe/Brussels:20230429T100000
DTEND;TZID=Europe/Brussels:20230429T170000
SEQUENCE:0
TRANSP:OPAQUE
END:VEVENT
END:VCALENDAR