BEGIN:VCALENDAR
VERSION:2.0
PRODID:-//jEvents 2.0 for Joomla//EN
CALSCALE:GREGORIAN
METHOD:PUBLISH
BEGIN:VTIMEZONE
TZID:Europe/Brussels
BEGIN:STANDARD
DTSTART:20221030T020000
RDATE:20230326T030000
TZOFFSETFROM:+0200
TZOFFSETTO:+0100
TZNAME:Europe/Brussels CET
END:STANDARD
BEGIN:STANDARD
DTSTART:20231029T020000
RDATE:20240331T030000
TZOFFSETFROM:+0200
TZOFFSETTO:+0100
TZNAME:Europe/Brussels CET
END:STANDARD
BEGIN:STANDARD
DTSTART:20241027T020000
RDATE:20250330T030000
TZOFFSETFROM:+0200
TZOFFSETTO:+0100
TZNAME:Europe/Brussels CET
END:STANDARD
BEGIN:STANDARD
DTSTART:20251026T020000
RDATE:20260329T030000
TZOFFSETFROM:+0200
TZOFFSETTO:+0100
TZNAME:Europe/Brussels CET
END:STANDARD
BEGIN:STANDARD
DTSTART:20261025T020000
RDATE:20270328T030000
TZOFFSETFROM:+0200
TZOFFSETTO:+0100
TZNAME:Europe/Brussels CET
END:STANDARD
BEGIN:STANDARD
DTSTART:20271031T020000
RDATE:20280326T030000
TZOFFSETFROM:+0200
TZOFFSETTO:+0100
TZNAME:Europe/Brussels CET
END:STANDARD
BEGIN:STANDARD
DTSTART:20281029T020000
RDATE:20290325T030000
TZOFFSETFROM:+0200
TZOFFSETTO:+0100
TZNAME:Europe/Brussels CET
END:STANDARD
BEGIN:STANDARD
DTSTART:20291028T020000
RDATE:20300331T030000
TZOFFSETFROM:+0200
TZOFFSETTO:+0100
TZNAME:Europe/Brussels CET
END:STANDARD
BEGIN:STANDARD
DTSTART:20301027T020000
RDATE:20310330T030000
TZOFFSETFROM:+0200
TZOFFSETTO:+0100
TZNAME:Europe/Brussels CET
END:STANDARD
BEGIN:DAYLIGHT
DTSTART:20220331T080000
RDATE:20221030T020000
TZOFFSETFROM:+0100
TZOFFSETTO:+0200
TZNAME:Europe/Brussels CEST
END:DAYLIGHT
BEGIN:DAYLIGHT
DTSTART:20230326T030000
RDATE:20231029T020000
TZOFFSETFROM:+0100
TZOFFSETTO:+0200
TZNAME:Europe/Brussels CEST
END:DAYLIGHT
BEGIN:DAYLIGHT
DTSTART:20240331T030000
RDATE:20241027T020000
TZOFFSETFROM:+0100
TZOFFSETTO:+0200
TZNAME:Europe/Brussels CEST
END:DAYLIGHT
BEGIN:DAYLIGHT
DTSTART:20250330T030000
RDATE:20251026T020000
TZOFFSETFROM:+0100
TZOFFSETTO:+0200
TZNAME:Europe/Brussels CEST
END:DAYLIGHT
BEGIN:DAYLIGHT
DTSTART:20260329T030000
RDATE:20261025T020000
TZOFFSETFROM:+0100
TZOFFSETTO:+0200
TZNAME:Europe/Brussels CEST
END:DAYLIGHT
BEGIN:DAYLIGHT
DTSTART:20270328T030000
RDATE:20271031T020000
TZOFFSETFROM:+0100
TZOFFSETTO:+0200
TZNAME:Europe/Brussels CEST
END:DAYLIGHT
BEGIN:DAYLIGHT
DTSTART:20280326T030000
RDATE:20281029T020000
TZOFFSETFROM:+0100
TZOFFSETTO:+0200
TZNAME:Europe/Brussels CEST
END:DAYLIGHT
BEGIN:DAYLIGHT
DTSTART:20290325T030000
RDATE:20291028T020000
TZOFFSETFROM:+0100
TZOFFSETTO:+0200
TZNAME:Europe/Brussels CEST
END:DAYLIGHT
BEGIN:DAYLIGHT
DTSTART:20300331T030000
RDATE:20301027T020000
TZOFFSETFROM:+0100
TZOFFSETTO:+0200
TZNAME:Europe/Brussels CEST
END:DAYLIGHT
END:VTIMEZONE
BEGIN:VEVENT
UID:cba069453927472ae9c7d65dc53d48f6
CATEGORIES:Bevers
CREATED:20220908T112839
SUMMARY:Paaskamp
LOCATION:De Hoge Rielen
DESCRIPTION;ENCODING=QUOTED-PRINTABLE:<p>Lieve lieve bevertjes</p><p>Het is eindelijk tijd voor ons paaskamp, joe
 piee!! Met de Havik hebben we de gewoonte om met de volledige eenheid om de
  2 jaar naar&nbsp;<strong>de Hoge Rielen</strong>&nbsp;op paaskamp te gaan.
  We vertrekken op&nbsp;<strong>zaterdag 1 april</strong>&nbsp;in de ochtend
  met de bus aan het scoutslokaal,<strong>&nbsp;verzamelen om 8u</strong>, e
 n we zijn terug&nbsp;<strong>woensdag 5 april</strong>&nbsp;in de namiddag,
  de bus verwachten we om 17u30. Het exacte uur van vertrek en aankomst zal 
 later nog meegedeeld worden dus hou uw mail en onze facebookpagina in het o
 og. Wij, met de bevertjes gaan dus met de bus maar om plaats te besparen vr
 agen we om geen te grote valiezen mee te geven met uw&nbsp;bever. Wij vrage
 n ook aan alle ouders om de gegevens aan te vullen in Keeo en eventuele med
 icatie af te geven bij het vertrek aan 1 van de leiding&nbsp;(best naamteke
 nen). Daarnaast moeten alle bevertjes ook hun&nbsp;<strong>lunchpakket</str
 ong>&nbsp;meepakken voor ’s middags op te eten. Een verdere bagagelijst vol
 gt later nog.</p><p>Zoals ik net zei gaan we op kamp naar de Hoge Rielen ma
 ar in werkelijkheid gaan we met de bevertjes veel verder weg. Wij gaan naar
 &nbsp;<strong>DE RUIMTE</strong>. Haal dus maar de alienpakken, de lightsab
 ers en astronautenpakken van jullie zolder want wij maken er een kosmisch a
 vontuur van.</p><p>Indien je uw bevertje een briefje zou willen bezorgen, k
 an je dit best afgeven aan de leiding bij het vertrek in De Pinte want via 
 de post gaan deze nooit op tijd toekomen.</p><p>Voor de ouders die graag me
 er info hadden gekregen of nog vragen hebben over het paaskamp, op&nbsp;<st
 rong>18 maart</strong>&nbsp;organiseren we een&nbsp;<strong>infosessie</str
 ong>&nbsp;over het paaskamp waarop u al uw prangende vragen kan stellen. Di
 t zal doorgaan in het beverlokaal en we starten om 16u30. Voor de ouders di
 e hier niet bij kunnen aanwezig zijn, de presentatie zal achteraf doorgestu
 urd worden.</p><p>Indien je nog dringende vragen hebt, kan je mij bereiken 
 via mail (<a href="mailto:bevers@dehavik.be" target="_blank"></a><span id="
 cloakd3be5525c90af0e0400f71d0b223a32a">Dit e-mailadres wordt beveiligd tege
 n spambots. JavaScript dient ingeschakeld te zijn om het te bekijken.</span
 ><script type='text/javascript'>
				document.getElementById('cloakd3be5525
 c90af0e0400f71d0b223a32a').innerHTML = '';
				var prefix = '&#109;a' + 'i&
 #108;' + '&#116;o';
				var path = 'hr' + 'ef' + '=';
				var addyd3be5525c
 90af0e0400f71d0b223a32a = 'b&#101;v&#101;rs' + '&#64;';
				addyd3be5525c90
 af0e0400f71d0b223a32a = addyd3be5525c90af0e0400f71d0b223a32a + 'd&#101;h&#9
 7;v&#105;k' + '&#46;' + 'b&#101;';
				var addy_textd3be5525c90af0e0400f71d
 0b223a32a = 'b&#101;v&#101;rs' + '&#64;' + 'd&#101;h&#97;v&#105;k' + '&#46;
 ' + 'b&#101;';document.getElementById('cloakd3be5525c90af0e0400f71d0b223a32
 a').innerHTML += '<a ' + path + '\'' + prefix + ':' + addyd3be5525c90af0e04
 00f71d0b223a32a + '\'>'+addy_textd3be5525c90af0e0400f71d0b223a32a+'<\/a>';

 		</script>) of via een telefoontje (0474777081).</p><p>De leiding kijkt er
  alvast naar uit om uw bevertje een onvergetelijk paaskamp te bezorgen.</p>
 <p>Groetjes,</p>
CONTACT:Takleider Scholekster, Dit e-mailadres wordt beveiligd tegen spambots. JavaScript dient ingeschakeld te zijn om het te bekijken.
				document.getElementById('cloak3994cdf1eef129e7c311a212a617a78c').innerHTML = '';
				var prefix = '&#109;a' + 'i&#108;' + '&#116;o';
				var path = 'hr' + 'ef' + '=';
				var addy3994cdf1eef129e7c311a212a617a78c = 'b&#101;v&#101;rs' + '&#64;';
				addy3994cdf1eef129e7c311a212a617a78c = addy3994cdf1eef129e7c311a212a617a78c + 'd&#101;h&#97;v&#105;k' + '&#46;' + 'b&#101;';
				var addy_text3994cdf1eef129e7c311a212a617a78c = 'b&#101;v&#101;rs' + '&#64;' + 'd&#101;h&#97;v&#105;k' + '&#46;' + 'b&#101;';document.getElementById('cloak3994cdf1eef129e7c311a212a617a78c').innerHTML += ''+addy_text3994cdf1eef129e7c311a212a617a78c+'';
		
DTSTAMP:20260421T133310Z
DTSTART;TZID=Europe/Brussels:20230401T080000
DTEND;TZID=Europe/Brussels:20230405T173000
SEQUENCE:0
TRANSP:OPAQUE
END:VEVENT
END:VCALENDAR