BEGIN:VCALENDAR
VERSION:2.0
PRODID:-//jEvents 2.0 for Joomla//EN
CALSCALE:GREGORIAN
METHOD:PUBLISH
BEGIN:VTIMEZONE
TZID:Europe/Brussels
BEGIN:STANDARD
DTSTART:20220317T143000
RDATE:20220327T030000
TZOFFSETFROM:+0200
TZOFFSETTO:+0100
TZNAME:Europe/Brussels CET
END:STANDARD
BEGIN:STANDARD
DTSTART:20221030T020000
RDATE:20230326T030000
TZOFFSETFROM:+0200
TZOFFSETTO:+0100
TZNAME:Europe/Brussels CET
END:STANDARD
BEGIN:STANDARD
DTSTART:20231029T020000
RDATE:20240331T030000
TZOFFSETFROM:+0200
TZOFFSETTO:+0100
TZNAME:Europe/Brussels CET
END:STANDARD
BEGIN:STANDARD
DTSTART:20241027T020000
RDATE:20250330T030000
TZOFFSETFROM:+0200
TZOFFSETTO:+0100
TZNAME:Europe/Brussels CET
END:STANDARD
BEGIN:STANDARD
DTSTART:20251026T020000
RDATE:20260329T030000
TZOFFSETFROM:+0200
TZOFFSETTO:+0100
TZNAME:Europe/Brussels CET
END:STANDARD
BEGIN:STANDARD
DTSTART:20261025T020000
RDATE:20270328T030000
TZOFFSETFROM:+0200
TZOFFSETTO:+0100
TZNAME:Europe/Brussels CET
END:STANDARD
BEGIN:STANDARD
DTSTART:20271031T020000
RDATE:20280326T030000
TZOFFSETFROM:+0200
TZOFFSETTO:+0100
TZNAME:Europe/Brussels CET
END:STANDARD
BEGIN:STANDARD
DTSTART:20281029T020000
RDATE:20290325T030000
TZOFFSETFROM:+0200
TZOFFSETTO:+0100
TZNAME:Europe/Brussels CET
END:STANDARD
BEGIN:STANDARD
DTSTART:20291028T020000
RDATE:20300331T030000
TZOFFSETFROM:+0200
TZOFFSETTO:+0100
TZNAME:Europe/Brussels CET
END:STANDARD
BEGIN:STANDARD
DTSTART:20301027T020000
RDATE:20310330T030000
TZOFFSETFROM:+0200
TZOFFSETTO:+0100
TZNAME:Europe/Brussels CET
END:STANDARD
BEGIN:DAYLIGHT
DTSTART:20220327T030000
RDATE:20221030T020000
TZOFFSETFROM:+0100
TZOFFSETTO:+0200
TZNAME:Europe/Brussels CEST
END:DAYLIGHT
BEGIN:DAYLIGHT
DTSTART:20230326T030000
RDATE:20231029T020000
TZOFFSETFROM:+0100
TZOFFSETTO:+0200
TZNAME:Europe/Brussels CEST
END:DAYLIGHT
BEGIN:DAYLIGHT
DTSTART:20240331T030000
RDATE:20241027T020000
TZOFFSETFROM:+0100
TZOFFSETTO:+0200
TZNAME:Europe/Brussels CEST
END:DAYLIGHT
BEGIN:DAYLIGHT
DTSTART:20250330T030000
RDATE:20251026T020000
TZOFFSETFROM:+0100
TZOFFSETTO:+0200
TZNAME:Europe/Brussels CEST
END:DAYLIGHT
BEGIN:DAYLIGHT
DTSTART:20260329T030000
RDATE:20261025T020000
TZOFFSETFROM:+0100
TZOFFSETTO:+0200
TZNAME:Europe/Brussels CEST
END:DAYLIGHT
BEGIN:DAYLIGHT
DTSTART:20270328T030000
RDATE:20271031T020000
TZOFFSETFROM:+0100
TZOFFSETTO:+0200
TZNAME:Europe/Brussels CEST
END:DAYLIGHT
BEGIN:DAYLIGHT
DTSTART:20280326T030000
RDATE:20281029T020000
TZOFFSETFROM:+0100
TZOFFSETTO:+0200
TZNAME:Europe/Brussels CEST
END:DAYLIGHT
BEGIN:DAYLIGHT
DTSTART:20290325T030000
RDATE:20291028T020000
TZOFFSETFROM:+0100
TZOFFSETTO:+0200
TZNAME:Europe/Brussels CEST
END:DAYLIGHT
BEGIN:DAYLIGHT
DTSTART:20300331T030000
RDATE:20301027T020000
TZOFFSETFROM:+0100
TZOFFSETTO:+0200
TZNAME:Europe/Brussels CEST
END:DAYLIGHT
END:VTIMEZONE
BEGIN:VEVENT
UID:b1003ad9945e86818e4edb37860a18b2
CATEGORIES:Bevers
CREATED:20220908T112654
SUMMARY:Het grote golf-drama
LOCATION:Scoutslokaal: Sportwegel 7, 9840 De Pinte
DESCRIPTION;ENCODING=QUOTED-PRINTABLE:\n\nLieve lieve bevers, het is peddel hier.\n\n\nIk heb een klein probleemp
 je... Ik moet vanavond een golf wedstrijd spelen MAAR al mijn materiaal is 
 verdwenen. Ik weet echt niet wat er mee gebeurd is. Kunnen jullie mij allem
 aal komen helpen om alles terug te vinden? Ik hoop van wel, want ik wil zo 
 graag meespelen met de wedstrijd.&nbsp;\n\n\nVele bezorgde groetjes van mij
  (Peddel)\n\n\nMeebrengen: 50 cent/ bonnetje\n\n\nPs: Na de vergadering kan
  iedereen blijven hangen op de scouts en genieten van een glas Cava of een 
 Aperol Spritz,\njullie aangeboden door de Stam.\n\n\n\n
CONTACT:Takleider Scholekster, Dit e-mailadres wordt beveiligd tegen spambots. JavaScript dient ingeschakeld te zijn om het te bekijken.
				document.getElementById('cloak53a6365fb620f90a03f6e4303b5bb0f0').innerHTML = '';
				var prefix = '&#109;a' + 'i&#108;' + '&#116;o';
				var path = 'hr' + 'ef' + '=';
				var addy53a6365fb620f90a03f6e4303b5bb0f0 = 'b&#101;v&#101;rs' + '&#64;';
				addy53a6365fb620f90a03f6e4303b5bb0f0 = addy53a6365fb620f90a03f6e4303b5bb0f0 + 'd&#101;h&#97;v&#105;k' + '&#46;' + 'b&#101;';
				var addy_text53a6365fb620f90a03f6e4303b5bb0f0 = 'b&#101;v&#101;rs' + '&#64;' + 'd&#101;h&#97;v&#105;k' + '&#46;' + 'b&#101;';document.getElementById('cloak53a6365fb620f90a03f6e4303b5bb0f0').innerHTML += ''+addy_text53a6365fb620f90a03f6e4303b5bb0f0+'';
		
DTSTAMP:20260421T144143Z
DTSTART;TZID=Europe/Brussels:20230318T143000
DTEND;TZID=Europe/Brussels:20230318T173000
SEQUENCE:0
TRANSP:OPAQUE
END:VEVENT
END:VCALENDAR