BEGIN:VCALENDAR
VERSION:2.0
PRODID:-//jEvents 2.0 for Joomla//EN
CALSCALE:GREGORIAN
METHOD:PUBLISH
BEGIN:VTIMEZONE
TZID:Europe/Brussels
BEGIN:STANDARD
DTSTART:20211110T170000
RDATE:20220327T030000
TZOFFSETFROM:+0200
TZOFFSETTO:+0100
TZNAME:Europe/Brussels CET
END:STANDARD
BEGIN:STANDARD
DTSTART:20221030T020000
RDATE:20230326T030000
TZOFFSETFROM:+0200
TZOFFSETTO:+0100
TZNAME:Europe/Brussels CET
END:STANDARD
BEGIN:STANDARD
DTSTART:20231029T020000
RDATE:20240331T030000
TZOFFSETFROM:+0200
TZOFFSETTO:+0100
TZNAME:Europe/Brussels CET
END:STANDARD
BEGIN:STANDARD
DTSTART:20241027T020000
RDATE:20250330T030000
TZOFFSETFROM:+0200
TZOFFSETTO:+0100
TZNAME:Europe/Brussels CET
END:STANDARD
BEGIN:STANDARD
DTSTART:20251026T020000
RDATE:20260329T030000
TZOFFSETFROM:+0200
TZOFFSETTO:+0100
TZNAME:Europe/Brussels CET
END:STANDARD
BEGIN:STANDARD
DTSTART:20261025T020000
RDATE:20270328T030000
TZOFFSETFROM:+0200
TZOFFSETTO:+0100
TZNAME:Europe/Brussels CET
END:STANDARD
BEGIN:STANDARD
DTSTART:20271031T020000
RDATE:20280326T030000
TZOFFSETFROM:+0200
TZOFFSETTO:+0100
TZNAME:Europe/Brussels CET
END:STANDARD
BEGIN:STANDARD
DTSTART:20281029T020000
RDATE:20290325T030000
TZOFFSETFROM:+0200
TZOFFSETTO:+0100
TZNAME:Europe/Brussels CET
END:STANDARD
BEGIN:STANDARD
DTSTART:20291028T020000
RDATE:20300331T030000
TZOFFSETFROM:+0200
TZOFFSETTO:+0100
TZNAME:Europe/Brussels CET
END:STANDARD
BEGIN:STANDARD
DTSTART:20301027T020000
RDATE:20310330T030000
TZOFFSETFROM:+0200
TZOFFSETTO:+0100
TZNAME:Europe/Brussels CET
END:STANDARD
BEGIN:DAYLIGHT
DTSTART:20220327T030000
RDATE:20221030T020000
TZOFFSETFROM:+0100
TZOFFSETTO:+0200
TZNAME:Europe/Brussels CEST
END:DAYLIGHT
BEGIN:DAYLIGHT
DTSTART:20230326T030000
RDATE:20231029T020000
TZOFFSETFROM:+0100
TZOFFSETTO:+0200
TZNAME:Europe/Brussels CEST
END:DAYLIGHT
BEGIN:DAYLIGHT
DTSTART:20240331T030000
RDATE:20241027T020000
TZOFFSETFROM:+0100
TZOFFSETTO:+0200
TZNAME:Europe/Brussels CEST
END:DAYLIGHT
BEGIN:DAYLIGHT
DTSTART:20250330T030000
RDATE:20251026T020000
TZOFFSETFROM:+0100
TZOFFSETTO:+0200
TZNAME:Europe/Brussels CEST
END:DAYLIGHT
BEGIN:DAYLIGHT
DTSTART:20260329T030000
RDATE:20261025T020000
TZOFFSETFROM:+0100
TZOFFSETTO:+0200
TZNAME:Europe/Brussels CEST
END:DAYLIGHT
BEGIN:DAYLIGHT
DTSTART:20270328T030000
RDATE:20271031T020000
TZOFFSETFROM:+0100
TZOFFSETTO:+0200
TZNAME:Europe/Brussels CEST
END:DAYLIGHT
BEGIN:DAYLIGHT
DTSTART:20280326T030000
RDATE:20281029T020000
TZOFFSETFROM:+0100
TZOFFSETTO:+0200
TZNAME:Europe/Brussels CEST
END:DAYLIGHT
BEGIN:DAYLIGHT
DTSTART:20290325T030000
RDATE:20291028T020000
TZOFFSETFROM:+0100
TZOFFSETTO:+0200
TZNAME:Europe/Brussels CEST
END:DAYLIGHT
BEGIN:DAYLIGHT
DTSTART:20300331T030000
RDATE:20301027T020000
TZOFFSETFROM:+0100
TZOFFSETTO:+0200
TZNAME:Europe/Brussels CEST
END:DAYLIGHT
END:VTIMEZONE
BEGIN:VEVENT
UID:42848416924735ff74332a443710952e
CATEGORIES:Bevers
CREATED:20220908T111115
SUMMARY:Novemberweekend
DESCRIPTION;ENCODING=QUOTED-PRINTABLE:\n\nDag Bevertjes\n\n\nBinnenkort gaan we allemaal samen voor de eerste kee
 r op kamp: een weekend waar we samen slapen, samen eten, maar vooral veel s
 pelen!&nbsp; Alle info vind je in het maitlje van takleider Rusty, dat ook 
 hier onderaan staat.\n\n\nDaarboven geven we met de leiding op&nbsp;zaterda
 g 5 november om 14u30 een korte infosessie.&nbsp;\n\n\nMochten er nu reeds 
 vragen zijn, mag je die gerust doorsturen via&nbsp;Dit e-mailadres wordt be
 veiligd tegen spambots. JavaScript dient ingeschakeld te zijn om het te bek
 ijken.
				document.getElementById('cloak2ec2e82b2034798183fa6f5f4acb1b90')
 .innerHTML = '';
				var prefix = '&#109;a' + 'i&#108;' + '&#116;o';
				va
 r path = 'hr' + 'ef' + '=';
				var addy2ec2e82b2034798183fa6f5f4acb1b90 = 
 'b&#101;v&#101;rs' + '&#64;';
				addy2ec2e82b2034798183fa6f5f4acb1b90 = ad
 dy2ec2e82b2034798183fa6f5f4acb1b90 + 'd&#101;h&#97;v&#105;k' + '&#46;' + 'b
 &#101;';
				var addy_text2ec2e82b2034798183fa6f5f4acb1b90 = 'b&#101;v&#101
 ;rs' + '&#64;' + 'd&#101;h&#97;v&#105;k' + '&#46;' + 'b&#101;';document.get
 ElementById('cloak2ec2e82b2034798183fa6f5f4acb1b90').innerHTML += ''+addy_t
 ext2ec2e82b2034798183fa6f5f4acb1b90+'';
		.\n\n\nTot zaterdag?!\n\n\nDe Bev
 erleiding\n\n\nPeddel, Echo, Tic-Tac, Boule, Katjo, Keeo, Regenboog, Kotic,
  Sim-Sam &amp; Rusty\n&nbsp;&nbsp;Beste ouders,\n\nBinnen een kleine 2 weke
 n vertrekken we op ons eerste kampje van dit jaar. Deze mail bevat alle bel
 angrijke info voor dat weekend.&nbsp;\nHet weekend gaat door van vrijdag 11
 /11 tot zondag 13/11 in het lokaal Ten Berg - De Stobbe in Merelbeke. Om da
 ar te raken, zouden we graag willen carpoolen. Indien je het ziet zitten om
  te rijden kan je volgende&nbsp;google forms&nbsp;invullen. We spreken de v
 rijdag af om&nbsp;17u aan het lokaal in De Pinte. De zondag spreken we met 
 de ouders die carpoolen af in Merelbeke (Bergstraat 16, 9820) om 15u. We ve
 rwachten dan tegen&nbsp;15u30&nbsp;terug te zijn aan ons&nbsp;lokaal in De 
 Pinte.&nbsp;Aangezien we carpoolen en maar een weekendje weg zijn vragen we
  ook om geen grote valiezen mee te geven met je bever.&nbsp;\nWe vragen aan
  de ouders om voor elke bever de&nbsp;medische fiche&nbsp;in te vullen (dez
 e kan je vinden op&nbsp;leden.dehavik.be). Zonder medische fiche kan je bev
 er niet mee op weekend. Indien er belangrijke zaken zijn die we als leiding
  moeten weten, mag je mij zeker op voorhand al eens contacteren. Het is ook
  belangrijk om eventuele medicatie van je bever te naamtekenen (voor- en ac
 hternaam) zodat we deze achteraf eenvoudig kunnen terug geven.&nbsp;\nZoals
  gewoonlijk hebben we op elk weekend/kamp een thema en voor dit weekend is 
 het thema&nbsp;oma's en opa's. We zijn al benieuwd naar de outfits van jull
 ie bevertje.&nbsp;\nOm af te sluiten heb ik nog een kort bagagelijstje:\n\n
 \n - Slaapzak + bedovertrek + kussensloop\n - Toiletzak (tandenborstel, tan
 dpasta)\n - Pyjama\n - Themakledij\n - Speelkledij&nbsp;\n - Perfect unifor
 m (aanhebben bij vertrek)\n - Medische fiche + eventuele medicijnen\n - Dik
 ke truien/dekentje\n - KnuffelAls er nog onduidelijkheden zijn, aarzel niet
  om mij te bellen of te mailen. Je kan je vragen ook volgende week stellen 
 tijdens het infomoment (5/11 om 14u30).\n\nVriendelijke groeten,\nRusty
CONTACT:Takleider Scholekster, Dit e-mailadres wordt beveiligd tegen spambots. JavaScript dient ingeschakeld te zijn om het te bekijken.
				document.getElementById('cloakd8334f1f09a4de7e6dfb5fec316236b9').innerHTML = '';
				var prefix = '&#109;a' + 'i&#108;' + '&#116;o';
				var path = 'hr' + 'ef' + '=';
				var addyd8334f1f09a4de7e6dfb5fec316236b9 = 'b&#101;v&#101;rs' + '&#64;';
				addyd8334f1f09a4de7e6dfb5fec316236b9 = addyd8334f1f09a4de7e6dfb5fec316236b9 + 'd&#101;h&#97;v&#105;k' + '&#46;' + 'b&#101;';
				var addy_textd8334f1f09a4de7e6dfb5fec316236b9 = 'b&#101;v&#101;rs' + '&#64;' + 'd&#101;h&#97;v&#105;k' + '&#46;' + 'b&#101;';document.getElementById('cloakd8334f1f09a4de7e6dfb5fec316236b9').innerHTML += ''+addy_textd8334f1f09a4de7e6dfb5fec316236b9+'';
		, (0474777081)
DTSTAMP:20260421T202829Z
DTSTART;TZID=Europe/Brussels:20221111T170000
DTEND;TZID=Europe/Brussels:20221113T153000
SEQUENCE:0
TRANSP:OPAQUE
END:VEVENT
END:VCALENDAR