BEGIN:VCALENDAR
VERSION:2.0
PRODID:-//jEvents 2.0 for Joomla//EN
CALSCALE:GREGORIAN
METHOD:PUBLISH
BEGIN:VTIMEZONE
TZID:Europe/Brussels
BEGIN:STANDARD
DTSTART:20211031T020000
RDATE:20220327T030000
TZOFFSETFROM:+0200
TZOFFSETTO:+0100
TZNAME:Europe/Brussels CET
END:STANDARD
BEGIN:STANDARD
DTSTART:20221030T020000
RDATE:20230326T030000
TZOFFSETFROM:+0200
TZOFFSETTO:+0100
TZNAME:Europe/Brussels CET
END:STANDARD
BEGIN:STANDARD
DTSTART:20231029T020000
RDATE:20240331T030000
TZOFFSETFROM:+0200
TZOFFSETTO:+0100
TZNAME:Europe/Brussels CET
END:STANDARD
BEGIN:STANDARD
DTSTART:20241027T020000
RDATE:20250330T030000
TZOFFSETFROM:+0200
TZOFFSETTO:+0100
TZNAME:Europe/Brussels CET
END:STANDARD
BEGIN:STANDARD
DTSTART:20251026T020000
RDATE:20260329T030000
TZOFFSETFROM:+0200
TZOFFSETTO:+0100
TZNAME:Europe/Brussels CET
END:STANDARD
BEGIN:STANDARD
DTSTART:20261025T020000
RDATE:20270328T030000
TZOFFSETFROM:+0200
TZOFFSETTO:+0100
TZNAME:Europe/Brussels CET
END:STANDARD
BEGIN:STANDARD
DTSTART:20271031T020000
RDATE:20280326T030000
TZOFFSETFROM:+0200
TZOFFSETTO:+0100
TZNAME:Europe/Brussels CET
END:STANDARD
BEGIN:STANDARD
DTSTART:20281029T020000
RDATE:20290325T030000
TZOFFSETFROM:+0200
TZOFFSETTO:+0100
TZNAME:Europe/Brussels CET
END:STANDARD
BEGIN:STANDARD
DTSTART:20291028T020000
RDATE:20300331T030000
TZOFFSETFROM:+0200
TZOFFSETTO:+0100
TZNAME:Europe/Brussels CET
END:STANDARD
BEGIN:STANDARD
DTSTART:20301027T020000
RDATE:20310330T030000
TZOFFSETFROM:+0200
TZOFFSETTO:+0100
TZNAME:Europe/Brussels CET
END:STANDARD
BEGIN:DAYLIGHT
DTSTART:20210415T100000
RDATE:20211031T020000
TZOFFSETFROM:+0100
TZOFFSETTO:+0200
TZNAME:Europe/Brussels CEST
END:DAYLIGHT
BEGIN:DAYLIGHT
DTSTART:20220327T030000
RDATE:20221030T020000
TZOFFSETFROM:+0100
TZOFFSETTO:+0200
TZNAME:Europe/Brussels CEST
END:DAYLIGHT
BEGIN:DAYLIGHT
DTSTART:20230326T030000
RDATE:20231029T020000
TZOFFSETFROM:+0100
TZOFFSETTO:+0200
TZNAME:Europe/Brussels CEST
END:DAYLIGHT
BEGIN:DAYLIGHT
DTSTART:20240331T030000
RDATE:20241027T020000
TZOFFSETFROM:+0100
TZOFFSETTO:+0200
TZNAME:Europe/Brussels CEST
END:DAYLIGHT
BEGIN:DAYLIGHT
DTSTART:20250330T030000
RDATE:20251026T020000
TZOFFSETFROM:+0100
TZOFFSETTO:+0200
TZNAME:Europe/Brussels CEST
END:DAYLIGHT
BEGIN:DAYLIGHT
DTSTART:20260329T030000
RDATE:20261025T020000
TZOFFSETFROM:+0100
TZOFFSETTO:+0200
TZNAME:Europe/Brussels CEST
END:DAYLIGHT
BEGIN:DAYLIGHT
DTSTART:20270328T030000
RDATE:20271031T020000
TZOFFSETFROM:+0100
TZOFFSETTO:+0200
TZNAME:Europe/Brussels CEST
END:DAYLIGHT
BEGIN:DAYLIGHT
DTSTART:20280326T030000
RDATE:20281029T020000
TZOFFSETFROM:+0100
TZOFFSETTO:+0200
TZNAME:Europe/Brussels CEST
END:DAYLIGHT
BEGIN:DAYLIGHT
DTSTART:20290325T030000
RDATE:20291028T020000
TZOFFSETFROM:+0100
TZOFFSETTO:+0200
TZNAME:Europe/Brussels CEST
END:DAYLIGHT
BEGIN:DAYLIGHT
DTSTART:20300331T030000
RDATE:20301027T020000
TZOFFSETFROM:+0100
TZOFFSETTO:+0200
TZNAME:Europe/Brussels CEST
END:DAYLIGHT
END:VTIMEZONE
BEGIN:VEVENT
UID:78182f559334c4da49ac2c0701f4f6d7
CATEGORIES:Eenheid
CREATED:20220308T030526
SUMMARY:Evaluatiedag Tweedeklasbadge
LOCATION:Sportwegel 7, 9840 De Pinte
DESCRIPTION;ENCODING=QUOTED-PRINTABLE:\n\nVandaag kan je jouw 2de klas badge behalen...\n\n\nHoe? Kom naar de eva
 luatiedag, dit is vandaag.\n\n\nWie? Iedereen die reeds zijn teervoet heeft
  behaald, mag deelnemen. Focus ligt op Pioniers, Seniors en leiding.\n\n\nW
 aar? Sportwegel 7, 9840 De Pinte\n\n\nWanneer? Vanaf 10u tot 17 uur 30.&nbs
 p;\n\n\nWat? Er wordt gekeken of je de technieken van een Tweedeklas onder 
 de knie hebt.&nbsp;\n\nMeer info? Stuur een mailtje naar Dit e-mailadres wo
 rdt beveiligd tegen spambots. JavaScript dient ingeschakeld te zijn om het 
 te bekijken.
				document.getElementById('cloakcc6100f068a859bde1704437a6c7
 777d').innerHTML = '';
				var prefix = '&#109;a' + 'i&#108;' + '&#116;o';

 				var path = 'hr' + 'ef' + '=';
				var addycc6100f068a859bde1704437a6c77
 77d = '&#101;&#101;nh&#101;&#105;dsl&#101;&#105;d&#105;ng' + '&#64;';
				a
 ddycc6100f068a859bde1704437a6c7777d = addycc6100f068a859bde1704437a6c7777d 
 + 'd&#101;h&#97;v&#105;k' + '&#46;' + 'b&#101;';
				var addy_textcc6100f06
 8a859bde1704437a6c7777d = '&#101;&#101;nh&#101;&#105;dsl&#101;&#105;d&#105;
 ng' + '&#64;' + 'd&#101;h&#97;v&#105;k' + '&#46;' + 'b&#101;';document.getE
 lementById('cloakcc6100f068a859bde1704437a6c7777d').innerHTML += ''+addy_te
 xtcc6100f068a859bde1704437a6c7777d+'';
		\n\n\nInschrijven via&nbsp;https:/
 /forms.gle/RXNDirHVkxFN2tE38. Alle te kennen informatie kun je hieronder te
 rugvinden.&nbsp;\n\n\n&nbsp;\n\n\n\n\n\n\n
CONTACT:EL (Dit e-mailadres wordt beveiligd tegen spambots. JavaScript dient ingeschakeld te zijn om het te bekijken.
				document.getElementById('cloake9e6d1c1870d07e36c518ead73761209').innerHTML = '';
				var prefix = '&#109;a' + 'i&#108;' + '&#116;o';
				var path = 'hr' + 'ef' + '=';
				var addye9e6d1c1870d07e36c518ead73761209 = '&#101;&#101;nh&#101;&#105;dsl&#101;&#105;d&#105;ng' + '&#64;';
				addye9e6d1c1870d07e36c518ead73761209 = addye9e6d1c1870d07e36c518ead73761209 + 'd&#101;h&#97;v&#105;k' + '&#46;' + 'b&#101;';
				var addy_texte9e6d1c1870d07e36c518ead73761209 = '&#101;&#101;nh&#101;&#105;dsl&#101;&#105;d&#105;ng' + '&#64;' + 'd&#101;h&#97;v&#105;k' + '&#46;' + 'b&#101;';document.getElementById('cloake9e6d1c1870d07e36c518ead73761209').innerHTML += ''+addy_texte9e6d1c1870d07e36c518ead73761209+'';
		)
DTSTAMP:20260421T160846Z
DTSTART;TZID=Europe/Brussels:20220416T100000
DTEND;TZID=Europe/Brussels:20220416T173000
SEQUENCE:0
TRANSP:OPAQUE
END:VEVENT
END:VCALENDAR