BEGIN:VCALENDAR
VERSION:2.0
PRODID:-//jEvents 2.0 for Joomla//EN
CALSCALE:GREGORIAN
METHOD:PUBLISH
BEGIN:VTIMEZONE
TZID:Europe/Brussels
BEGIN:STANDARD
DTSTART:20211031T020000
RDATE:20220327T030000
TZOFFSETFROM:+0200
TZOFFSETTO:+0100
TZNAME:Europe/Brussels CET
END:STANDARD
BEGIN:STANDARD
DTSTART:20221030T020000
RDATE:20230326T030000
TZOFFSETFROM:+0200
TZOFFSETTO:+0100
TZNAME:Europe/Brussels CET
END:STANDARD
BEGIN:STANDARD
DTSTART:20231029T020000
RDATE:20240331T030000
TZOFFSETFROM:+0200
TZOFFSETTO:+0100
TZNAME:Europe/Brussels CET
END:STANDARD
BEGIN:STANDARD
DTSTART:20241027T020000
RDATE:20250330T030000
TZOFFSETFROM:+0200
TZOFFSETTO:+0100
TZNAME:Europe/Brussels CET
END:STANDARD
BEGIN:STANDARD
DTSTART:20251026T020000
RDATE:20260329T030000
TZOFFSETFROM:+0200
TZOFFSETTO:+0100
TZNAME:Europe/Brussels CET
END:STANDARD
BEGIN:STANDARD
DTSTART:20261025T020000
RDATE:20270328T030000
TZOFFSETFROM:+0200
TZOFFSETTO:+0100
TZNAME:Europe/Brussels CET
END:STANDARD
BEGIN:STANDARD
DTSTART:20271031T020000
RDATE:20280326T030000
TZOFFSETFROM:+0200
TZOFFSETTO:+0100
TZNAME:Europe/Brussels CET
END:STANDARD
BEGIN:STANDARD
DTSTART:20281029T020000
RDATE:20290325T030000
TZOFFSETFROM:+0200
TZOFFSETTO:+0100
TZNAME:Europe/Brussels CET
END:STANDARD
BEGIN:STANDARD
DTSTART:20291028T020000
RDATE:20300331T030000
TZOFFSETFROM:+0200
TZOFFSETTO:+0100
TZNAME:Europe/Brussels CET
END:STANDARD
BEGIN:STANDARD
DTSTART:20301027T020000
RDATE:20310330T030000
TZOFFSETFROM:+0200
TZOFFSETTO:+0100
TZNAME:Europe/Brussels CET
END:STANDARD
BEGIN:DAYLIGHT
DTSTART:20210429T090000
RDATE:20211031T020000
TZOFFSETFROM:+0100
TZOFFSETTO:+0200
TZNAME:Europe/Brussels CEST
END:DAYLIGHT
BEGIN:DAYLIGHT
DTSTART:20220327T030000
RDATE:20221030T020000
TZOFFSETFROM:+0100
TZOFFSETTO:+0200
TZNAME:Europe/Brussels CEST
END:DAYLIGHT
BEGIN:DAYLIGHT
DTSTART:20230326T030000
RDATE:20231029T020000
TZOFFSETFROM:+0100
TZOFFSETTO:+0200
TZNAME:Europe/Brussels CEST
END:DAYLIGHT
BEGIN:DAYLIGHT
DTSTART:20240331T030000
RDATE:20241027T020000
TZOFFSETFROM:+0100
TZOFFSETTO:+0200
TZNAME:Europe/Brussels CEST
END:DAYLIGHT
BEGIN:DAYLIGHT
DTSTART:20250330T030000
RDATE:20251026T020000
TZOFFSETFROM:+0100
TZOFFSETTO:+0200
TZNAME:Europe/Brussels CEST
END:DAYLIGHT
BEGIN:DAYLIGHT
DTSTART:20260329T030000
RDATE:20261025T020000
TZOFFSETFROM:+0100
TZOFFSETTO:+0200
TZNAME:Europe/Brussels CEST
END:DAYLIGHT
BEGIN:DAYLIGHT
DTSTART:20270328T030000
RDATE:20271031T020000
TZOFFSETFROM:+0100
TZOFFSETTO:+0200
TZNAME:Europe/Brussels CEST
END:DAYLIGHT
BEGIN:DAYLIGHT
DTSTART:20280326T030000
RDATE:20281029T020000
TZOFFSETFROM:+0100
TZOFFSETTO:+0200
TZNAME:Europe/Brussels CEST
END:DAYLIGHT
BEGIN:DAYLIGHT
DTSTART:20290325T030000
RDATE:20291028T020000
TZOFFSETFROM:+0100
TZOFFSETTO:+0200
TZNAME:Europe/Brussels CEST
END:DAYLIGHT
BEGIN:DAYLIGHT
DTSTART:20300331T030000
RDATE:20301027T020000
TZOFFSETFROM:+0100
TZOFFSETTO:+0200
TZNAME:Europe/Brussels CEST
END:DAYLIGHT
END:VTIMEZONE
BEGIN:VEVENT
UID:a35e9516caa110e53f7b3c5b19f3f5fc
CATEGORIES:Bevers
CREATED:20210826T193947
SUMMARY:Betaalde activiteit
DESCRIPTION;ENCODING=QUOTED-PRINTABLE:\n\nDag bevertjes, dag beverouders,\n\n\nDe leiding is (bijna) terug uitges
 lapen van het Paaskamp, maar we vliegen er meteen weer in. Op 30 april gaan
  we naar Plopsaland!&nbsp;\n\n\nWe spreken af aan het station (voorkant) va
 n de Pinte om 8u40. We verwachten de bevers in PERFECT uniform. Een fluojas
 je is ook handig! Zo zijn we goed zichtbaar.&nbsp;\n\n\nZorg voor een lunch
 pakket en voldoende drinken. Dit in een rugzakje dat de bevers zelf de hele
  dag kunnen dragen.&nbsp;\n\n\nWe komen dan weer toe in de Pinte en spreken
  af aan het scoutslokaal om 17u20, zodat we samen nog van een drankje kunne
 n genieten op Stampagne.\n\n\nVoor deze betalende activiteit vragen wij 25 
 euro per kind. Jullie kunnen inschrijven via volgende link: https://forms.g
 le/6BXtofKkFc6F5na37. De deadline voor het inschrijven is 25 april.\n\n\nHe
 t geld is over te schrijven op volgend rekeningnummer: BE52737018931009 (me
 t mededeling naam + voornaam bever + betaalde activiteit)\n\n\n! let op, de
  inschrijving is pas definitief als wij ook tijdig het geld ontvangen!&nbsp
 ;\n\n\nHopelijk hebben de bevers er al wat zin in, wij alvast wel!&nbsp;\n\
 n\nMet vriendelijke groeten,&nbsp;\nJullie enthousiaste beverleiding\n\n\n&
 nbsp;\n
CONTACT:Takleider Bubbels / Pica (Dit e-mailadres wordt beveiligd tegen spambots. JavaScript dient ingeschakeld te zijn om het te bekijken.
				document.getElementById('cloak516c80d4fd08b025a0bf4c5bf6acb98b').innerHTML = '';
				var prefix = '&#109;a' + 'i&#108;' + '&#116;o';
				var path = 'hr' + 'ef' + '=';
				var addy516c80d4fd08b025a0bf4c5bf6acb98b = 'b&#101;v&#101;rs' + '&#64;';
				addy516c80d4fd08b025a0bf4c5bf6acb98b = addy516c80d4fd08b025a0bf4c5bf6acb98b + 'd&#101;h&#97;v&#105;k' + '&#46;' + 'b&#101;';
				var addy_text516c80d4fd08b025a0bf4c5bf6acb98b = 'b&#101;v&#101;rs' + '&#64;' + 'd&#101;h&#97;v&#105;k' + '&#46;' + 'b&#101;';document.getElementById('cloak516c80d4fd08b025a0bf4c5bf6acb98b').innerHTML += ''+addy_text516c80d4fd08b025a0bf4c5bf6acb98b+'';
		)
DTSTAMP:20260421T144137Z
DTSTART;TZID=Europe/Brussels:20220430T090000
DTEND;TZID=Europe/Brussels:20220430T173000
SEQUENCE:0
TRANSP:OPAQUE
END:VEVENT
END:VCALENDAR