BEGIN:VCALENDAR
VERSION:2.0
PRODID:-//jEvents 2.0 for Joomla//EN
CALSCALE:GREGORIAN
METHOD:PUBLISH
BEGIN:VTIMEZONE
TZID:Europe/Brussels
BEGIN:STANDARD
DTSTART:20211031T020000
RDATE:20220327T030000
TZOFFSETFROM:+0200
TZOFFSETTO:+0100
TZNAME:Europe/Brussels CET
END:STANDARD
BEGIN:STANDARD
DTSTART:20221030T020000
RDATE:20230326T030000
TZOFFSETFROM:+0200
TZOFFSETTO:+0100
TZNAME:Europe/Brussels CET
END:STANDARD
BEGIN:STANDARD
DTSTART:20231029T020000
RDATE:20240331T030000
TZOFFSETFROM:+0200
TZOFFSETTO:+0100
TZNAME:Europe/Brussels CET
END:STANDARD
BEGIN:STANDARD
DTSTART:20241027T020000
RDATE:20250330T030000
TZOFFSETFROM:+0200
TZOFFSETTO:+0100
TZNAME:Europe/Brussels CET
END:STANDARD
BEGIN:STANDARD
DTSTART:20251026T020000
RDATE:20260329T030000
TZOFFSETFROM:+0200
TZOFFSETTO:+0100
TZNAME:Europe/Brussels CET
END:STANDARD
BEGIN:STANDARD
DTSTART:20261025T020000
RDATE:20270328T030000
TZOFFSETFROM:+0200
TZOFFSETTO:+0100
TZNAME:Europe/Brussels CET
END:STANDARD
BEGIN:STANDARD
DTSTART:20271031T020000
RDATE:20280326T030000
TZOFFSETFROM:+0200
TZOFFSETTO:+0100
TZNAME:Europe/Brussels CET
END:STANDARD
BEGIN:STANDARD
DTSTART:20281029T020000
RDATE:20290325T030000
TZOFFSETFROM:+0200
TZOFFSETTO:+0100
TZNAME:Europe/Brussels CET
END:STANDARD
BEGIN:STANDARD
DTSTART:20291028T020000
RDATE:20300331T030000
TZOFFSETFROM:+0200
TZOFFSETTO:+0100
TZNAME:Europe/Brussels CET
END:STANDARD
BEGIN:STANDARD
DTSTART:20301027T020000
RDATE:20310330T030000
TZOFFSETFROM:+0200
TZOFFSETTO:+0100
TZNAME:Europe/Brussels CET
END:STANDARD
BEGIN:DAYLIGHT
DTSTART:20210520T173000
RDATE:20211031T020000
TZOFFSETFROM:+0100
TZOFFSETTO:+0200
TZNAME:Europe/Brussels CEST
END:DAYLIGHT
BEGIN:DAYLIGHT
DTSTART:20220327T030000
RDATE:20221030T020000
TZOFFSETFROM:+0100
TZOFFSETTO:+0200
TZNAME:Europe/Brussels CEST
END:DAYLIGHT
BEGIN:DAYLIGHT
DTSTART:20230326T030000
RDATE:20231029T020000
TZOFFSETFROM:+0100
TZOFFSETTO:+0200
TZNAME:Europe/Brussels CEST
END:DAYLIGHT
BEGIN:DAYLIGHT
DTSTART:20240331T030000
RDATE:20241027T020000
TZOFFSETFROM:+0100
TZOFFSETTO:+0200
TZNAME:Europe/Brussels CEST
END:DAYLIGHT
BEGIN:DAYLIGHT
DTSTART:20250330T030000
RDATE:20251026T020000
TZOFFSETFROM:+0100
TZOFFSETTO:+0200
TZNAME:Europe/Brussels CEST
END:DAYLIGHT
BEGIN:DAYLIGHT
DTSTART:20260329T030000
RDATE:20261025T020000
TZOFFSETFROM:+0100
TZOFFSETTO:+0200
TZNAME:Europe/Brussels CEST
END:DAYLIGHT
BEGIN:DAYLIGHT
DTSTART:20270328T030000
RDATE:20271031T020000
TZOFFSETFROM:+0100
TZOFFSETTO:+0200
TZNAME:Europe/Brussels CEST
END:DAYLIGHT
BEGIN:DAYLIGHT
DTSTART:20280326T030000
RDATE:20281029T020000
TZOFFSETFROM:+0100
TZOFFSETTO:+0200
TZNAME:Europe/Brussels CEST
END:DAYLIGHT
BEGIN:DAYLIGHT
DTSTART:20290325T030000
RDATE:20291028T020000
TZOFFSETFROM:+0100
TZOFFSETTO:+0200
TZNAME:Europe/Brussels CEST
END:DAYLIGHT
BEGIN:DAYLIGHT
DTSTART:20300331T030000
RDATE:20301027T020000
TZOFFSETFROM:+0100
TZOFFSETTO:+0200
TZNAME:Europe/Brussels CEST
END:DAYLIGHT
END:VTIMEZONE
BEGIN:VEVENT
UID:39288c05a4f035d65a6087bf7efaa848
CATEGORIES:Bevers
CREATED:19700101T010000
SUMMARY:Avondvergadering
LOCATION:Sportwegel 7, 9840 De Pinte
DESCRIPTION;ENCODING=QUOTED-PRINTABLE:\n\nWegens de examens van de leiding organiseren we eind mei en begin juni 
 avondvergaderingen.\n
CONTACT:Takleider Bubbels / Pica (bevers@dehavik.be)
DTSTAMP:20260421T185745Z
DTSTART;TZID=Europe/Brussels:20220521T173000
DTEND;TZID=Europe/Brussels:20220521T200000
SEQUENCE:0
RRULE:FREQ=WEEKLY;COUNT=5;INTERVAL=1;BYDAY=SA
TRANSP:OPAQUE
END:VEVENT
BEGIN:VEVENT
UID:39288c05a4f035d65a6087bf7efaa848
CATEGORIES:Bevers
CREATED:20210818T024750
SUMMARY:Avondvergadering - Quizzz
LOCATION:Sportwegel 7, 9840 De Pinte
DESCRIPTION;ENCODING=QUOTED-PRINTABLE:\n\nWegens de examens van de leiding organiseren we eind mei en begin juni 
 avondvergaderingen.\n\n\nHey bevers\n\n\nHeb jullie je ooit al afgevraagd w
 ie de slimste is van de leiding?\nDit zullen vandaag dan ondervinden met de
  super epische bever quiz.\nWie wordt op het einde van de vergadering gekro
 ond als slimste bever?\n\n\nZien wij jullie deze zaterdag voor een super ep
 ische quiz?\nJullie competitieve leiding\n\n\n&nbsp;\n
CONTACT:Takleider Bubbels / Pica (Dit e-mailadres wordt beveiligd tegen spambots. JavaScript dient ingeschakeld te zijn om het te bekijken.
				document.getElementById('cloake817e96cb554c0cab754042d44868069').innerHTML = '';
				var prefix = '&#109;a' + 'i&#108;' + '&#116;o';
				var path = 'hr' + 'ef' + '=';
				var addye817e96cb554c0cab754042d44868069 = 'b&#101;v&#101;rs' + '&#64;';
				addye817e96cb554c0cab754042d44868069 = addye817e96cb554c0cab754042d44868069 + 'd&#101;h&#97;v&#105;k' + '&#46;' + 'b&#101;';
				var addy_texte817e96cb554c0cab754042d44868069 = 'b&#101;v&#101;rs' + '&#64;' + 'd&#101;h&#97;v&#105;k' + '&#46;' + 'b&#101;';document.getElementById('cloake817e96cb554c0cab754042d44868069').innerHTML += ''+addy_texte817e96cb554c0cab754042d44868069+'';
		)
X-EXTRAINFO:Meebrengen: bonnetje of 50 cent
DTSTAMP:20260421T185746Z
DTSTART;TZID=Europe/Brussels:20220521T173000
DTEND;TZID=Europe/Brussels:20220521T200000
RECURRENCE-ID;TZID=Europe/Brussels:20220521T173000
SEQUENCE:0
TRANSP:OPAQUE
END:VEVENT
BEGIN:VEVENT
UID:39288c05a4f035d65a6087bf7efaa848
CATEGORIES:Bevers
CREATED:20210818T024750
SUMMARY:Avondvergadering - Sportvergadering
LOCATION:Sportwegel 7, 9840 De Pinte
DESCRIPTION;ENCODING=QUOTED-PRINTABLE:\n\nWegens de examens van de leiding organiseren we eind mei en begin juni 
 avondvergaderingen.\n\n\nHey bevers\n\n\nTrek jullie sportschoenen aan, wij
  gaan SPORTEN!!!\nEstafette lopen, tennissen, bowlen... en nog vele sporten
  staan op de planning.\n\n\nZorg maar dat je deze zaterdag goed opgewarmd b
 ent\nJullie sportieve leiding\n\n\n\n
CONTACT:Takleider Bubbels / Pica (Dit e-mailadres wordt beveiligd tegen spambots. JavaScript dient ingeschakeld te zijn om het te bekijken.
				document.getElementById('cloake260ad5f43f2c744fcc615121c047ba4').innerHTML = '';
				var prefix = '&#109;a' + 'i&#108;' + '&#116;o';
				var path = 'hr' + 'ef' + '=';
				var addye260ad5f43f2c744fcc615121c047ba4 = 'b&#101;v&#101;rs' + '&#64;';
				addye260ad5f43f2c744fcc615121c047ba4 = addye260ad5f43f2c744fcc615121c047ba4 + 'd&#101;h&#97;v&#105;k' + '&#46;' + 'b&#101;';
				var addy_texte260ad5f43f2c744fcc615121c047ba4 = 'b&#101;v&#101;rs' + '&#64;' + 'd&#101;h&#97;v&#105;k' + '&#46;' + 'b&#101;';document.getElementById('cloake260ad5f43f2c744fcc615121c047ba4').innerHTML += ''+addy_texte260ad5f43f2c744fcc615121c047ba4+'';
		)
X-EXTRAINFO:Meebrengen: bonnetje of 50 cent
DTSTAMP:20260421T185746Z
DTSTART;TZID=Europe/Brussels:20220528T173000
DTEND;TZID=Europe/Brussels:20220528T200000
RECURRENCE-ID;TZID=Europe/Brussels:20220528T173000
SEQUENCE:0
TRANSP:OPAQUE
END:VEVENT
BEGIN:VEVENT
UID:39288c05a4f035d65a6087bf7efaa848
CATEGORIES:Bevers
CREATED:20210818T024750
SUMMARY:Avondvergadering - Blind getrouwd
LOCATION:Sportwegel 7, 9840 De Pinte
DESCRIPTION;ENCODING=QUOTED-PRINTABLE:\n\nWegens de examens van de leiding organiseren we eind mei en begin juni 
 avondvergaderingen.\n\n\nHey bevertjes\n\n\nBloemen, muziek en een mooie ri
 ng. Kunnen jullie al raden wat voor feest het gaat worden?\nVandaag is het 
 grote bever trouwfeest! Maar niet zomaar een trouwfeest... een blind trouwf
 eest!\nWat wilt zeggen dat je pas deze vergadering weet met wie je gaat tro
 uwen...\n\n\nTot op het trouwfeest\nJullie trouwe leiding\n\n\n\n
CONTACT:Takleider Bubbels / Pica (Dit e-mailadres wordt beveiligd tegen spambots. JavaScript dient ingeschakeld te zijn om het te bekijken.
				document.getElementById('cloakcafcd5f636ab41ccfc369350c57f80ab').innerHTML = '';
				var prefix = '&#109;a' + 'i&#108;' + '&#116;o';
				var path = 'hr' + 'ef' + '=';
				var addycafcd5f636ab41ccfc369350c57f80ab = 'b&#101;v&#101;rs' + '&#64;';
				addycafcd5f636ab41ccfc369350c57f80ab = addycafcd5f636ab41ccfc369350c57f80ab + 'd&#101;h&#97;v&#105;k' + '&#46;' + 'b&#101;';
				var addy_textcafcd5f636ab41ccfc369350c57f80ab = 'b&#101;v&#101;rs' + '&#64;' + 'd&#101;h&#97;v&#105;k' + '&#46;' + 'b&#101;';document.getElementById('cloakcafcd5f636ab41ccfc369350c57f80ab').innerHTML += ''+addy_textcafcd5f636ab41ccfc369350c57f80ab+'';
		)
X-EXTRAINFO:Meebrengen: bonnetje of 50 cent
DTSTAMP:20260421T185746Z
DTSTART;TZID=Europe/Brussels:20220604T173000
DTEND;TZID=Europe/Brussels:20220604T200000
RECURRENCE-ID;TZID=Europe/Brussels:20220604T173000
SEQUENCE:0
TRANSP:OPAQUE
END:VEVENT
BEGIN:VEVENT
UID:39288c05a4f035d65a6087bf7efaa848
CATEGORIES:Bevers
CREATED:20210818T024750
SUMMARY:Avondvergadering - Alles op wieltjes
LOCATION:Sportwegel 7, 9840 De Pinte
DESCRIPTION;ENCODING=QUOTED-PRINTABLE:\n\nWegens de examens van de leiding organiseren we eind mei en begin juni 
 avondvergaderingen.\n\n\nHet bevers\n\n\nVandaag is alles op wieltjes, dus 
 fiets, step, go kart, rollerblades...\nAl deze voorwerpen op wieltjes zijn 
 welkom om meegenomen te worden door jullie.\nPak zeker ook wel wat bescherm
 ing mee (bv helm, kniebeschermers,...) zodat alles op wieltjes verloopt.\n\
 n\nTot deze zaterdag\nJullie rollende leiding\n\n\n\n
CONTACT:Takleider Bubbels / Pica (Dit e-mailadres wordt beveiligd tegen spambots. JavaScript dient ingeschakeld te zijn om het te bekijken.
				document.getElementById('cloak273cc45baa3eb3e506df5d64d4507f1e').innerHTML = '';
				var prefix = '&#109;a' + 'i&#108;' + '&#116;o';
				var path = 'hr' + 'ef' + '=';
				var addy273cc45baa3eb3e506df5d64d4507f1e = 'b&#101;v&#101;rs' + '&#64;';
				addy273cc45baa3eb3e506df5d64d4507f1e = addy273cc45baa3eb3e506df5d64d4507f1e + 'd&#101;h&#97;v&#105;k' + '&#46;' + 'b&#101;';
				var addy_text273cc45baa3eb3e506df5d64d4507f1e = 'b&#101;v&#101;rs' + '&#64;' + 'd&#101;h&#97;v&#105;k' + '&#46;' + 'b&#101;';document.getElementById('cloak273cc45baa3eb3e506df5d64d4507f1e').innerHTML += ''+addy_text273cc45baa3eb3e506df5d64d4507f1e+'';
		)
X-EXTRAINFO:Meebrengen: bonnetje of 50 cent, iets op wielen, bescherming
DTSTAMP:20260421T185746Z
DTSTART;TZID=Europe/Brussels:20220611T173000
DTEND;TZID=Europe/Brussels:20220611T200000
RECURRENCE-ID;TZID=Europe/Brussels:20220611T173000
SEQUENCE:0
TRANSP:OPAQUE
END:VEVENT
BEGIN:VEVENT
UID:39288c05a4f035d65a6087bf7efaa848
CATEGORIES:Bevers
CREATED:20210818T024750
SUMMARY:Avondvergadering - Baldag
LOCATION:Sportwegel 7, 9840 De Pinte
DESCRIPTION;ENCODING=QUOTED-PRINTABLE:\n\nWegens de examens van de leiding organiseren we eind mei en begin juni 
 avondvergaderingen.\n\n\nBELANGRIJK:&nbsp;aangezien het heel veel te warme 
 weer is, pak je best&nbsp;zwemgerief mee (kledij dat nat mag worden)\n\n\nH
 ey bevertjes\n\n\nVandaag is het de enige echte baldag!\nWat wilt zeggen da
 t we gigantisch veel en wijze spelletjes gaan spelen die allemaal een bal n
 odig hebben.\nDus voetbal- , basket-, tennisballen en nog veel meer zullen 
 vandaag allemaal gebruikt worden.\n\n\nTot op baldag\nJullie rollende leidi
 ng\n\n\n\n
CONTACT:Takleider Bubbels / Pica (Dit e-mailadres wordt beveiligd tegen spambots. JavaScript dient ingeschakeld te zijn om het te bekijken.
				document.getElementById('cloakc64254201229aaa127306bb844bdcec2').innerHTML = '';
				var prefix = '&#109;a' + 'i&#108;' + '&#116;o';
				var path = 'hr' + 'ef' + '=';
				var addyc64254201229aaa127306bb844bdcec2 = 'b&#101;v&#101;rs' + '&#64;';
				addyc64254201229aaa127306bb844bdcec2 = addyc64254201229aaa127306bb844bdcec2 + 'd&#101;h&#97;v&#105;k' + '&#46;' + 'b&#101;';
				var addy_textc64254201229aaa127306bb844bdcec2 = 'b&#101;v&#101;rs' + '&#64;' + 'd&#101;h&#97;v&#105;k' + '&#46;' + 'b&#101;';document.getElementById('cloakc64254201229aaa127306bb844bdcec2').innerHTML += ''+addy_textc64254201229aaa127306bb844bdcec2+'';
		)
X-EXTRAINFO:Meebrengen: bonnetje of 50 cent
DTSTAMP:20260421T185746Z
DTSTART;TZID=Europe/Brussels:20220618T173000
DTEND;TZID=Europe/Brussels:20220618T200000
RECURRENCE-ID;TZID=Europe/Brussels:20220618T173000
SEQUENCE:0
TRANSP:OPAQUE
END:VEVENT
END:VCALENDAR