BEGIN:VCALENDAR
VERSION:2.0
PRODID:-//jEvents 2.0 for Joomla//EN
CALSCALE:GREGORIAN
METHOD:PUBLISH
BEGIN:VTIMEZONE
TZID:Europe/Brussels
BEGIN:STANDARD
DTSTART:20211031T020000
RDATE:20220327T030000
TZOFFSETFROM:+0200
TZOFFSETTO:+0100
TZNAME:Europe/Brussels CET
END:STANDARD
BEGIN:STANDARD
DTSTART:20221030T020000
RDATE:20230326T030000
TZOFFSETFROM:+0200
TZOFFSETTO:+0100
TZNAME:Europe/Brussels CET
END:STANDARD
BEGIN:STANDARD
DTSTART:20231029T020000
RDATE:20240331T030000
TZOFFSETFROM:+0200
TZOFFSETTO:+0100
TZNAME:Europe/Brussels CET
END:STANDARD
BEGIN:STANDARD
DTSTART:20241027T020000
RDATE:20250330T030000
TZOFFSETFROM:+0200
TZOFFSETTO:+0100
TZNAME:Europe/Brussels CET
END:STANDARD
BEGIN:STANDARD
DTSTART:20251026T020000
RDATE:20260329T030000
TZOFFSETFROM:+0200
TZOFFSETTO:+0100
TZNAME:Europe/Brussels CET
END:STANDARD
BEGIN:STANDARD
DTSTART:20261025T020000
RDATE:20270328T030000
TZOFFSETFROM:+0200
TZOFFSETTO:+0100
TZNAME:Europe/Brussels CET
END:STANDARD
BEGIN:STANDARD
DTSTART:20271031T020000
RDATE:20280326T030000
TZOFFSETFROM:+0200
TZOFFSETTO:+0100
TZNAME:Europe/Brussels CET
END:STANDARD
BEGIN:STANDARD
DTSTART:20281029T020000
RDATE:20290325T030000
TZOFFSETFROM:+0200
TZOFFSETTO:+0100
TZNAME:Europe/Brussels CET
END:STANDARD
BEGIN:STANDARD
DTSTART:20291028T020000
RDATE:20300331T030000
TZOFFSETFROM:+0200
TZOFFSETTO:+0100
TZNAME:Europe/Brussels CET
END:STANDARD
BEGIN:STANDARD
DTSTART:20301027T020000
RDATE:20310330T030000
TZOFFSETFROM:+0200
TZOFFSETTO:+0100
TZNAME:Europe/Brussels CET
END:STANDARD
BEGIN:DAYLIGHT
DTSTART:20210401T000000
RDATE:20211031T020000
TZOFFSETFROM:+0100
TZOFFSETTO:+0200
TZNAME:Europe/Brussels CEST
END:DAYLIGHT
BEGIN:DAYLIGHT
DTSTART:20220327T030000
RDATE:20221030T020000
TZOFFSETFROM:+0100
TZOFFSETTO:+0200
TZNAME:Europe/Brussels CEST
END:DAYLIGHT
BEGIN:DAYLIGHT
DTSTART:20230326T030000
RDATE:20231029T020000
TZOFFSETFROM:+0100
TZOFFSETTO:+0200
TZNAME:Europe/Brussels CEST
END:DAYLIGHT
BEGIN:DAYLIGHT
DTSTART:20240331T030000
RDATE:20241027T020000
TZOFFSETFROM:+0100
TZOFFSETTO:+0200
TZNAME:Europe/Brussels CEST
END:DAYLIGHT
BEGIN:DAYLIGHT
DTSTART:20250330T030000
RDATE:20251026T020000
TZOFFSETFROM:+0100
TZOFFSETTO:+0200
TZNAME:Europe/Brussels CEST
END:DAYLIGHT
BEGIN:DAYLIGHT
DTSTART:20260329T030000
RDATE:20261025T020000
TZOFFSETFROM:+0100
TZOFFSETTO:+0200
TZNAME:Europe/Brussels CEST
END:DAYLIGHT
BEGIN:DAYLIGHT
DTSTART:20270328T030000
RDATE:20271031T020000
TZOFFSETFROM:+0100
TZOFFSETTO:+0200
TZNAME:Europe/Brussels CEST
END:DAYLIGHT
BEGIN:DAYLIGHT
DTSTART:20280326T030000
RDATE:20281029T020000
TZOFFSETFROM:+0100
TZOFFSETTO:+0200
TZNAME:Europe/Brussels CEST
END:DAYLIGHT
BEGIN:DAYLIGHT
DTSTART:20290325T030000
RDATE:20291028T020000
TZOFFSETFROM:+0100
TZOFFSETTO:+0200
TZNAME:Europe/Brussels CEST
END:DAYLIGHT
BEGIN:DAYLIGHT
DTSTART:20300331T030000
RDATE:20301027T020000
TZOFFSETFROM:+0100
TZOFFSETTO:+0200
TZNAME:Europe/Brussels CEST
END:DAYLIGHT
END:VTIMEZONE
BEGIN:VEVENT
UID:197a1f18a1c5919a2a7c0a79efeae161
CATEGORIES:Bevers
CREATED:20210818T024039
SUMMARY:Paaskamp
LOCATION:Scoutslokaal
DESCRIPTION;ENCODING=QUOTED-PRINTABLE:<p>Beste ouders, liefste bevertjes,</p><p>In april gaan wij op<strong> paas
 kamp</strong>, joepie! Daarom alvast even de belangrijkste info op een rijt
 je. Ons kamp gaat door in <strong>Oudenaarde (Sompelplein 39, 9700 Leupegem
 /Oudenaarde)</strong>. Graag zouden we naar onze kampplaats gaan dmv <stron
 g>carpoolen. </strong>Als er dus ouders zijn die kunnen heenrijden of terug
 rijden, gelieve mij een mailtje te sturen (met volgende info: wie zal rijde
 n, hoeveel plaatsen er zijn en wie er al zeker wil meerijden van vriendjes)
 .</p><p>Wij spreken op<strong> zaterdag 2 april af om 9u45 aan het scoutslo
 kaal. </strong>Van daaruit vertrekken we dan allemaal samen richting Oudena
 arde. We vertrekken<strong> in perfect uniform!</strong></p><p>Jullie melde
 n zich aan bij de leiding met de<strong> afgedrukte medische fiche en event
 ueel post, pampers of medicatie.&nbsp;</strong></p><p>Op <strong>woensdag 6
  april </strong>keren we terug. We spreken dan af <strong>om 15u aan het lo
 kaal in Oudenaarde&nbsp;</strong>voor de ouders die voeren en&nbsp;<strong>
 <strong>om 15u45 aan het lokaal</strong>&nbsp;</strong>voor de andere ouder
 s.<strong>&nbsp;</strong></p><p>Het thema van ons paaskamp is <strong>“hulp
 diensten”.</strong> Vergeet zeker niet om themakledij te voorzien. Dit hoef
 t niks duurs of nieuws te zijn. Met een oude tshirt en wat verf kom je al v
 er!</p><p>De leiding zal fungeren als postbode. Als je wil, kan je steeds b
 rieven aan ons afgeven bij vertrek. Dan zorgen wij dat deze post bij je bev
 ertje terechtkomt.</p><p>Via volgende link kunnen jullie nog een bagagelijs
 t terugvinden: <a href="https://docs.google.com/document/d/1r_Rk3XUlRUMk18K
 9QC7K15L0YLPGnGKTBAScP9KXlhs/edit?usp=sharing"></a><a href="https://docs.go
 ogle.com/document/d/1r_Rk3XUlRUMk18K9QC7K15L0YLPGnGKTBAScP9KXlhs/edit?usp=s
 haring">https://docs.google.com/document/d/1r_Rk3XUlRUMk18K9QC7K15L0YLPGnGK
 TBAScP9KXlhs/edit?usp=sharing</a> (ik vul dit nog aan als ik belangrijke di
 ngen vergeten ben)</p><p>Met alle vragen en opmerkingen kan je, zoals gewoo
 nlijk, steeds bij mij terecht! Via mail (<span id="cloakedaedd8284a1cabf61d
 6599c0d746b8c">Dit e-mailadres wordt beveiligd tegen spambots. JavaScript d
 ient ingeschakeld te zijn om het te bekijken.</span><script type='text/java
 script'>
				document.getElementById('cloakedaedd8284a1cabf61d6599c0d746b8c
 ').innerHTML = '';
				var prefix = '&#109;a' + 'i&#108;' + '&#116;o';
				
 var path = 'hr' + 'ef' + '=';
				var addyedaedd8284a1cabf61d6599c0d746b8c 
 = 'p&#105;c&#97;' + '&#64;';
				addyedaedd8284a1cabf61d6599c0d746b8c = add
 yedaedd8284a1cabf61d6599c0d746b8c + 'd&#101;h&#97;v&#105;k' + '&#46;' + 'b&
 #101;';
				var addy_textedaedd8284a1cabf61d6599c0d746b8c = 'p&#105;c&#97;'
  + '&#64;' + 'd&#101;h&#97;v&#105;k' + '&#46;' + 'b&#101;';document.getElem
 entById('cloakedaedd8284a1cabf61d6599c0d746b8c').innerHTML += '<a ' + path 
 + '\'' + prefix + ':' + addyedaedd8284a1cabf61d6599c0d746b8c + '\'>'+addy_t
 extedaedd8284a1cabf61d6599c0d746b8c+'<\/a>';
		</script>) of telefonisch (+
 324 92 92 62 17)</p><p>Wij hebben er al superveel zin in!</p><p>Met vriende
 lijke groeten,</p><p>De beverleiding</p>
CONTACT:Takleider Bubbels / Pica (Dit e-mailadres wordt beveiligd tegen spambots. JavaScript dient ingeschakeld te zijn om het te bekijken.
				document.getElementById('cloak9e18e75e58b670b782fb43bced95a89d').innerHTML = '';
				var prefix = '&#109;a' + 'i&#108;' + '&#116;o';
				var path = 'hr' + 'ef' + '=';
				var addy9e18e75e58b670b782fb43bced95a89d = 'b&#101;v&#101;rs' + '&#64;';
				addy9e18e75e58b670b782fb43bced95a89d = addy9e18e75e58b670b782fb43bced95a89d + 'd&#101;h&#97;v&#105;k' + '&#46;' + 'b&#101;';
				var addy_text9e18e75e58b670b782fb43bced95a89d = 'b&#101;v&#101;rs' + '&#64;' + 'd&#101;h&#97;v&#105;k' + '&#46;' + 'b&#101;';document.getElementById('cloak9e18e75e58b670b782fb43bced95a89d').innerHTML += ''+addy_text9e18e75e58b670b782fb43bced95a89d+'';
		)
DTSTAMP:20260421T174319Z
DTSTART;TZID=Europe/Brussels;VALUE=DATE:20220402
DTEND;TZID=Europe/Brussels;VALUE=DATE:20220407
SEQUENCE:0
TRANSP:OPAQUE
END:VEVENT
END:VCALENDAR